BEGIN:VCALENDAR
VERSION:2.0
PRODID:-//Wien für Senior:innen - ECPv6.15.17.1//NONSGML v1.0//EN
CALSCALE:GREGORIAN
METHOD:PUBLISH
X-WR-CALNAME:Wien für Senior:innen
X-ORIGINAL-URL:https://kalender.seniorinnen.wien
X-WR-CALDESC:Veranstaltungen für Wien für Senior:innen
REFRESH-INTERVAL;VALUE=DURATION:PT1H
X-Robots-Tag:noindex
X-PUBLISHED-TTL:PT1H
BEGIN:VTIMEZONE
TZID:Europe/Berlin
BEGIN:DAYLIGHT
TZOFFSETFROM:+0100
TZOFFSETTO:+0200
TZNAME:CEST
DTSTART:20220327T010000
END:DAYLIGHT
BEGIN:STANDARD
TZOFFSETFROM:+0200
TZOFFSETTO:+0100
TZNAME:CET
DTSTART:20221030T010000
END:STANDARD
BEGIN:DAYLIGHT
TZOFFSETFROM:+0100
TZOFFSETTO:+0200
TZNAME:CEST
DTSTART:20230326T010000
END:DAYLIGHT
BEGIN:STANDARD
TZOFFSETFROM:+0200
TZOFFSETTO:+0100
TZNAME:CET
DTSTART:20231029T010000
END:STANDARD
BEGIN:DAYLIGHT
TZOFFSETFROM:+0100
TZOFFSETTO:+0200
TZNAME:CEST
DTSTART:20240331T010000
END:DAYLIGHT
BEGIN:STANDARD
TZOFFSETFROM:+0200
TZOFFSETTO:+0100
TZNAME:CET
DTSTART:20241027T010000
END:STANDARD
END:VTIMEZONE
BEGIN:VEVENT
DTSTART;TZID=Europe/Berlin:20231011T100000
DTEND;TZID=Europe/Berlin:20231011T120000
DTSTAMP:20260420T141334
CREATED:20230810T092704Z
LAST-MODIFIED:20230811T141212Z
UID:3675-1697018400-1697025600@kalender.seniorinnen.wien
SUMMARY:Monat der Senior:innen: Das Stuwerviertel gestern und heute
DESCRIPTION:Die Gebietsbetreuung Stadterneuerung lädt zur Erkundung des Stuwerviertels und seiner Umgebung ein! Ein Streifzug durch die Geschichte des Stadtteils bis hin zu aktuellen Entwicklungen. \nDie Teilnehmer:innenzahl ist auf 25 Personen beschränkt. Bitte melden Sie sich von 1.9. bis 6.10.2023 an unter 01/214 39 04 oder unter mitte@gbstern.at. \nSollten Sie nicht an der Veranstaltung teilnehmen können\, sagen Sie bitte ab. So haben Interessierte die Möglichkeit\, Ihren Platz einzunehmen. \nAuf vielen Veranstaltungen wird fotografiert und/oder gefilmt. Mit der Teilnahme an einer Veranstaltung stimmen Sie einer möglichen Veröffentlichung auf Websites\, Social Media-Kanälen\, Print- und Onlinemedien und dergleichen zu. \n(c) GB*
URL:https://kalender.seniorinnen.wien/event/das-stuwerviertel-gestern-und-heute/
LOCATION:Max-Winter-Platz 23\, Max-Winter-Platz 23\, Wien\, 1020
CATEGORIES:Monat der Senior:innen
ATTACH;FMTTYPE=image/jpeg:https://kalender.seniorinnen.wien/wp-content/uploads/2023/08/GBmittte_Graetzelspaziergang.jpg
ORGANIZER;CN="Gebietsbetreuung Stadterneuerung":MAILTO:info@gbstern.at
END:VEVENT
END:VCALENDAR