BEGIN:VCALENDAR
VERSION:2.0
PRODID:-//Wien für Senior:innen - ECPv6.15.17.1//NONSGML v1.0//EN
CALSCALE:GREGORIAN
METHOD:PUBLISH
X-WR-CALNAME:Wien für Senior:innen
X-ORIGINAL-URL:https://kalender.seniorinnen.wien
X-WR-CALDESC:Veranstaltungen für Wien für Senior:innen
REFRESH-INTERVAL;VALUE=DURATION:PT1H
X-Robots-Tag:noindex
X-PUBLISHED-TTL:PT1H
BEGIN:VTIMEZONE
TZID:Europe/Berlin
BEGIN:DAYLIGHT
TZOFFSETFROM:+0100
TZOFFSETTO:+0200
TZNAME:CEST
DTSTART:20230326T010000
END:DAYLIGHT
BEGIN:STANDARD
TZOFFSETFROM:+0200
TZOFFSETTO:+0100
TZNAME:CET
DTSTART:20231029T010000
END:STANDARD
BEGIN:DAYLIGHT
TZOFFSETFROM:+0100
TZOFFSETTO:+0200
TZNAME:CEST
DTSTART:20240331T010000
END:DAYLIGHT
BEGIN:STANDARD
TZOFFSETFROM:+0200
TZOFFSETTO:+0100
TZNAME:CET
DTSTART:20241027T010000
END:STANDARD
BEGIN:DAYLIGHT
TZOFFSETFROM:+0100
TZOFFSETTO:+0200
TZNAME:CEST
DTSTART:20250330T010000
END:DAYLIGHT
BEGIN:STANDARD
TZOFFSETFROM:+0200
TZOFFSETTO:+0100
TZNAME:CET
DTSTART:20251026T010000
END:STANDARD
END:VTIMEZONE
BEGIN:VEVENT
DTSTART;TZID=Europe/Berlin:20241003T140000
DTEND;TZID=Europe/Berlin:20241003T180000
DTSTAMP:20260420T115239
CREATED:20240906T133228Z
LAST-MODIFIED:20240906T133228Z
UID:6683-1727964000-1727978400@kalender.seniorinnen.wien
SUMMARY:come together
DESCRIPTION:Am 03.10.2024 findet von 14:00 Uhr bis 18:00 Uhr eine Zusammenkunft auf der Wiese des Max-Opravil-Hofs (Wienerbergstraße 12\, 1120 Wien) statt. \nWährend des letztjährigen Graffiti Projektes wurde wohnpartner auf einen anhaltenden Hofnutzungskonflikt im Max-Opravil-Hof aufmerksam. Verschiedene Nutzer:innengruppen kommen dabei in einen Konflikt miteinander (fußballspielende Kinder\, ältere Menschen mit Ruhebedürfnis\, etc.). \nwohnpartner möchte mit dieser Aktion im Hof eine konstruktive Atmosphäre erzeugen\, sodass die Senior:innen (Altmieter:innen) wieder ihren Hof nutzen können. \nKeine Anmeldung erforderlich.
URL:https://kalender.seniorinnen.wien/event/come-together/
LOCATION:Max-Opravil-Hof\, Wienerbergstraße 12\, Wien\, 1120
CATEGORIES:Begegnung,Grätzel,Kunst und Kultur,Monat der Senior:innen
ATTACH;FMTTYPE=image/jpeg:https://kalender.seniorinnen.wien/wp-content/uploads/2024/09/3189_6bee2212931e61f-scaled-e1725629501272.jpg
END:VEVENT
END:VCALENDAR