BEGIN:VCALENDAR
VERSION:2.0
PRODID:-//Wien für Senior:innen - ECPv6.15.17.1//NONSGML v1.0//EN
CALSCALE:GREGORIAN
METHOD:PUBLISH
X-WR-CALNAME:Wien für Senior:innen
X-ORIGINAL-URL:https://kalender.seniorinnen.wien
X-WR-CALDESC:Veranstaltungen für Wien für Senior:innen
REFRESH-INTERVAL;VALUE=DURATION:PT1H
X-Robots-Tag:noindex
X-PUBLISHED-TTL:PT1H
BEGIN:VTIMEZONE
TZID:Europe/Berlin
BEGIN:DAYLIGHT
TZOFFSETFROM:+0100
TZOFFSETTO:+0200
TZNAME:CEST
DTSTART:20230326T010000
END:DAYLIGHT
BEGIN:STANDARD
TZOFFSETFROM:+0200
TZOFFSETTO:+0100
TZNAME:CET
DTSTART:20231029T010000
END:STANDARD
BEGIN:DAYLIGHT
TZOFFSETFROM:+0100
TZOFFSETTO:+0200
TZNAME:CEST
DTSTART:20240331T010000
END:DAYLIGHT
BEGIN:STANDARD
TZOFFSETFROM:+0200
TZOFFSETTO:+0100
TZNAME:CET
DTSTART:20241027T010000
END:STANDARD
BEGIN:DAYLIGHT
TZOFFSETFROM:+0100
TZOFFSETTO:+0200
TZNAME:CEST
DTSTART:20250330T010000
END:DAYLIGHT
BEGIN:STANDARD
TZOFFSETFROM:+0200
TZOFFSETTO:+0100
TZNAME:CET
DTSTART:20251026T010000
END:STANDARD
END:VTIMEZONE
BEGIN:VEVENT
DTSTART;TZID=Europe/Berlin:20240425T090000
DTEND;TZID=Europe/Berlin:20240425T120000
DTSTAMP:20260421T102523
CREATED:20240116T131257Z
LAST-MODIFIED:20240207T144304Z
UID:4866-1714035600-1714046400@kalender.seniorinnen.wien
SUMMARY:Wohnsituation von älteren Menschen mit Migrationshintergrund in Wien
DESCRIPTION:Die Bedürfnisse und Bedarfslagen älterer Menschen in Bezug auf altersgerechtes Wohnen sind unterschiedlich. Meist ist die Wohnsituation von älteren Menschen mit Migrationshintergrund auch im Alter von sozialen Ungleichheiten geprägt. Die Bedeutung des Zuhauses nimmt im Alter jedoch sogar zu. In diesem Seminar wird das Thema Wohnen im Kontext von Migration und Altern beleuchtet. Es werden verschiedene Faktoren und Wege besprochen\, die die Wohnsituation von älteren Menschen mit Migrationshintergrund verbessern können. \nVortragender: Christoph Reinprecht (Universität Wien – Institut für Soziologie Wien) \nOrt: 15.\, Gasgasse 8-10\, Stiege 1\, 1. Stock links\, Amtshaus Rudolfsheim-Fünfhaus\, Seminarraum der Abteilung Integration und Diversität \n 
URL:https://kalender.seniorinnen.wien/event/wohnsituation-von-aelteren-menschen-mit-migrationshintergrund-in-wien/
LOCATION:Ma 17 Abteilung Integration und Diversität – Amtshaus\, Gasgasse 8-10\, Wien\, 1150
ATTACH;FMTTYPE=image/jpeg:https://kalender.seniorinnen.wien/wp-content/uploads/2024/01/vienna-818059_1920-e1707316962625.jpg
END:VEVENT
BEGIN:VEVENT
DTSTART;TZID=Europe/Berlin:20240306T090000
DTEND;TZID=Europe/Berlin:20240306T120000
DTSTAMP:20260421T102523
CREATED:20240116T130729Z
LAST-MODIFIED:20240207T132901Z
UID:4862-1709715600-1709726400@kalender.seniorinnen.wien
SUMMARY:Armut\, Alter und Migration
DESCRIPTION:Wie beeinflussen soziale Ungleichheiten das Leben im Alter? Migrant*innen der 1. Generation haben aufgrund ihrer Lebensgeschichte ein größeres Armutsrisiko. Was trägt zu sozialer Ungleichheit bei? Wie kann dieser begegnet werden und was sind dabei die Herausforderungen? Im Seminar werden diese Themen in ihren unterschiedlichen Aspekten beleuchtet. \nVortragende: Jasmin Abdelsamad (Wissenschaftliche Mitarbeiterin an der Universität Wien und diplomierte Gesundheits- und Krankenpflegerin beim Wiener Gesundheitsverbund) \n\nAnmeldung per E-Mail an: anmeldungen@ma17.wien.gv.at\nDie Teilnahme ist kostenlos.\n\nOrt: 15.\, Gasgasse 8-10\, Stiege 1\, 1. Stock links\, Amtshaus Rudolfsheim-Fünfhaus\, Seminarraum der Abteilung Integration und Diversität
URL:https://kalender.seniorinnen.wien/event/armut-alter-und-migration/
LOCATION:Ma 17 Abteilung Integration und Diversität – Amtshaus\, Gasgasse 8-10\, Wien\, 1150
CATEGORIES:Information
ATTACH;FMTTYPE=image/jpeg:https://kalender.seniorinnen.wien/wp-content/uploads/2024/01/wallet-3548021_1920-e1707312378432.jpg
END:VEVENT
END:VCALENDAR