BEGIN:VCALENDAR
VERSION:2.0
PRODID:-//Wien für Senior:innen - ECPv6.15.17.1//NONSGML v1.0//EN
CALSCALE:GREGORIAN
METHOD:PUBLISH
X-ORIGINAL-URL:https://kalender.seniorinnen.wien
X-WR-CALDESC:Veranstaltungen für Wien für Senior:innen
REFRESH-INTERVAL;VALUE=DURATION:PT1H
X-Robots-Tag:noindex
X-PUBLISHED-TTL:PT1H
BEGIN:VTIMEZONE
TZID:Europe/Berlin
BEGIN:DAYLIGHT
TZOFFSETFROM:+0100
TZOFFSETTO:+0200
TZNAME:CEST
DTSTART:20250330T010000
END:DAYLIGHT
BEGIN:STANDARD
TZOFFSETFROM:+0200
TZOFFSETTO:+0100
TZNAME:CET
DTSTART:20251026T010000
END:STANDARD
BEGIN:DAYLIGHT
TZOFFSETFROM:+0100
TZOFFSETTO:+0200
TZNAME:CEST
DTSTART:20260329T010000
END:DAYLIGHT
BEGIN:STANDARD
TZOFFSETFROM:+0200
TZOFFSETTO:+0100
TZNAME:CET
DTSTART:20261025T010000
END:STANDARD
BEGIN:DAYLIGHT
TZOFFSETFROM:+0100
TZOFFSETTO:+0200
TZNAME:CEST
DTSTART:20270328T010000
END:DAYLIGHT
BEGIN:STANDARD
TZOFFSETFROM:+0200
TZOFFSETTO:+0100
TZNAME:CET
DTSTART:20271031T010000
END:STANDARD
END:VTIMEZONE
BEGIN:VEVENT
DTSTART;TZID=Europe/Berlin:20260416T100000
DTEND;TZID=Europe/Berlin:20260416T130000
DTSTAMP:20260423T151030
CREATED:20260109T094818Z
LAST-MODIFIED:20260109T094818Z
UID:11438-1776333600-1776344400@kalender.seniorinnen.wien
SUMMARY:Kontaktbesuchsdienst: Infotisch in der Lugner City
DESCRIPTION:Infotisch\n10 bis 13 Uhr\n \nLugner City\nGablenzgasse 11\n1150 Wien \n  \nFoto: Wiener Sozialdienste
URL:https://kalender.seniorinnen.wien/event/kontaktbesuchsdienst-infotisch-in-der-lugner-city/2026-04-16/
LOCATION:Lugner City\, Gablenzgasse 11\, Wien\, Wien\, 1150\, Austria
CATEGORIES:Information
ATTACH;FMTTYPE=image/jpeg:https://kalender.seniorinnen.wien/wp-content/uploads/2019/08/WISO_Kontaktbesuchsdienst.jpg
END:VEVENT
BEGIN:VEVENT
DTSTART;TZID=Europe/Berlin:20260305T100000
DTEND;TZID=Europe/Berlin:20260305T130000
DTSTAMP:20260423T151030
CREATED:20260109T094818Z
LAST-MODIFIED:20260109T094818Z
UID:11437-1772704800-1772715600@kalender.seniorinnen.wien
SUMMARY:Kontaktbesuchsdienst: Infotisch in der Lugner City
DESCRIPTION:Infotisch\n10 bis 13 Uhr\n \nLugner City\nGablenzgasse 11\n1150 Wien \n  \nFoto: Wiener Sozialdienste
URL:https://kalender.seniorinnen.wien/event/kontaktbesuchsdienst-infotisch-in-der-lugner-city/2026-03-05/
LOCATION:Lugner City\, Gablenzgasse 11\, Wien\, Wien\, 1150\, Austria
CATEGORIES:Information
ATTACH;FMTTYPE=image/jpeg:https://kalender.seniorinnen.wien/wp-content/uploads/2019/08/WISO_Kontaktbesuchsdienst.jpg
END:VEVENT
BEGIN:VEVENT
DTSTART;TZID=Europe/Berlin:20260212T100000
DTEND;TZID=Europe/Berlin:20260212T130000
DTSTAMP:20260423T151030
CREATED:20260109T094818Z
LAST-MODIFIED:20260109T094818Z
UID:11433-1770890400-1770901200@kalender.seniorinnen.wien
SUMMARY:Kontaktbesuchsdienst: Infotisch in der Lugner City
DESCRIPTION:Infotisch\n10 bis 13 Uhr\n \nLugner City\nGablenzgasse 11\n1150 Wien \n  \nFoto: Wiener Sozialdienste
URL:https://kalender.seniorinnen.wien/event/kontaktbesuchsdienst-infotisch-in-der-lugner-city/2026-02-12/
LOCATION:Lugner City\, Gablenzgasse 11\, Wien\, Wien\, 1150\, Austria
CATEGORIES:Information
ATTACH;FMTTYPE=image/jpeg:https://kalender.seniorinnen.wien/wp-content/uploads/2019/08/WISO_Kontaktbesuchsdienst.jpg
END:VEVENT
END:VCALENDAR