BEGIN:VCALENDAR
VERSION:2.0
PRODID:-//Wien für Senior:innen - ECPv6.15.17.1//NONSGML v1.0//EN
CALSCALE:GREGORIAN
METHOD:PUBLISH
X-ORIGINAL-URL:https://kalender.seniorinnen.wien
X-WR-CALDESC:Veranstaltungen für Wien für Senior:innen
REFRESH-INTERVAL;VALUE=DURATION:PT1H
X-Robots-Tag:noindex
X-PUBLISHED-TTL:PT1H
BEGIN:VTIMEZONE
TZID:Europe/Vienna
BEGIN:DAYLIGHT
TZOFFSETFROM:+0100
TZOFFSETTO:+0200
TZNAME:CEST
DTSTART:20220327T010000
END:DAYLIGHT
BEGIN:STANDARD
TZOFFSETFROM:+0200
TZOFFSETTO:+0100
TZNAME:CET
DTSTART:20221030T010000
END:STANDARD
BEGIN:DAYLIGHT
TZOFFSETFROM:+0100
TZOFFSETTO:+0200
TZNAME:CEST
DTSTART:20230326T010000
END:DAYLIGHT
BEGIN:STANDARD
TZOFFSETFROM:+0200
TZOFFSETTO:+0100
TZNAME:CET
DTSTART:20231029T010000
END:STANDARD
BEGIN:DAYLIGHT
TZOFFSETFROM:+0100
TZOFFSETTO:+0200
TZNAME:CEST
DTSTART:20240331T010000
END:DAYLIGHT
BEGIN:STANDARD
TZOFFSETFROM:+0200
TZOFFSETTO:+0100
TZNAME:CET
DTSTART:20241027T010000
END:STANDARD
END:VTIMEZONE
BEGIN:VEVENT
DTSTART;VALUE=DATE:20231103
DTEND;VALUE=DATE:20231105
DTSTAMP:20260421T015710
CREATED:20231013T091203Z
LAST-MODIFIED:20231013T091357Z
UID:4502-1698969600-1699142399@kalender.seniorinnen.wien
SUMMARY:Theaterstück: Gemeinsam ist Alzheimer schöner
DESCRIPTION:Das Theaterstück erzählt vom Verlöschen der Erinnerung\, und dem was bleibt. ER und SIE – zwei Entliebte – finden durch die Gnade des Vergessens wieder zärtlich zueinander. In Rückblenden – erzählt in poetischen\, warmherzigen Dialogen und dem Grundton der Zuversicht – ist dieses Theaterstück vielleicht das schönste\, aber sicher das Persönlichste\, das Peter Turrini in den vergangenen Jahren geschrieben hat. Er spielt dabei virtuos mit dem Leben\, mit dem Erlebten und der Zeit in unterschiedlichsten Lebensphasen. \nTermine: \n3.11.2023\, 19:30 Uhr \n4.11.2023\, 19:30 Uhr \nTickets: Online Eventjet\, im Rathaus Neulengbach\, Infobüros und Trafiken \nFoto: Brigitte Pointner
URL:https://kalender.seniorinnen.wien/event/theaterstueck-gemeinsam-ist-alzheimer-schoener-am-3-4-november-in-neulengbach/
LOCATION:Lengenbacher Saal\, Hauptplatz 3040\, Neulengbach\, 3040
CATEGORIES:Demenz,Kunst und Kultur,Unterhaltung
END:VEVENT
END:VCALENDAR