BEGIN:VCALENDAR
VERSION:2.0
PRODID:-//Wien für Senior:innen - ECPv6.15.17.1//NONSGML v1.0//EN
CALSCALE:GREGORIAN
METHOD:PUBLISH
X-WR-CALNAME:Wien für Senior:innen
X-ORIGINAL-URL:https://kalender.seniorinnen.wien
X-WR-CALDESC:Veranstaltungen für Wien für Senior:innen
REFRESH-INTERVAL;VALUE=DURATION:PT1H
X-Robots-Tag:noindex
X-PUBLISHED-TTL:PT1H
BEGIN:VTIMEZONE
TZID:Europe/Berlin
BEGIN:DAYLIGHT
TZOFFSETFROM:+0100
TZOFFSETTO:+0200
TZNAME:CEST
DTSTART:20240331T010000
END:DAYLIGHT
BEGIN:STANDARD
TZOFFSETFROM:+0200
TZOFFSETTO:+0100
TZNAME:CET
DTSTART:20241027T010000
END:STANDARD
BEGIN:DAYLIGHT
TZOFFSETFROM:+0100
TZOFFSETTO:+0200
TZNAME:CEST
DTSTART:20250330T010000
END:DAYLIGHT
BEGIN:STANDARD
TZOFFSETFROM:+0200
TZOFFSETTO:+0100
TZNAME:CET
DTSTART:20251026T010000
END:STANDARD
BEGIN:DAYLIGHT
TZOFFSETFROM:+0100
TZOFFSETTO:+0200
TZNAME:CEST
DTSTART:20260329T010000
END:DAYLIGHT
BEGIN:STANDARD
TZOFFSETFROM:+0200
TZOFFSETTO:+0100
TZNAME:CET
DTSTART:20261025T010000
END:STANDARD
END:VTIMEZONE
BEGIN:VEVENT
DTSTART;TZID=Europe/Berlin:20251029T150000
DTEND;TZID=Europe/Berlin:20251029T160000
DTSTAMP:20260420T183320
CREATED:20250909T134928Z
LAST-MODIFIED:20250909T151924Z
UID:10058-1761750000-1761753600@kalender.seniorinnen.wien
SUMMARY:Schlagernachmittag
DESCRIPTION:Freuen Sie sich auf einen Schlagernachmittag mit Heidi von Orth und viel guter Stimmung! \nUnterhaltung mit Musik und Humor \nim GastHaus \nkeine Anmeldung erforderlich\, einfach vorbeikommen \nInfos unter:\nTel.: 01/313991110 \nFoto: Freepik
URL:https://kalender.seniorinnen.wien/event/unterhaltung-mit-musik-und-humor/
LOCATION:KWP – Haus Schmelz\, Ibsenstraße 1\, Wien\, Wien\, 1150\, Austria
CATEGORIES:Monat der Senior:innen
ATTACH;FMTTYPE=image/jpeg:https://kalender.seniorinnen.wien/wp-content/uploads/2025/09/cheerful-senior-couple-with-sunglasses-dancing-having-fun-together-home-scaled-e1756374878240.jpg
END:VEVENT
BEGIN:VEVENT
DTSTART;TZID=Europe/Berlin:20251022T150000
DTEND;TZID=Europe/Berlin:20251022T170000
DTSTAMP:20260420T183320
CREATED:20250909T134628Z
LAST-MODIFIED:20250909T134628Z
UID:10056-1761145200-1761152400@kalender.seniorinnen.wien
SUMMARY:Oktoberfest
DESCRIPTION:Oktoberfest im GastHaus \nmax. 20 Teilnehmer:innen \ntelefonische Voranmeldung unter:\nTel.: 01/313 99 1110 \nFoto: Freepik
URL:https://kalender.seniorinnen.wien/event/oktoberfest-4/
LOCATION:KWP – Haus Schmelz\, Ibsenstraße 1\, Wien\, Wien\, 1150\, Austria
CATEGORIES:Monat der Senior:innen
ATTACH;FMTTYPE=image/jpeg:https://kalender.seniorinnen.wien/wp-content/uploads/2025/09/oktoberfest-assortment-with-delicious-pretzel-scaled-e1757075291323.jpg
END:VEVENT
BEGIN:VEVENT
DTSTART;TZID=Europe/Berlin:20251022T083000
DTEND;TZID=Europe/Berlin:20251022T110000
DTSTAMP:20260420T183320
CREATED:20250909T130031Z
LAST-MODIFIED:20250909T134237Z
UID:10052-1761121800-1761130800@kalender.seniorinnen.wien
SUMMARY:Tanzworkshop
DESCRIPTION:Tanzworkshop mit Nefeli Antoniadi \nim Seminarraum\nkeine Anmeldung erforderlich\, einfach vorbeikommen \nInfos unter\nTel.: 01/01/31 39 911 10 \nFoto: Freepik
URL:https://kalender.seniorinnen.wien/event/tanzworkshop/2025-10-22/
LOCATION:KWP – Haus Schmelz\, Ibsenstraße 1\, Wien\, Wien\, 1150\, Austria
CATEGORIES:Monat der Senior:innen
ATTACH;FMTTYPE=image/jpeg:https://kalender.seniorinnen.wien/wp-content/uploads/2025/09/elder-group-friends-partying-scaled-e1757422778414.jpg
END:VEVENT
BEGIN:VEVENT
DTSTART;TZID=Europe/Berlin:20251015T083000
DTEND;TZID=Europe/Berlin:20251015T110000
DTSTAMP:20260420T183320
CREATED:20250909T130031Z
LAST-MODIFIED:20250909T134237Z
UID:10051-1760517000-1760526000@kalender.seniorinnen.wien
SUMMARY:Tanzworkshop
DESCRIPTION:Tanzworkshop mit Nefeli Antoniadi \nim Seminarraum\nkeine Anmeldung erforderlich\, einfach vorbeikommen \nInfos unter\nTel.: 01/01/31 39 911 10 \nFoto: Freepik
URL:https://kalender.seniorinnen.wien/event/tanzworkshop/2025-10-15/
LOCATION:KWP – Haus Schmelz\, Ibsenstraße 1\, Wien\, Wien\, 1150\, Austria
CATEGORIES:Monat der Senior:innen
ATTACH;FMTTYPE=image/jpeg:https://kalender.seniorinnen.wien/wp-content/uploads/2025/09/elder-group-friends-partying-scaled-e1757422778414.jpg
END:VEVENT
BEGIN:VEVENT
DTSTART;TZID=Europe/Berlin:20251014T143000
DTEND;TZID=Europe/Berlin:20251014T180000
DTSTAMP:20260420T183320
CREATED:20250909T131004Z
LAST-MODIFIED:20250909T131018Z
UID:10046-1760452200-1760464800@kalender.seniorinnen.wien
SUMMARY:Herbstfest Klub
DESCRIPTION:Herbstfest Klub\nim GastHaus\nmax. 2o Teilnehmer:innen \nAnmeldung unter\nTel.: 01/01/31 39 911 10 \nFoto: Freepik
URL:https://kalender.seniorinnen.wien/event/herbstfest-klub/
LOCATION:KWP – Haus Schmelz\, Ibsenstraße 1\, Wien\, Wien\, 1150\, Austria
CATEGORIES:Monat der Senior:innen
ATTACH;FMTTYPE=image/jpeg:https://kalender.seniorinnen.wien/wp-content/uploads/2025/09/top-view-pumpkins-arrangement-wooden-table-scaled.jpg
END:VEVENT
BEGIN:VEVENT
DTSTART;TZID=Europe/Berlin:20251008T150000
DTEND;TZID=Europe/Berlin:20251008T160000
DTSTAMP:20260420T183320
CREATED:20250909T130428Z
LAST-MODIFIED:20250909T130717Z
UID:10043-1759935600-1759939200@kalender.seniorinnen.wien
SUMMARY:Geigenkonzert
DESCRIPTION:Der beliebte Künstler Zoltan Udvarnoki lädt zum Geigenkonzert ins Haus Schmelz. \nab 15:00 Uhr im GastHaus \nInfos:\nTel.: 01/313 99 1110 \nkeine Anmeldung erforderlich\, einfach vorbeikommen \nFoto: Freepik
URL:https://kalender.seniorinnen.wien/event/geigenkonzert/
LOCATION:KWP – Haus Schmelz\, Ibsenstraße 1\, Wien\, Wien\, 1150\, Austria
CATEGORIES:Monat der Senior:innen
ATTACH;FMTTYPE=image/jpeg:https://kalender.seniorinnen.wien/wp-content/uploads/2025/09/old-violin-black-background-scaled-e1757074620536.jpg
END:VEVENT
BEGIN:VEVENT
DTSTART;TZID=Europe/Berlin:20251008T083000
DTEND;TZID=Europe/Berlin:20251008T110000
DTSTAMP:20260420T183320
CREATED:20250909T130031Z
LAST-MODIFIED:20250909T134237Z
UID:10040-1759912200-1759921200@kalender.seniorinnen.wien
SUMMARY:Tanzworkshop
DESCRIPTION:Tanzworkshop mit Nefeli Antoniadi \nim Seminarraum\nkeine Anmeldung erforderlich\, einfach vorbeikommen \nInfos unter\nTel.: 01/01/31 39 911 10 \nFoto: Freepik
URL:https://kalender.seniorinnen.wien/event/tanzworkshop/2025-10-08/
LOCATION:KWP – Haus Schmelz\, Ibsenstraße 1\, Wien\, Wien\, 1150\, Austria
CATEGORIES:Monat der Senior:innen
ATTACH;FMTTYPE=image/jpeg:https://kalender.seniorinnen.wien/wp-content/uploads/2025/09/elder-group-friends-partying-scaled-e1757422778414.jpg
END:VEVENT
BEGIN:VEVENT
DTSTART;TZID=Europe/Berlin:20251007T163000
DTEND;TZID=Europe/Berlin:20251007T190000
DTSTAMP:20260420T183320
CREATED:20250909T125632Z
LAST-MODIFIED:20250909T125632Z
UID:10038-1759854600-1759863600@kalender.seniorinnen.wien
SUMMARY:Demenz-Restaurant
DESCRIPTION:im GastHaus\nkeine Anmeldung erforderlich\, einfach vorbeikommen \nInfos unter\nTel.: 01/01/31 39 911 10 \nFoto: Freepik
URL:https://kalender.seniorinnen.wien/event/demenz-restaurant/
LOCATION:KWP – Haus Schmelz\, Ibsenstraße 1\, Wien\, Wien\, 1150\, Austria
CATEGORIES:Monat der Senior:innen
ATTACH;FMTTYPE=image/jpeg:https://kalender.seniorinnen.wien/wp-content/uploads/2025/08/Schriftzug-Demenz-©Pixabay-e1754396077386.jpg
END:VEVENT
BEGIN:VEVENT
DTSTART;TZID=Europe/Berlin:20251002T160000
DTEND;TZID=Europe/Berlin:20251002T170000
DTSTAMP:20260420T183320
CREATED:20250909T125347Z
LAST-MODIFIED:20250909T125410Z
UID:10034-1759420800-1759424400@kalender.seniorinnen.wien
SUMMARY:Demenz-Stammtisch
DESCRIPTION:Demenz-Stammtisch\nim Seminarraum \nkeine Anmeldung erforderlich\, einfach vorbeikommen \nInfos unter\nTel.: 01/01/31 39 911 10 \nFoto: Freepik
URL:https://kalender.seniorinnen.wien/event/demenz-stammtisch/
LOCATION:KWP – Haus Schmelz\, Ibsenstraße 1\, Wien\, Wien\, 1150\, Austria
CATEGORIES:Monat der Senior:innen
ATTACH;FMTTYPE=image/jpeg:https://kalender.seniorinnen.wien/wp-content/uploads/2025/08/Schriftzug-Demenz-©Pixabay-e1754396077386.jpg
END:VEVENT
BEGIN:VEVENT
DTSTART;TZID=Europe/Berlin:20251001T150000
DTEND;TZID=Europe/Berlin:20251001T160000
DTSTAMP:20260420T183320
CREATED:20250909T123936Z
LAST-MODIFIED:20250909T123936Z
UID:10028-1759330800-1759334400@kalender.seniorinnen.wien
SUMMARY:Wiener Lieder
DESCRIPTION:Wiener Lieder mit Michael Perfler \nim GastHaus\nkeine Anmeldung erforderlich\, einfach vorbeikommen \nInfos unter\nTel.: 01/313 99 1250 \nFoto: Freepik
URL:https://kalender.seniorinnen.wien/event/wiener-lieder/
LOCATION:KWP – Haus Schmelz\, Ibsenstraße 1\, Wien\, Wien\, 1150\, Austria
CATEGORIES:Monat der Senior:innen
ATTACH;FMTTYPE=image/jpeg:https://kalender.seniorinnen.wien/wp-content/uploads/2025/09/closeup-musical-notes-bouquet-flowers-scaled-e1757661644176.jpg
END:VEVENT
END:VCALENDAR