BEGIN:VCALENDAR
VERSION:2.0
PRODID:-//Wien für Senior:innen - ECPv6.15.17.1//NONSGML v1.0//EN
CALSCALE:GREGORIAN
METHOD:PUBLISH
X-WR-CALNAME:Wien für Senior:innen
X-ORIGINAL-URL:https://kalender.seniorinnen.wien
X-WR-CALDESC:Veranstaltungen für Wien für Senior:innen
REFRESH-INTERVAL;VALUE=DURATION:PT1H
X-Robots-Tag:noindex
X-PUBLISHED-TTL:PT1H
BEGIN:VTIMEZONE
TZID:Europe/Berlin
BEGIN:DAYLIGHT
TZOFFSETFROM:+0100
TZOFFSETTO:+0200
TZNAME:CEST
DTSTART:20240331T010000
END:DAYLIGHT
BEGIN:STANDARD
TZOFFSETFROM:+0200
TZOFFSETTO:+0100
TZNAME:CET
DTSTART:20241027T010000
END:STANDARD
BEGIN:DAYLIGHT
TZOFFSETFROM:+0100
TZOFFSETTO:+0200
TZNAME:CEST
DTSTART:20250330T010000
END:DAYLIGHT
BEGIN:STANDARD
TZOFFSETFROM:+0200
TZOFFSETTO:+0100
TZNAME:CET
DTSTART:20251026T010000
END:STANDARD
BEGIN:DAYLIGHT
TZOFFSETFROM:+0100
TZOFFSETTO:+0200
TZNAME:CEST
DTSTART:20260329T010000
END:DAYLIGHT
BEGIN:STANDARD
TZOFFSETFROM:+0200
TZOFFSETTO:+0100
TZNAME:CET
DTSTART:20261025T010000
END:STANDARD
END:VTIMEZONE
BEGIN:VEVENT
DTSTART;TZID=Europe/Berlin:20251021T150000
DTEND;TZID=Europe/Berlin:20251021T170000
DTSTAMP:20260421T044304
CREATED:20250905T123208Z
LAST-MODIFIED:20250909T095251Z
UID:9937-1761058800-1761066000@kalender.seniorinnen.wien
SUMMARY:Oktoberfest
DESCRIPTION:Wir laden Sie zu unserem traditionellen Oktoberfest ins GastHaus ein. Die Schlosskogler sorgen für musikalische Unterhaltung. Die Küche verwöhnt uns mit kulinarischen Schmankerln. \nEinlass 14:30. \nmax. 15 Teilnehmer:innen \nAnmeldung Am MarktPlatz: \nTel.: 01 313 99 1260 \nKosten für externe Klubmitglieder 10 €\, alle anderen 15 € \nFoto: Freepik
URL:https://kalender.seniorinnen.wien/event/oktoberfest-im-gasthaus/
LOCATION:KWP – Haus am Mühlengrund\, Breitenfurter Str. 269-279\, Wien\, Wien\, 1230\, Austria
CATEGORIES:Unterhaltung
ATTACH;FMTTYPE=image/jpeg:https://kalender.seniorinnen.wien/wp-content/uploads/2025/09/oktoberfest-assortment-with-delicious-pretzel-scaled-e1757075291323.jpg
END:VEVENT
BEGIN:VEVENT
DTSTART;TZID=Europe/Berlin:20251009T150000
DTEND;TZID=Europe/Berlin:20251009T160000
DTSTAMP:20260421T044304
CREATED:20250905T121939Z
LAST-MODIFIED:20250905T123957Z
UID:9929-1760022000-1760025600@kalender.seniorinnen.wien
SUMMARY:Konzert "Zauber einer Geige"
DESCRIPTION:Konzert\nMag. Doina Fischer tritt mit ihrem Programm „Zauber einer Geige“ im GastHaus auf. Für eine süße Köstlichkeit wird gesorgt. \nmax. 30 Teilnehmer:innen \nAnmeldung am MarktPlatz:\nTel.: 01313 99 1260 \nFür Klubmitglieder kostenlos\, 10€ für Nicht-Klubmitglieder \nFoto: Freepik
URL:https://kalender.seniorinnen.wien/event/konzert-zauber-einer-geige/
LOCATION:KWP – Haus am Mühlengrund\, Breitenfurter Str. 269-279\, Wien\, Wien\, 1230\, Austria
CATEGORIES:Unterhaltung
ATTACH;FMTTYPE=image/jpeg:https://kalender.seniorinnen.wien/wp-content/uploads/2025/09/old-violin-black-background-scaled-e1757074620536.jpg
END:VEVENT
END:VCALENDAR