BEGIN:VCALENDAR
VERSION:2.0
PRODID:-//Wien für Senior:innen - ECPv6.15.17.1//NONSGML v1.0//EN
CALSCALE:GREGORIAN
METHOD:PUBLISH
X-WR-CALNAME:Wien für Senior:innen
X-ORIGINAL-URL:https://kalender.seniorinnen.wien
X-WR-CALDESC:Veranstaltungen für Wien für Senior:innen
REFRESH-INTERVAL;VALUE=DURATION:PT1H
X-Robots-Tag:noindex
X-PUBLISHED-TTL:PT1H
BEGIN:VTIMEZONE
TZID:Europe/Berlin
BEGIN:DAYLIGHT
TZOFFSETFROM:+0100
TZOFFSETTO:+0200
TZNAME:CEST
DTSTART:20220327T010000
END:DAYLIGHT
BEGIN:STANDARD
TZOFFSETFROM:+0200
TZOFFSETTO:+0100
TZNAME:CET
DTSTART:20221030T010000
END:STANDARD
BEGIN:DAYLIGHT
TZOFFSETFROM:+0100
TZOFFSETTO:+0200
TZNAME:CEST
DTSTART:20230326T010000
END:DAYLIGHT
BEGIN:STANDARD
TZOFFSETFROM:+0200
TZOFFSETTO:+0100
TZNAME:CET
DTSTART:20231029T010000
END:STANDARD
BEGIN:DAYLIGHT
TZOFFSETFROM:+0100
TZOFFSETTO:+0200
TZNAME:CEST
DTSTART:20240331T010000
END:DAYLIGHT
BEGIN:STANDARD
TZOFFSETFROM:+0200
TZOFFSETTO:+0100
TZNAME:CET
DTSTART:20241027T010000
END:STANDARD
BEGIN:DAYLIGHT
TZOFFSETFROM:+0100
TZOFFSETTO:+0200
TZNAME:CEST
DTSTART:20250330T010000
END:DAYLIGHT
BEGIN:STANDARD
TZOFFSETFROM:+0200
TZOFFSETTO:+0100
TZNAME:CET
DTSTART:20251026T010000
END:STANDARD
END:VTIMEZONE
BEGIN:VEVENT
DTSTART;TZID=Europe/Berlin:20241031T140000
DTEND;TZID=Europe/Berlin:20241031T170000
DTSTAMP:20260425T222827
CREATED:20220728T155207Z
LAST-MODIFIED:20240822T150406Z
UID:2970-1730383200-1730394000@kalender.seniorinnen.wien
SUMMARY:Wehli Halloweenparty
DESCRIPTION:Monster\, Hexen und Vampire aufgepasst: Für einen Nachmittag verwandelt sich der Klub Wehlistraße in einen „schaurigen“ Ort. Denn auch die Klubs feiern Halloween. \nBringen Sie am 31.10.2024 von 14 bis 17 Uhr Ihr schauriges Kostüm und feiern Sie mit! Zur Jause gibt es Kürbisweckerl mit Aufstrichen. \n  \nAnmeldung: 2.9 bis 30.10.2024\, max. 100 Teilnehmer:innen \nWebsite: www.dieklubs.at \n  \nFoto: KWP/ Sarah Bruckner
URL:https://kalender.seniorinnen.wien/event/monat-der-seniorinnen-hallowien-mit-yuri-fredie-und-osmel/
LOCATION:Pensionist*innenklub Wehlistraße\, Wehlistraße 164\, Wien\, 1020
CATEGORIES:Monat der Senior:innen,Unterhaltung
ATTACH;FMTTYPE=image/jpeg:https://kalender.seniorinnen.wien/wp-content/uploads/2022/07/HalloWien-scaled.jpg
END:VEVENT
BEGIN:VEVENT
DTSTART;TZID=Europe/Berlin:20241024T150000
DTEND;TZID=Europe/Berlin:20241024T170000
DTSTAMP:20260425T222827
CREATED:20240822T101336Z
LAST-MODIFIED:20240911T130710Z
UID:6057-1729782000-1729789200@kalender.seniorinnen.wien
SUMMARY:Wiener Wohnen lädt zur „Offenen Sprechstunde“
DESCRIPTION:Wir stehen Ihnen für Ihre Fragen und Anliegen zum Leben im Gemeindebau zur Seite – auch Anregungen sind willkommen. \nBei den „Offenen Sprechstunden“ haben Sie die Gelegenheit\, mit Mitarbeiter:innen von Wiener Wohnen\, Wohnpartner\, der Sozialarbeit und Grätzelpolizei ins Gespräch zu kommen. \n  \n14.10.2024\, 15 bis 17 Uhr\n1100 Wien\, Pensionist*innenklub Fliederhof 6 / 1 \n  \n24.10.2024\, 15 bis 17 Uhr\n1020 Wien\, Pensionist*innenklub Wehlistraße 164 \n  \nKeine Anmeldung erforderlich. \nE-Mail:  zielgruppen@wrw.wien.gv.at
URL:https://kalender.seniorinnen.wien/event/wiener-wohnen-laedt-zur-offenen-sprechstunde/
LOCATION:Pensionist*innenklub Wehlistraße\, Wehlistraße 164\, Wien\, 1020
CATEGORIES:Information,Monat der Senior:innen
ATTACH;FMTTYPE=image/jpeg:https://kalender.seniorinnen.wien/wp-content/uploads/2024/08/Gruppe_Seniorinnen-e1724220143798.jpg
END:VEVENT
BEGIN:VEVENT
DTSTART;TZID=Europe/Berlin:20241021T140000
DTEND;TZID=Europe/Berlin:20241021T160000
DTSTAMP:20260425T222827
CREATED:20240822T084453Z
LAST-MODIFIED:20240822T084453Z
UID:6114-1729519200-1729526400@kalender.seniorinnen.wien
SUMMARY:Vorführung: Therapiehundestaffel
DESCRIPTION:Lernen Sie die Therapiehundestaffel des Arbeiter-Samariter- Bunds kennen. \nTherapiebegleithunde sind ausgebildete Familienhunde\, die gemeinsam mit ihren Besitzer:innen Menschen in sozialen Einrichtungen besuchen. \nBeziehungsarbeit\, Freude\, Spaß und Spiel stehen dabei im Vordergrund der Besuche. \nAnschließend runden wir den Nachmittag gemeinsam im Klub ab. Kommen Sie vorbei und machen Sie mit! \n  \nWebsite: www.dieklubs.at \nWeitere Informationen: max. Teilnehmer:innen: 100 \n  \nFoto: Häuser zum Leben – Bereich Pensionist*innenklubs
URL:https://kalender.seniorinnen.wien/event/vorfuehrung-therapiehundestaffel/
LOCATION:Pensionist*innenklub Wehlistraße\, Wehlistraße 164\, Wien\, 1020
CATEGORIES:Begegnung,Monat der Senior:innen
ATTACH;FMTTYPE=image/jpeg:https://kalender.seniorinnen.wien/wp-content/uploads/2024/08/Hundestaffel-e1724244804885.jpg
END:VEVENT
BEGIN:VEVENT
DTSTART;TZID=Europe/Berlin:20230214T150000
DTEND;TZID=Europe/Berlin:20230214T170000
DTSTAMP:20260425T222827
CREATED:20220415T071133Z
LAST-MODIFIED:20230202T094506Z
UID:2712-1676386800-1676394000@kalender.seniorinnen.wien
SUMMARY:VHS Senior*innenquiz
DESCRIPTION:In Kooperation mit dem Kuratorium Wiener Pensionisten-Wohnhäuser veranstalten die Wiener Volkshochschulen das Senior*innenquiz\, bei dem gerätselt\, mitgefiebert und mitgeraten werden kann. \nModeriert wird das Senior*innenquiz von einer echten Theaterlegende: Volksschauspielerin Doris Weiner führt mit Charme und Witz durch die Veranstaltungen und begleitet Sie beim Quizzen.\nBei jedem Termin erhalten alle eine Chance\, zu den beiden besten Teams zu gehören und tolle Preise zu gewinnen. Stellen Sie sich den kniffligen Fragen und knüpfen Sie neue Kontakte beim Rätseln! \nDie Quiztermine finden in den Räumlichkeiten der PensionistInnenklubs der Stadt Wien des KWP oder der Werk Bühne am Donaukanal statt. Wer Lust hat\, mitzuraten oder im Publikum mitfiebern möchte\, meldet sich unter der PensionistInnenklubs-Hotline an: +43 1 313 991 701 12 \nAlle Termine und Standorte sowie weitere Infos finden Sie unter www.vhs.at/de/seniorenquiz \n(c) VHS/Franz Svoboda
URL:https://kalender.seniorinnen.wien/event/vhs-seniorinnenquiz-2/
LOCATION:Pensionist*innenklub Wehlistraße\, Wehlistraße 164\, Wien\, 1020
CATEGORIES:Unterhaltung
ATTACH;FMTTYPE=image/jpeg:https://kalender.seniorinnen.wien/wp-content/uploads/2022/04/©-VHS_Franz-Svoboda.jpg
END:VEVENT
END:VCALENDAR