BEGIN:VCALENDAR
VERSION:2.0
PRODID:-//Wien für Senior:innen - ECPv6.15.17.1//NONSGML v1.0//EN
CALSCALE:GREGORIAN
METHOD:PUBLISH
X-ORIGINAL-URL:https://kalender.seniorinnen.wien
X-WR-CALDESC:Veranstaltungen für Wien für Senior:innen
REFRESH-INTERVAL;VALUE=DURATION:PT1H
X-Robots-Tag:noindex
X-PUBLISHED-TTL:PT1H
BEGIN:VTIMEZONE
TZID:Europe/Berlin
BEGIN:DAYLIGHT
TZOFFSETFROM:+0100
TZOFFSETTO:+0200
TZNAME:CEST
DTSTART:20240331T010000
END:DAYLIGHT
BEGIN:STANDARD
TZOFFSETFROM:+0200
TZOFFSETTO:+0100
TZNAME:CET
DTSTART:20241027T010000
END:STANDARD
BEGIN:DAYLIGHT
TZOFFSETFROM:+0100
TZOFFSETTO:+0200
TZNAME:CEST
DTSTART:20250330T010000
END:DAYLIGHT
BEGIN:STANDARD
TZOFFSETFROM:+0200
TZOFFSETTO:+0100
TZNAME:CET
DTSTART:20251026T010000
END:STANDARD
BEGIN:DAYLIGHT
TZOFFSETFROM:+0100
TZOFFSETTO:+0200
TZNAME:CEST
DTSTART:20260329T010000
END:DAYLIGHT
BEGIN:STANDARD
TZOFFSETFROM:+0200
TZOFFSETTO:+0100
TZNAME:CET
DTSTART:20261025T010000
END:STANDARD
END:VTIMEZONE
BEGIN:VEVENT
DTSTART;TZID=Europe/Berlin:20251013T130000
DTEND;TZID=Europe/Berlin:20251013T163000
DTSTAMP:20260421T014343
CREATED:20250831T230001Z
LAST-MODIFIED:20250828T122129Z
UID:9032-1760360400-1760373000@kalender.seniorinnen.wien
SUMMARY:Hereinspaziert in den Pensionist:innenklub!
DESCRIPTION:Lernen Sie das Favoritner Klubleben bei einer Gratis-Jause kennen. Wir informieren Sie über das vielfältige und zum Großteil kostenlose Angebot und unsere Klubgemeinschaft. \nKeine Anmeldung erforderlich. \nWebsite: www.dieklubs.at \nFoto: KWP
URL:https://kalender.seniorinnen.wien/event/hereinspaziert-in-den-pensionistinnenklub-9/
LOCATION:Klub Troststraße\, Troststraße 17/7\, Wien\, Wien\, 1100
CATEGORIES:Monat der Senior:innen,Unterhaltung
ORGANIZER;CN="Pensionist*innenklubs f%C3%BCr die Stadt Wien":MAILTO:pk.gumpendorferstraße@kwp.at
END:VEVENT
END:VCALENDAR