BEGIN:VCALENDAR
VERSION:2.0
PRODID:-//Wien für Senior:innen - ECPv6.15.17.1//NONSGML v1.0//EN
CALSCALE:GREGORIAN
METHOD:PUBLISH
X-ORIGINAL-URL:https://kalender.seniorinnen.wien
X-WR-CALDESC:Veranstaltungen für Wien für Senior:innen
REFRESH-INTERVAL;VALUE=DURATION:PT1H
X-Robots-Tag:noindex
X-PUBLISHED-TTL:PT1H
BEGIN:VTIMEZONE
TZID:Europe/Berlin
BEGIN:DAYLIGHT
TZOFFSETFROM:+0100
TZOFFSETTO:+0200
TZNAME:CEST
DTSTART:20210328T010000
END:DAYLIGHT
BEGIN:STANDARD
TZOFFSETFROM:+0200
TZOFFSETTO:+0100
TZNAME:CET
DTSTART:20211031T010000
END:STANDARD
BEGIN:DAYLIGHT
TZOFFSETFROM:+0100
TZOFFSETTO:+0200
TZNAME:CEST
DTSTART:20220327T010000
END:DAYLIGHT
BEGIN:STANDARD
TZOFFSETFROM:+0200
TZOFFSETTO:+0100
TZNAME:CET
DTSTART:20221030T010000
END:STANDARD
BEGIN:DAYLIGHT
TZOFFSETFROM:+0100
TZOFFSETTO:+0200
TZNAME:CEST
DTSTART:20230326T010000
END:DAYLIGHT
BEGIN:STANDARD
TZOFFSETFROM:+0200
TZOFFSETTO:+0100
TZNAME:CET
DTSTART:20231029T010000
END:STANDARD
BEGIN:DAYLIGHT
TZOFFSETFROM:+0100
TZOFFSETTO:+0200
TZNAME:CEST
DTSTART:20240331T010000
END:DAYLIGHT
BEGIN:STANDARD
TZOFFSETFROM:+0200
TZOFFSETTO:+0100
TZNAME:CET
DTSTART:20241027T010000
END:STANDARD
END:VTIMEZONE
BEGIN:VEVENT
DTSTART;TZID=Europe/Berlin:20230425T150000
DTEND;TZID=Europe/Berlin:20230425T170000
DTSTAMP:20260420T152941
CREATED:20230202T094638Z
LAST-MODIFIED:20230202T094638Z
UID:3293-1682434800-1682442000@kalender.seniorinnen.wien
SUMMARY:VHS Senior:innenquiz
DESCRIPTION:In Kooperation mit dem Kuratorium Wiener Pensionisten-Wohnhäuser veranstalten die Wiener Volkshochschulen das Senior*innenquiz\, bei dem gerätselt\, mitgefiebert und mitgeraten werden kann. \nModeriert wird das Senior*innenquiz von einer echten Theaterlegende: Volksschauspielerin Doris Weiner führt mit Charme und Witz durch die Veranstaltungen und begleitet Sie beim Quizzen.\nBei jedem Termin erhalten alle eine Chance\, zu den beiden besten Teams zu gehören und tolle Preise zu gewinnen. Stellen Sie sich den kniffligen Fragen und knüpfen Sie neue Kontakte beim Rätseln! \nDie Quiztermine finden in den Räumlichkeiten der PensionistInnenklubs der Stadt Wien des KWP oder der Werk Bühne am Donaukanal statt. Wer Lust hat\, mitzuraten oder im Publikum mitfiebern möchte\, meldet sich unter der PensionistInnenklubs-Hotline an: +43 1 313 991 701 12 \nAlle Termine und Standorte sowie weitere Infos finden Sie unter www.vhs.at/de/seniorenquiz \n(c) VHS/Franz Svoboda
URL:https://kalender.seniorinnen.wien/event/vhs-seniorinnenquiz-3/
LOCATION:Klub Leithastraße\, Leithastraße 29-31\, Wien\, 1200
CATEGORIES:Bildung,Unterhaltung
ATTACH;FMTTYPE=image/jpeg:https://kalender.seniorinnen.wien/wp-content/uploads/2022/04/©-VHS_Franz-Svoboda.jpg
END:VEVENT
BEGIN:VEVENT
DTSTART;TZID=Europe/Berlin:20221025T150000
DTEND;TZID=Europe/Berlin:20221025T170000
DTSTAMP:20260420T152941
CREATED:20220728T155010Z
LAST-MODIFIED:20220822T084354Z
UID:2967-1666710000-1666717200@kalender.seniorinnen.wien
SUMMARY:Monat der Senior:innen: VHS Senior:innenquiz
DESCRIPTION:Zeigen Sie Ihr Wissen und spielen Sie mit in einem Team von vier Personen (max. acht Teams sind möglich). 15 knifflige Fragen warten auf Sie und es gibt tolle Preise zu gewinnen. Auch das Publikum kann miträtseln. Freuen Sie sich auf unterhaltsame und gesellige Stunden unter Freund*innen. Mit dabei in der Jury ist u.a. Sabine Hofer-Gruber\, Senior:innenbeauftragte der Stadt Wien. Die Veranstaltung findet in Kooperation mit dem Kuratorium Wiener Pensionisten-Wohnhäuser statt. Moderation: Volksschauspielerin Doris Weiner \nMelden Sie sich bis 22.10.2022 telefonisch über 01 313 991 701 12 Pensionist*innenklubs Hotline für die Veranstaltung an. \nSollten Sie trotz Anmeldung nicht an der Veranstaltung teilnehmen können\, sagen Sie bitte ab. So haben weitere Interessierte die Möglichkeit Ihren Platz einzunehmen. \nBitte beachten Sie: Aufgrund COVID-19 sind kurzfristige Änderungen oder auch Absagen möglich. Das Team der Senior:innenbeauftragten und die Veranstalter:innen bitten um Verständnis. \n(c) VHS/ Franz Svoboda
URL:https://kalender.seniorinnen.wien/event/monat-der-seniorinnen-vhs-seniorinnenquiz/
LOCATION:Klub Leithastraße\, Leithastraße 29-31\, Wien\, 1200
CATEGORIES:Monat der Senior:innen
ATTACH;FMTTYPE=image/jpeg:https://kalender.seniorinnen.wien/wp-content/uploads/2022/04/©-VHS_Franz-Svoboda.jpg
END:VEVENT
END:VCALENDAR