BEGIN:VCALENDAR
VERSION:2.0
PRODID:-//Wien für Senior:innen - ECPv6.15.17.1//NONSGML v1.0//EN
CALSCALE:GREGORIAN
METHOD:PUBLISH
X-WR-CALNAME:Wien für Senior:innen
X-ORIGINAL-URL:https://kalender.seniorinnen.wien
X-WR-CALDESC:Veranstaltungen für Wien für Senior:innen
REFRESH-INTERVAL;VALUE=DURATION:PT1H
X-Robots-Tag:noindex
X-PUBLISHED-TTL:PT1H
BEGIN:VTIMEZONE
TZID:Europe/Berlin
BEGIN:DAYLIGHT
TZOFFSETFROM:+0100
TZOFFSETTO:+0200
TZNAME:CEST
DTSTART:20240331T010000
END:DAYLIGHT
BEGIN:STANDARD
TZOFFSETFROM:+0200
TZOFFSETTO:+0100
TZNAME:CET
DTSTART:20241027T010000
END:STANDARD
BEGIN:DAYLIGHT
TZOFFSETFROM:+0100
TZOFFSETTO:+0200
TZNAME:CEST
DTSTART:20250330T010000
END:DAYLIGHT
BEGIN:STANDARD
TZOFFSETFROM:+0200
TZOFFSETTO:+0100
TZNAME:CET
DTSTART:20251026T010000
END:STANDARD
BEGIN:DAYLIGHT
TZOFFSETFROM:+0100
TZOFFSETTO:+0200
TZNAME:CEST
DTSTART:20260329T010000
END:DAYLIGHT
BEGIN:STANDARD
TZOFFSETFROM:+0200
TZOFFSETTO:+0100
TZNAME:CET
DTSTART:20261025T010000
END:STANDARD
END:VTIMEZONE
BEGIN:VEVENT
DTSTART;TZID=Europe/Berlin:20251023T090000
DTEND;TZID=Europe/Berlin:20251023T120000
DTSTAMP:20260421T002603
CREATED:20250831T230041Z
LAST-MODIFIED:20250902T074756Z
UID:8720-1761210000-1761220800@kalender.seniorinnen.wien
SUMMARY:A1 Seniorenakademie: Smartphone Stammtisch
DESCRIPTION:Bringen Sie Ihr Handy mit und entdecken Sie damit das Internet! \nKompetente A1-Trainer:innen unterstützen Sie in Kleingruppen\, Ihr Smartphone sicher im Alltag einzusetzen. \nMax. 12 Teilnehmer:innen pro Termin \nAnmeldung bis 1.10. \nTel.: 0800 80 8810 \nFoto: pixabay
URL:https://kalender.seniorinnen.wien/event/a1-seniorenakademie-smartphone-stammtisch-5/
LOCATION:Klub: Hubergasse 8\, Hubergasse 8\, Wien\, Wien\, 1160\, Austria
CATEGORIES:Monat der Senior:innen
ATTACH;FMTTYPE=image/jpeg:https://kalender.seniorinnen.wien/wp-content/uploads/2025/08/internet-3113279_1920-e1754922688459.jpg
END:VEVENT
END:VCALENDAR