BEGIN:VCALENDAR
VERSION:2.0
PRODID:-//Wien für Senior:innen - ECPv6.15.17.1//NONSGML v1.0//EN
CALSCALE:GREGORIAN
METHOD:PUBLISH
X-WR-CALNAME:Wien für Senior:innen
X-ORIGINAL-URL:https://kalender.seniorinnen.wien
X-WR-CALDESC:Veranstaltungen für Wien für Senior:innen
REFRESH-INTERVAL;VALUE=DURATION:PT1H
X-Robots-Tag:noindex
X-PUBLISHED-TTL:PT1H
BEGIN:VTIMEZONE
TZID:Europe/Berlin
BEGIN:DAYLIGHT
TZOFFSETFROM:+0100
TZOFFSETTO:+0200
TZNAME:CEST
DTSTART:20210328T010000
END:DAYLIGHT
BEGIN:STANDARD
TZOFFSETFROM:+0200
TZOFFSETTO:+0100
TZNAME:CET
DTSTART:20211031T010000
END:STANDARD
BEGIN:DAYLIGHT
TZOFFSETFROM:+0100
TZOFFSETTO:+0200
TZNAME:CEST
DTSTART:20220327T010000
END:DAYLIGHT
BEGIN:STANDARD
TZOFFSETFROM:+0200
TZOFFSETTO:+0100
TZNAME:CET
DTSTART:20221030T010000
END:STANDARD
BEGIN:DAYLIGHT
TZOFFSETFROM:+0100
TZOFFSETTO:+0200
TZNAME:CEST
DTSTART:20230326T010000
END:DAYLIGHT
BEGIN:STANDARD
TZOFFSETFROM:+0200
TZOFFSETTO:+0100
TZNAME:CET
DTSTART:20231029T010000
END:STANDARD
END:VTIMEZONE
BEGIN:VEVENT
DTSTART;TZID=Europe/Berlin:20221003T120000
DTEND;TZID=Europe/Berlin:20221003T170000
DTSTAMP:20260420T130519
CREATED:20220907T132312Z
LAST-MODIFIED:20220907T132312Z
UID:3108-1664798400-1664816400@kalender.seniorinnen.wien
SUMMARY:Mit.Einander Trommeln
DESCRIPTION:Finden Sie gemeinsam beim Trommeln den Rhythmus! Mit der „Hand to Hand“- Technik werden einen Nachmittag lang im PensionistInnenklub für die Stadt Wien einfache Rythmen erlernt und gemeinsam mit Percussion-Instrumenten Sessions gespielt. \nMelden Sie sich bis 26.09.2022 telefonisch über 01 9535955 für die Veranstaltung an. \nSollten Sie trotz Anmeldung nicht an der Veranstaltung teilnehmen können\, sagen Sie bitte ab. So haben weitere Interessierte die Möglichkeit Ihren Platz einzunehmen. \nBitte beachten Sie: Aufgrund COVID-19 sind kurzfristige Änderungen oder auch Absagen möglich. Das Team der Senior:innenbeauftragten und die Veranstalter:innen bitten um Verständnis. \n(c) KWP/ PensionistInnenklubs für die Stadt Wien
URL:https://kalender.seniorinnen.wien/event/mit-einander-trommeln/
LOCATION:Klub 22\, Melangasse 1/88\, Wien\, 1220
CATEGORIES:Kunst und Kultur,Unterhaltung
ATTACH;FMTTYPE=image/jpeg:https://kalender.seniorinnen.wien/wp-content/uploads/2022/09/Trommeln_2022-scaled.jpg
END:VEVENT
END:VCALENDAR