BEGIN:VCALENDAR
VERSION:2.0
PRODID:-//Wien für Senior:innen - ECPv6.15.17.1//NONSGML v1.0//EN
CALSCALE:GREGORIAN
METHOD:PUBLISH
X-WR-CALNAME:Wien für Senior:innen
X-ORIGINAL-URL:https://kalender.seniorinnen.wien
X-WR-CALDESC:Veranstaltungen für Wien für Senior:innen
REFRESH-INTERVAL;VALUE=DURATION:PT1H
X-Robots-Tag:noindex
X-PUBLISHED-TTL:PT1H
BEGIN:VTIMEZONE
TZID:Europe/Berlin
BEGIN:DAYLIGHT
TZOFFSETFROM:+0100
TZOFFSETTO:+0200
TZNAME:CEST
DTSTART:20210328T010000
END:DAYLIGHT
BEGIN:STANDARD
TZOFFSETFROM:+0200
TZOFFSETTO:+0100
TZNAME:CET
DTSTART:20211031T010000
END:STANDARD
BEGIN:DAYLIGHT
TZOFFSETFROM:+0100
TZOFFSETTO:+0200
TZNAME:CEST
DTSTART:20220327T010000
END:DAYLIGHT
BEGIN:STANDARD
TZOFFSETFROM:+0200
TZOFFSETTO:+0100
TZNAME:CET
DTSTART:20221030T010000
END:STANDARD
BEGIN:DAYLIGHT
TZOFFSETFROM:+0100
TZOFFSETTO:+0200
TZNAME:CEST
DTSTART:20230326T010000
END:DAYLIGHT
BEGIN:STANDARD
TZOFFSETFROM:+0200
TZOFFSETTO:+0100
TZNAME:CET
DTSTART:20231029T010000
END:STANDARD
END:VTIMEZONE
BEGIN:VEVENT
DTSTART;TZID=Europe/Berlin:20221007T093000
DTEND;TZID=Europe/Berlin:20221007T133000
DTSTAMP:20260420T173553
CREATED:20220725T122534Z
LAST-MODIFIED:20220902T065320Z
UID:2849-1665135000-1665149400@kalender.seniorinnen.wien
SUMMARY:Monat der Senior:innen: Fest der Generationen
DESCRIPTION:Erleben Sie ein Miteinander der Generationen bei vielfältigen Stationen für Klein & Groß! \nAuf Sie warten:\n• Freude an Bewegung\n• Klein & Groß gemeinsam\n• für Gruppen und Einzelpersonen\n• Gesundheit und Wohlbefinden\n• Stationenpass und kleine Preise \nDie Feste der Generationen bieten Kindern und Senior:innen – und allen dazwischen – vielfältige Stationen zum gemeinsamen Ausprobieren und Mitmachen:\n• Geschicklichkeitsübungen\n• Gleichgewichts- und Hindernisparcours\n• Tanzen für Klein & Groß\n• Reaktionsfähigkeit und Sturzprophylaxe\n• Bewegungsspiele\n• Ernährung\n• Zahngesundheit\n• Entspannung \nBewegung im Freien trägt in jedem Alter zu Gesundheit und Wohlbefinden bei. Im Rahmen des Projekts „Klein & Groß – Bewegt & Gesund“ organisiert die Wiener Gesundheitsförderung in Zusammenarbeit mit der Österreichischen Gesundheitskasse\, gemeinsam mit ASKÖ WAT Wien\, ASVÖ Wien und der SPORTUNION Wien die kostenlosen Feste der Generationen. \nUm Anmeldung für Gruppen ab 10 Personen wird gebeten: kleinundgross@askoewat.wien oder 01/22 600 17. Alle Informationen finden Sie auf der Webseite www.wig.or.at/veranstaltungen \nBitte beachten Sie: Aufgrund COVID-19 sind kurzfristige Änderungen oder auch Absagen möglich. Das Team der Senior:innenbeauftragten und die Veranstalter:innen bitten um Verständnis. \nFalls es zu einer wetterbedingten Absage kommt\, wird diese 3 Tage vor dem\nTermin unter www.wig.or.at/KLEINundGROSS bekanntgegeben. \n(c) Wiener Gesundheitsförderung – WiG
URL:https://kalender.seniorinnen.wien/event/monat-der-seniorinnen-fest-der-generationen/
LOCATION:Jugendsportanlage im Auer-Welsbach-Park\, Auer-Welsbach-Park\, 1140
CATEGORIES:Monat der Senior:innen
ATTACH;FMTTYPE=image/jpeg:https://kalender.seniorinnen.wien/wp-content/uploads/2022/07/WIG_Fest_der_Generationen_PRESSEAUWAHL_005-scaled.jpg
END:VEVENT
END:VCALENDAR