BEGIN:VCALENDAR
VERSION:2.0
PRODID:-//Wien für Senior:innen - ECPv6.15.17.1//NONSGML v1.0//EN
CALSCALE:GREGORIAN
METHOD:PUBLISH
X-WR-CALNAME:Wien für Senior:innen
X-ORIGINAL-URL:https://kalender.seniorinnen.wien
X-WR-CALDESC:Veranstaltungen für Wien für Senior:innen
REFRESH-INTERVAL;VALUE=DURATION:PT1H
X-Robots-Tag:noindex
X-PUBLISHED-TTL:PT1H
BEGIN:VTIMEZONE
TZID:Europe/Berlin
BEGIN:DAYLIGHT
TZOFFSETFROM:+0100
TZOFFSETTO:+0200
TZNAME:CEST
DTSTART:20220327T010000
END:DAYLIGHT
BEGIN:STANDARD
TZOFFSETFROM:+0200
TZOFFSETTO:+0100
TZNAME:CET
DTSTART:20221030T010000
END:STANDARD
BEGIN:DAYLIGHT
TZOFFSETFROM:+0100
TZOFFSETTO:+0200
TZNAME:CEST
DTSTART:20230326T010000
END:DAYLIGHT
BEGIN:STANDARD
TZOFFSETFROM:+0200
TZOFFSETTO:+0100
TZNAME:CET
DTSTART:20231029T010000
END:STANDARD
BEGIN:DAYLIGHT
TZOFFSETFROM:+0100
TZOFFSETTO:+0200
TZNAME:CEST
DTSTART:20240331T010000
END:DAYLIGHT
BEGIN:STANDARD
TZOFFSETFROM:+0200
TZOFFSETTO:+0100
TZNAME:CET
DTSTART:20241027T010000
END:STANDARD
BEGIN:DAYLIGHT
TZOFFSETFROM:+0100
TZOFFSETTO:+0200
TZNAME:CEST
DTSTART:20250330T010000
END:DAYLIGHT
BEGIN:STANDARD
TZOFFSETFROM:+0200
TZOFFSETTO:+0100
TZNAME:CET
DTSTART:20251026T010000
END:STANDARD
BEGIN:DAYLIGHT
TZOFFSETFROM:+0100
TZOFFSETTO:+0200
TZNAME:CEST
DTSTART:20260329T010000
END:DAYLIGHT
BEGIN:STANDARD
TZOFFSETFROM:+0200
TZOFFSETTO:+0100
TZNAME:CET
DTSTART:20261025T010000
END:STANDARD
END:VTIMEZONE
BEGIN:VEVENT
DTSTART;TZID=Europe/Berlin:20251022T130000
DTEND;TZID=Europe/Berlin:20251022T170000
DTSTAMP:20260420T213122
CREATED:20250831T230023Z
LAST-MODIFIED:20251020T081235Z
UID:8989-1761138000-1761152400@kalender.seniorinnen.wien
SUMMARY:LEIDER ABGESAGT Erste Hilfe für Senior:innen
DESCRIPTION:LEIDER MUSSTE DER KURS ABGESAGT WERDEN. \nWie erkenne ich einen Schlaganfall? Wie helfe ich bei einem Herzinfarkt\, Schlaganfall oder Zuckerschock? Gerade mit zunehmendem Alter ist es hilfreich auf Notfälle vorbereitet zu sein.\nIm Erste-Hilfe-Kurs für Senior:innen frischen die Johanniter ihr Erste-Hilfe-Wissen auf. Gemeinsam mit gleichgesinnten Personen lernen Sie die wichtigsten Schritte der Ersten Hilfe. Neben den lebensrettenden Sofortmaßnahmen erfahren Sie\, wie akute Erkrankungen erkannt und versorgt werden. Viele praktische Übungen helfen\, Sicherheit zu gewinnen.\nVor allem aber wird in diesem Kurs gezielt auf die individuellen Interessen und Wünsche der Teilnehmenden sowie auf seniorenspezifische Notfälle\, wie Stürze und Möglichkeiten der Prävention eingegangen. \n4 Stunden – aus Liebe zum Leben! \nInhalte\n• Rettungskette und Notruf-Herz-Lungen-Wiederbelebung (nach den neuesten ERC Guidelines)\n• Maßnahmen bei plötzlichen Erkrankungen wie beispielsweise Schlaganfall oder Herzinfarkt\n• Zuckerkrankheit\n• Sturz mit Knochenbruch \nAnmeldung bitte unter: \nTel.: 01 470 70 30 2259\nE-Mail: erstehilfe.wien@johanniter.at \nBitte das Kennwort Seniorenmonat 2025 angeben. \nFoto: Freepik
URL:https://kalender.seniorinnen.wien/event/erste-hilfe-fuer-seniorinnen-2/
LOCATION:Johanniter Residenz Schichtgründe\, Satzingerweg 62 (EG)\, Wien\, 1210
CATEGORIES:Monat der Senior:innen
ATTACH;FMTTYPE=image/jpeg:https://kalender.seniorinnen.wien/wp-content/uploads/2025/08/altere-frau-fiel-auf-den-boden-scaled-e1755782202530.jpg
ORGANIZER;CN="Johanniter":MAILTO:erstehilfe.wien@johanniter.at
END:VEVENT
BEGIN:VEVENT
DTSTART;TZID=Europe/Berlin:20241023T130000
DTEND;TZID=Europe/Berlin:20241023T170000
DTSTAMP:20260420T213122
CREATED:20240822T145514Z
LAST-MODIFIED:20240911T122838Z
UID:6231-1729688400-1729702800@kalender.seniorinnen.wien
SUMMARY:Erste Hilfe für Senior:innen
DESCRIPTION:Wie erkenne ich einen Schlaganfall? \nWie helfe ich bei einem Herzinfarkt oder Zuckerschock? \nWie vermeide ich Stürze? \nGerade mit zunehmendem Alter ist es hilfreich\, auf Notfälle vorbereitet zu sein. Im Erste-Hilfe-Kurs extra für Senior:innen frischen die Johanniter Ihr Erste-Hilfe-Wissen auf. Neben den lebensrettenden Sofortmaßnahmen erfahren Sie\, wie akute Erkrankungen erkannt und in der Praxis versorgt werden. \nOrt: Johanniter Residenz Schichtgründe\, 1210 Wien\, Satzingerweg 62 (EG)\nAnmeldung: 2.9. bis 22.10.2024\nTel.: 01 47 07 03 022 59\nE-Mail: erstehilfe.wien@johanniter.at\nWeitere Informationen: Bitte das Kennwort „Senior:innenmonat 2024“ angeben \nFoto: Nadine Studeny
URL:https://kalender.seniorinnen.wien/event/erste-hilfe-fuer-seniorinnen/
LOCATION:Johanniter Residenz Schichtgründe\, Satzingerweg 62 (EG)\, Wien\, 1210
CATEGORIES:Fit und Gesund,Information,Monat der Senior:innen,Selbstfürsorge
ATTACH;FMTTYPE=image/jpeg:https://kalender.seniorinnen.wien/wp-content/uploads/2024/08/nadinestudenyphotography39_34A1170-scaled-e1724338470668.jpg
ORGANIZER;CN="Johanniter":MAILTO:erstehilfe.wien@johanniter.at
END:VEVENT
BEGIN:VEVENT
DTSTART;TZID=Europe/Berlin:20231025T130000
DTEND;TZID=Europe/Berlin:20231025T170000
DTSTAMP:20260420T213122
CREATED:20230810T075101Z
LAST-MODIFIED:20230811T090551Z
UID:3584-1698238800-1698253200@kalender.seniorinnen.wien
SUMMARY:Monat der Senior:innen: Erste-Hilfe-Kurs für Senior:innen
DESCRIPTION:Wie setze ich einen Notruf ab? Was ist neu bei der Herz-Druck-Massage? Was tun bei Schlaganfall\, Herzinfarkt oder Zuckerentgleisung? Diese und viele weitere Fragen werden im Erste-Hilfe-Kurs behandelt. \nKosten: freie Spende \nDie Teilnehmer:innenzahl ist auf 20 Personen beschränkt. Bitte melden Sie sich von 1.9. bis 15.10.2023 an unter  01/470 70 30-2259 oder unter erstehilfe.wien@johanniter.at \nSollten Sie nicht an der Veranstaltung teilnehmen können\, sagen Sie bitte ab. So haben Interessierte die Möglichkeit\, Ihren Platz einzunehmen. \nAuf vielen Veranstaltungen wird fotografiert und/oder gefilmt. Mit der Teilnahme an einer Veranstaltung stimmen Sie einer möglichen Veröffentlichung auf Websites\, Social Media-Kanälen\, Print- und Onlinemedien und dergleichen zu.
URL:https://kalender.seniorinnen.wien/event/erste-hilfe-kurs-fuer-seniorinnen/
LOCATION:Johanniter Residenz Schichtgründe\, Satzingerweg 62 (EG)\, Wien\, 1210
CATEGORIES:Monat der Senior:innen
END:VEVENT
END:VCALENDAR