BEGIN:VCALENDAR
VERSION:2.0
PRODID:-//Wien für Senior:innen - ECPv6.15.17.1//NONSGML v1.0//EN
CALSCALE:GREGORIAN
METHOD:PUBLISH
X-WR-CALNAME:Wien für Senior:innen
X-ORIGINAL-URL:https://kalender.seniorinnen.wien
X-WR-CALDESC:Veranstaltungen für Wien für Senior:innen
REFRESH-INTERVAL;VALUE=DURATION:PT1H
X-Robots-Tag:noindex
X-PUBLISHED-TTL:PT1H
BEGIN:VTIMEZONE
TZID:Europe/Berlin
BEGIN:DAYLIGHT
TZOFFSETFROM:+0100
TZOFFSETTO:+0200
TZNAME:CEST
DTSTART:20210328T010000
END:DAYLIGHT
BEGIN:STANDARD
TZOFFSETFROM:+0200
TZOFFSETTO:+0100
TZNAME:CET
DTSTART:20211031T010000
END:STANDARD
BEGIN:DAYLIGHT
TZOFFSETFROM:+0100
TZOFFSETTO:+0200
TZNAME:CEST
DTSTART:20220327T010000
END:DAYLIGHT
BEGIN:STANDARD
TZOFFSETFROM:+0200
TZOFFSETTO:+0100
TZNAME:CET
DTSTART:20221030T010000
END:STANDARD
BEGIN:DAYLIGHT
TZOFFSETFROM:+0100
TZOFFSETTO:+0200
TZNAME:CEST
DTSTART:20230326T010000
END:DAYLIGHT
BEGIN:STANDARD
TZOFFSETFROM:+0200
TZOFFSETTO:+0100
TZNAME:CET
DTSTART:20231029T010000
END:STANDARD
END:VTIMEZONE
BEGIN:VEVENT
DTSTART;TZID=Europe/Berlin:20221102T173000
DTEND;TZID=Europe/Berlin:20221102T190000
DTSTAMP:20260420T152948
CREATED:20221027T104059Z
LAST-MODIFIED:20221027T104059Z
UID:3185-1667410200-1667415600@kalender.seniorinnen.wien
SUMMARY:Projekt-Präsentation: AALbin - Aktiv im Alter mit Digitalisierung
DESCRIPTION:Senior:innen Lust auf Digitalisierung machen – das hat das Projekt AALbin im IBA-Quartier Per-Albin-Hansson-Siedlung zum Ziel. Die Stadt Wien – Wiener Wohnen ermutigt ihre älteren Mieter:innen\, sich aktiv mit neuen Technologien und deren Möglichkeiten auseinander zu setzen und neue digitale Begegnungsräume kennenzulernen. Im Vortrag werden Herausforderungen und Potentiale in der Anwendung digitaler Technologie bei Senior:innen beleuchtet. Freuen Sie sich auf den Austausch mit den Gästen: \n\nTanja Werneck (Wiener Wohnen Kundenservice\, Projektleitung AALbin)\nJulia Sauskojus (UIV – Urban Innovation Vienna GmbH\, operative Umsetzung vom Projekt AALbin)\nAALbin-Teilnehmer:innen\nSabine Hofer-Gruber (Senior:innenbeauftragte der Stadt Wien)\nModeration: Julia Girardi-Hoog (Wiener Wohnen\, Leitung des Fachbereiches Soziale Services)\n\nBitte melden Sie sich mittels Online-Anmeldung für die Veranstaltung an. \n  \n(c) Stadt Wien- Wiener Wohnen/fotografiefetz
URL:https://kalender.seniorinnen.wien/event/projekt-praesentation-aalbin-aktiv-im-alter-mit-digitalisierung/
LOCATION:IBA-Zentrum\, Nordwestbahnstraße 16\, Wien\, 1220
CATEGORIES:Bildung,Digital und Online
ATTACH;FMTTYPE=image/jpeg:https://kalender.seniorinnen.wien/wp-content/uploads/2022/10/csm_221102_AAlbin_2__c__Stadt_Wien_Wiener_Wohnen_fotografiefetz_c74b311219.jpg
END:VEVENT
BEGIN:VEVENT
DTSTART;TZID=Europe/Berlin:20221017T100000
DTEND;TZID=Europe/Berlin:20221017T113000
DTSTAMP:20260420T152948
CREATED:20220725T091104Z
LAST-MODIFIED:20220822T084355Z
UID:2795-1666000800-1666006200@kalender.seniorinnen.wien
SUMMARY:Monat der Senior:innen: Ausstellungsführung „Wie wohnen wir morgen?“
DESCRIPTION:Mit der IBA_Wien 2022 wurde erstmals in Wien eine Internationale Bauausstellung ins Leben gerufen. Wien stellt sich damit die Aufgabe wegweisende Lösungsvorschläge und Zugänge zu den Herausforderungen unserer Zeit zu entwickeln. Im Zentrum steht das Thema des „neuen sozialen Wohnens“. Zahlreiche Neuentwicklungen zum Thema „Wie wohnen wir morgen?“ wurden geplant. Projektleiter:innen führen Sie exklusiv durch die Ausstellungsführung und geben einen Überblick über die internationale Bauaustellung. \nDie Teilnehmer:innenanzahl ist auf 20 Personen beschränkt. Melden Sie sich ab 01.09.2022 bis 2.10.2022 telefonisch über 01 /24 5 24 – FSW-Kund:innentelefon für die Veranstaltung an. \nSollten Sie trotz Anmeldung nicht an der Veranstaltung teilnehmen können\, sagen Sie bitte ab. So haben weitere Interessierte die Möglichkeit Ihren Platz einzunehmen. \nBitte beachten Sie: Aufgrund COVID-19 sind kurzfristige Änderungen oder auch Absagen möglich. Das Team der Senior:innenbeauftragten und die Veranstalter:innen bitten um Verständnis. \n(c) IBA_Wien_J.Fetz
URL:https://kalender.seniorinnen.wien/event/monat-der-seniorinnen-ausstellungsfuehrung-wie-wohnen-wir-morgen-2/
LOCATION:IBA-Zentrum\, Nordwestbahnstraße 16\, Wien\, 1220
CATEGORIES:Monat der Senior:innen
ATTACH;FMTTYPE=image/jpeg:https://kalender.seniorinnen.wien/wp-content/uploads/2022/07/Ausstellungsfuehrungen-SeniorInnen-cIBA_Wien_J.Fetz_.jpg
END:VEVENT
BEGIN:VEVENT
DTSTART;TZID=Europe/Berlin:20221003T100000
DTEND;TZID=Europe/Berlin:20221003T113000
DTSTAMP:20260420T152948
CREATED:20220725T090834Z
LAST-MODIFIED:20220822T084357Z
UID:2787-1664791200-1664796600@kalender.seniorinnen.wien
SUMMARY:Monat der Senior:innen: Ausstellungsführung „Wie wohnen wir morgen?“
DESCRIPTION:Mit der IBA_Wien 2022 wurde erstmals in Wien eine Internationale Bauausstellung ins Leben gerufen. Wien stellt sich damit die Aufgabe wegweisende Lösungsvorschläge und Zugänge zu den Herausforderungen unserer Zeit zu entwickeln. Im Zentrum steht das Thema des „neuen sozialen Wohnens“. Zahlreiche Neuentwicklungen zum Thema „Wie wohnen wir morgen?“ wurden geplant. Projektleiter:innen führen Sie exklusiv durch die Ausstellungsführung und geben einen Überblick über die internationale Bauaustellung. \nDie Teilnehmer:innenanzahl ist auf 20 Personen beschränkt. Melden Sie sich ab 01.09.2022 bis 2.10.2022 telefonisch über 01 /24 5 24 – FSW-Kund:innentelefon für die Veranstaltung an. \nSollten Sie trotz Anmeldung nicht an der Veranstaltung teilnehmen können\, sagen Sie bitte ab. So haben weitere Interessierte die Möglichkeit Ihren Platz einzunehmen. \nBitte beachten Sie: Aufgrund COVID-19 sind kurzfristige Änderungen oder auch Absagen möglich. Das Team der Senior:innenbeauftragten und die Veranstalter:innen bitten um Verständnis. \n(c) IBA_Wien_J.Fetz
URL:https://kalender.seniorinnen.wien/event/monat-der-seniorinnen-ausstellungsfuehrung-wie-wohnen-wir-morgen/
LOCATION:IBA-Zentrum\, Nordwestbahnstraße 16\, Wien\, 1220
CATEGORIES:Monat der Senior:innen
ATTACH;FMTTYPE=image/jpeg:https://kalender.seniorinnen.wien/wp-content/uploads/2022/07/Ausstellungsfuehrungen-SeniorInnen-cIBA_Wien_J.Fetz_.jpg
END:VEVENT
END:VCALENDAR