BEGIN:VCALENDAR
VERSION:2.0
PRODID:-//Wien für Senior:innen - ECPv6.15.17.1//NONSGML v1.0//EN
CALSCALE:GREGORIAN
METHOD:PUBLISH
X-ORIGINAL-URL:https://kalender.seniorinnen.wien
X-WR-CALDESC:Veranstaltungen für Wien für Senior:innen
REFRESH-INTERVAL;VALUE=DURATION:PT1H
X-Robots-Tag:noindex
X-PUBLISHED-TTL:PT1H
BEGIN:VTIMEZONE
TZID:Europe/Berlin
BEGIN:DAYLIGHT
TZOFFSETFROM:+0100
TZOFFSETTO:+0200
TZNAME:CEST
DTSTART:20220327T010000
END:DAYLIGHT
BEGIN:STANDARD
TZOFFSETFROM:+0200
TZOFFSETTO:+0100
TZNAME:CET
DTSTART:20221030T010000
END:STANDARD
BEGIN:DAYLIGHT
TZOFFSETFROM:+0100
TZOFFSETTO:+0200
TZNAME:CEST
DTSTART:20230326T010000
END:DAYLIGHT
BEGIN:STANDARD
TZOFFSETFROM:+0200
TZOFFSETTO:+0100
TZNAME:CET
DTSTART:20231029T010000
END:STANDARD
BEGIN:DAYLIGHT
TZOFFSETFROM:+0100
TZOFFSETTO:+0200
TZNAME:CEST
DTSTART:20240331T010000
END:DAYLIGHT
BEGIN:STANDARD
TZOFFSETFROM:+0200
TZOFFSETTO:+0100
TZNAME:CET
DTSTART:20241027T010000
END:STANDARD
BEGIN:DAYLIGHT
TZOFFSETFROM:+0100
TZOFFSETTO:+0200
TZNAME:CEST
DTSTART:20250330T010000
END:DAYLIGHT
BEGIN:STANDARD
TZOFFSETFROM:+0200
TZOFFSETTO:+0100
TZNAME:CET
DTSTART:20251026T010000
END:STANDARD
BEGIN:DAYLIGHT
TZOFFSETFROM:+0100
TZOFFSETTO:+0200
TZNAME:CEST
DTSTART:20260329T010000
END:DAYLIGHT
BEGIN:STANDARD
TZOFFSETFROM:+0200
TZOFFSETTO:+0100
TZNAME:CET
DTSTART:20261025T010000
END:STANDARD
END:VTIMEZONE
BEGIN:VEVENT
DTSTART;TZID=Europe/Berlin:20251015T150000
DTEND;TZID=Europe/Berlin:20251015T180000
DTSTAMP:20260423T121629
CREATED:20250831T230052Z
LAST-MODIFIED:20250828T121008Z
UID:9090-1760540400-1760551200@kalender.seniorinnen.wien
SUMMARY:Penzinger Senior:innen-Nachmittag
DESCRIPTION:Die Veranstaltung richtet sich an alle neugierigen und unternehmungslustigen Menschen 60+ aus Penzing\, die selbst bestimmt sind und bleiben wollen. Organisationen und Fachleute stellen sich vor und beraten bei Kaffee und Kuchen. Zudem gibt es für die Besucher:innen aktivierende Bewegungseinheiten\, Musik und Tanz\, aber auch spannende Vorträge zu den Themen Gesundheit und Sicherheit. \nKeine Anmeldung erforderlich. \nFoto: Martina Berger
URL:https://kalender.seniorinnen.wien/event/penzinger-seniorinnen-nachmittag/
LOCATION:Hütteldorferstraße 188\, Hütteldorfer Straße 188\, Wien\, Wien\, 1140
CATEGORIES:Monat der Senior:innen
ATTACH;FMTTYPE=image/jpeg:https://kalender.seniorinnen.wien/wp-content/uploads/2023/08/amtshaus-bv14_f2e2f07c9d9b49468c74d5663e9663c8-e1756382983117.jpg
ORGANIZER;CN="Bezirksvorstehung Penzing":MAILTO:Claudia.exenberger@wien.gv.at
END:VEVENT
BEGIN:VEVENT
DTSTART;TZID=Europe/Berlin:20230928T170000
DTEND;TZID=Europe/Berlin:20230928T183000
DTSTAMP:20260423T121629
CREATED:20230809T153909Z
LAST-MODIFIED:20230811T071931Z
UID:3495-1695920400-1695925800@kalender.seniorinnen.wien
SUMMARY:Monat der Senior:innen: Geh-Café Demenzfreundliches Penzing
DESCRIPTION:Was kann eine Stadt\, ein Bezirk tun\, um möglichst allen Menschen einen passenden öffentlichen Lebensraum zu schaffen? Wien zu Fuß\, der Bezirk Penzing und die Senior:innenbeauftragte der\nStadt Wien\, Sabine Hofer-Gruber\, spazieren mit Ihnen durch das demenzfreundliche Penzing. Zum Ausklang der Tour gibt es im Pop-Up-Café viel Raum für gute Gespräche bei Erfrischungen\nund kleinen Snacks. \nDie Teilnehmer:innenanzahl ist beschränkt. Bitte melden Sie sich ab 1.9.2023 unter 01/4000 49900 oder www.wienzufuss.at/geh-cafe an. \nSollten Sie trotz Anmeldung nicht an der Veranstaltung teilnehmen können\, sagen Sie bitte ab. So haben Interessierte die Möglichkeit\, Ihren Platz einzunehmen. \nAuf vielen Veranstaltungen wird fotografiert und/oder gefilmt. Mit der Teilnahme an einer Veranstaltung stimmen Sie einer möglichen Veröffentlichung auf Websites\, Social Media-Kanälen\, Print- und Onlinemedien und dergleichen zu. \n(c) Christian Fürthner
URL:https://kalender.seniorinnen.wien/event/monat-der-seniorinnen-geh-cafe-demenzfreundliches-penzing/
LOCATION:Hütteldorferstraße 188\, Hütteldorfer Straße 188\, Wien\, Wien\, 1140
CATEGORIES:Monat der Senior:innen
ATTACH;FMTTYPE=image/jpeg:https://kalender.seniorinnen.wien/wp-content/uploads/2023/08/20211007_GehCafe_Hanson_Siedlung_078-scaled.jpg
ORGANIZER;CN="Wien zu Fu%C3%9F":MAILTO:office@mobilitaetsagentur.at
END:VEVENT
END:VCALENDAR