BEGIN:VCALENDAR
VERSION:2.0
PRODID:-//Wien für Senior:innen - ECPv6.15.17.1//NONSGML v1.0//EN
CALSCALE:GREGORIAN
METHOD:PUBLISH
X-ORIGINAL-URL:https://kalender.seniorinnen.wien
X-WR-CALDESC:Veranstaltungen für Wien für Senior:innen
REFRESH-INTERVAL;VALUE=DURATION:PT1H
X-Robots-Tag:noindex
X-PUBLISHED-TTL:PT1H
BEGIN:VTIMEZONE
TZID:Europe/Berlin
BEGIN:DAYLIGHT
TZOFFSETFROM:+0100
TZOFFSETTO:+0200
TZNAME:CEST
DTSTART:20220327T010000
END:DAYLIGHT
BEGIN:STANDARD
TZOFFSETFROM:+0200
TZOFFSETTO:+0100
TZNAME:CET
DTSTART:20221030T010000
END:STANDARD
BEGIN:DAYLIGHT
TZOFFSETFROM:+0100
TZOFFSETTO:+0200
TZNAME:CEST
DTSTART:20230326T010000
END:DAYLIGHT
BEGIN:STANDARD
TZOFFSETFROM:+0200
TZOFFSETTO:+0100
TZNAME:CET
DTSTART:20231029T010000
END:STANDARD
BEGIN:DAYLIGHT
TZOFFSETFROM:+0100
TZOFFSETTO:+0200
TZNAME:CEST
DTSTART:20240331T010000
END:DAYLIGHT
BEGIN:STANDARD
TZOFFSETFROM:+0200
TZOFFSETTO:+0100
TZNAME:CET
DTSTART:20241027T010000
END:STANDARD
BEGIN:DAYLIGHT
TZOFFSETFROM:+0100
TZOFFSETTO:+0200
TZNAME:CEST
DTSTART:20250330T010000
END:DAYLIGHT
BEGIN:STANDARD
TZOFFSETFROM:+0200
TZOFFSETTO:+0100
TZNAME:CET
DTSTART:20251026T010000
END:STANDARD
BEGIN:DAYLIGHT
TZOFFSETFROM:+0100
TZOFFSETTO:+0200
TZNAME:CEST
DTSTART:20260329T010000
END:DAYLIGHT
BEGIN:STANDARD
TZOFFSETFROM:+0200
TZOFFSETTO:+0100
TZNAME:CET
DTSTART:20261025T010000
END:STANDARD
BEGIN:DAYLIGHT
TZOFFSETFROM:+0100
TZOFFSETTO:+0200
TZNAME:CEST
DTSTART:20270328T010000
END:DAYLIGHT
BEGIN:STANDARD
TZOFFSETFROM:+0200
TZOFFSETTO:+0100
TZNAME:CET
DTSTART:20271031T010000
END:STANDARD
END:VTIMEZONE
BEGIN:VEVENT
DTSTART;TZID=Europe/Berlin:20260324T190000
DTEND;TZID=Europe/Berlin:20260324T190000
DTSTAMP:20260420T195029
CREATED:20260310T093555Z
LAST-MODIFIED:20260310T094631Z
UID:12417-1774378800-1774378800@kalender.seniorinnen.wien
SUMMARY:Lesung mit Theresa Prammer
DESCRIPTION:Theresa Prammer: „Ausgespielt“\nDie exklusive Dating-App „AMOR“ gerät ins Visier der Ermittlerin Liv Dorn\, als eine Nutzerin der Plattform ermordet wird. Es bleibt nicht bei diesem Opfer und die Kommissarin trifft die folgenschwere Entscheidung\, sich unter einer falschen Identität selbst dort anzumelden\, um dem Täter auf die Schliche zu kommen. Bald schon gerät sie auf die Spur eines ungelösten Falls aus den 80er-Jahren\, in dem auch ein Dating-Unternehmen eine Rolle spielte. Liv verstrickt sich in ein Netz aus Ungereimtheiten und kommt dabei einem Verdächtigen immer näher. Doch diese Nähe bringt auch sie selbst in Gefahr. \nOrt: „Haus des Sehens“ – Hörbücherei des BSVÖ\nHietzinger Kai 85\, 1130 Wien (barrierefreier Zugang) \nEintritt frei! \nAnmeldung für einen Sitzplatz vor Ort:\nE-Mail:  reservierung@hoerbuecherei.at\nTel.: 01 98 27 584-230\nFax: 01 98 27 584-235
URL:https://kalender.seniorinnen.wien/event/lesung-mit-theresa-prammer/
LOCATION:Hörbücherei des BSVÖ\, Hietzinger Kai 85\, Wien\, 1130
CATEGORIES:Kunst und Kultur,Unterhaltung
ATTACH;FMTTYPE=image/png:https://kalender.seniorinnen.wien/wp-content/uploads/2025/01/Unbenannt-e1738076723498.png
END:VEVENT
BEGIN:VEVENT
DTSTART;TZID=Europe/Berlin:20260224T190000
DTEND;TZID=Europe/Berlin:20260224T190000
DTSTAMP:20260420T195029
CREATED:20260204T135946Z
LAST-MODIFIED:20260204T140113Z
UID:11756-1771959600-1771959600@kalender.seniorinnen.wien
SUMMARY:Lesung mit Renate Welsh
DESCRIPTION:Renate Welsh: „Ich fall mir selbst ins Wort“\nOrt: „Haus des Sehens“ – Hörbücherei des BSVÖ\nHietzinger Kai 85\, 1130 Wien (barrierefreier Zugang) \nEintritt frei! \nAnmeldung für einen Sitzplatz vor Ort:\nE-Mail:  reservierung@hoerbuecherei.at\nTel.: 01 98 27 584-230\nFax: 01 98 27 584-235
URL:https://kalender.seniorinnen.wien/event/lesung-mit-renate-welsh/
LOCATION:Hörbücherei des BSVÖ\, Hietzinger Kai 85\, Wien\, 1130
CATEGORIES:Barrierefrei,Kunst und Kultur,Unterhaltung
ATTACH;FMTTYPE=image/png:https://kalender.seniorinnen.wien/wp-content/uploads/2025/01/Unbenannt-e1738076723498.png
END:VEVENT
BEGIN:VEVENT
DTSTART;TZID=Europe/Berlin:20250225T190000
DTEND;TZID=Europe/Berlin:20250225T210000
DTSTAMP:20260420T195029
CREATED:20250128T150531Z
LAST-MODIFIED:20250128T150531Z
UID:7296-1740510000-1740517200@kalender.seniorinnen.wien
SUMMARY:„Der Fall der Fantasie“: Lesung mit Markus Grundtner
DESCRIPTION:Am 25. Februar wird Markus Grundtner mit seinem Roman „Der Fall der Fantasie“ bei uns zu Gast sein. \nEin Buch über die Justiz und über die Welt der Pen-&-Paper-Rollenspiele. \nDer Protagonist Anatol Altmann ist beruflich frustrierter Strafverteidiger und privat penibler Pen-&-Paper-Rollenspieler. Da passiert etwas: Er erhält das einmalige Angebot\, sein Leben gegen ein neues in einer fantastischen Zwischenwelt zu tauschen. Im Sprengel des Höchsten Gerichtshofs bekommt er die Möglichkeit\, Gerechtigkeit zu bewirken statt nur Recht durchzusetzen. Durch das Nachspielen von Gerichtsakten mit Würfeln\, Stift und Papier. \nDoch die Allmacht der Gerechtigkeitskorrektur ist nicht\, was sie scheint. Sie entpuppt sich als brandgefährlich für seine Ideale und seine Existenz. \n  \nTermin: Dienstag\, 25. Februar\, 19 Uhr \nHörbücherei – „Haus des Sehens“ Hietzinger Kai 85\, 1130 Wien \nAnmeldung für einen Sitzplatz vor Ort: \n\nE-Mail: reservierung@hoerbuecherei.at\nTel.     01-9827584-230\nFax     01-9827584-235
URL:https://kalender.seniorinnen.wien/event/der-fall-der-fantasie-lesung-mit-markus-grundtner/
LOCATION:Hörbücherei des BSVÖ\, Hietzinger Kai 85\, Wien\, 1130
CATEGORIES:Unterhaltung
ATTACH;FMTTYPE=image/png:https://kalender.seniorinnen.wien/wp-content/uploads/2025/01/Unbenannt-e1738076723498.png
END:VEVENT
BEGIN:VEVENT
DTSTART;TZID=Europe/Berlin:20240423T190000
DTEND;TZID=Europe/Berlin:20240423T200000
DTSTAMP:20260420T195029
CREATED:20240404T072646Z
LAST-MODIFIED:20240404T072646Z
UID:5615-1713898800-1713902400@kalender.seniorinnen.wien
SUMMARY:Krimi-Lesung „Kärntner Ritterspiel“
DESCRIPTION:Andreas Pittler liest aus seinem brandneuen Krimi „Kärntner Ritterspiel“. \nDarum geht’s: \nGerade ist der zweite Fall rund um die Ferlacher Polizisten Obiltschnig und Popatnig erschienen. Diesmal geht es für die beiden Ermittler nicht nur von Ferlach nach St. Veit\, sondern auch auf Zeitreise: Auf der Burg Hochosterwitz wird eine Leiche entdeckt\, kurz bevor dort das alljährliche Mittelalterfest über die Bühne gehen soll. Dann stellt sich auch noch heraus\, dass der Ermordete selbst einer der Schausteller war. Obiltschnig und Popatnig haben alle Hände voll zu tun und es bleibt ihnen nur wenig Zeit\, um das Verbrechen aufzulösen. \nTermin: Dienstag 23. April 2024\, 19:00 Uhr \nOrt: Hörbücherei – „Haus des Sehens“ Hietzinger Kai 85\, 1130 Wien \n  \nAnmeldung für einen Sitzplatz vor Ort: \nE-Mail: reservierung@hoerbuecherei.at \nTel: 01-9827584-230
URL:https://kalender.seniorinnen.wien/event/krimi-lesung-kaerntner-ritterspiel/
LOCATION:Hörbücherei des BSVÖ\, Hietzinger Kai 85\, Wien\, 1130
CATEGORIES:Kunst und Kultur,Unterhaltung
END:VEVENT
BEGIN:VEVENT
DTSTART;TZID=Europe/Berlin:20240227T190000
DTEND;TZID=Europe/Berlin:20240227T200000
DTSTAMP:20260420T195029
CREATED:20240206T084427Z
LAST-MODIFIED:20240206T120942Z
UID:4996-1709060400-1709064000@kalender.seniorinnen.wien
SUMMARY:"Ein tödlicher Jahrgang" – Krimi-Lesung von Beate Maxian
DESCRIPTION:Literaturinteressierte\, aufgepasst! Die Autorin Beate Maxian stellt ihren Krimi „Ein tödlicher Jahrgang“ vor\, der in der idyllischen Wachau spielt. \nDie Lesung findet am Dienstag\, 27. Februar 2024 um 19 Uhr in der Hörbücherei – „Haus des Sehens“ statt (Hietzinger Kai 85\, 1130 Wien). \nLou Conrad\, ehemalige Inspektorin und Winzertochter\, führt in ihrer Heimat\, der malerischen Wachau\, ein Delikatessengeschäft und genießt ihr Leben. Doch beim herbstlichen Weinfest wird ein renommierter Winzer tot aufgefunden. Welche dunklen Geheimnisse hatte der Rieslingkönig und was gärt wirklich in seinen Fässern? Mit ihrem Freund und Sternekoch Fabio und dem Berner Sennenhund Michelin an ihrer Seite stürzt sich Lou fieberhaft in die Ermittlungen. \nMelden Sie sich für einen Sitzplatz an:\nE-Mail  reservierung@hoerbuecherei.at\nTel     01-9827584-230\nFax     01-9827584-235
URL:https://kalender.seniorinnen.wien/event/ein-toedlicher-jahrgang-krimi-lesung-von-beate-maxian/
LOCATION:Hörbücherei des BSVÖ\, Hietzinger Kai 85\, Wien\, 1130
CATEGORIES:Kunst und Kultur
END:VEVENT
BEGIN:VEVENT
DTSTART;TZID=Europe/Berlin:20231205T190000
DTEND;TZID=Europe/Berlin:20231205T200000
DTSTAMP:20260420T195029
CREATED:20231116T093828Z
LAST-MODIFIED:20231116T093828Z
UID:4607-1701802800-1701806400@kalender.seniorinnen.wien
SUMMARY:Krimi-Lesung: Ein tödlicher Jahrgang
DESCRIPTION:Die Autorin Beate Maxian stellt ihren in der idyllischen Wachau spielenden Krimi „Ein tödlicher Jahrgang“ vor. \nAnmeldung für einen Sitzplatz:\nE-Mail  reservierung@hoerbuecherei.at\nTel     01-9827584-236
URL:https://kalender.seniorinnen.wien/event/krimi-lesung-ein-toedlicher-jahrgang/
LOCATION:Hörbücherei des BSVÖ\, Hietzinger Kai 85\, Wien\, 1130
CATEGORIES:Unterhaltung
END:VEVENT
END:VCALENDAR