BEGIN:VCALENDAR
VERSION:2.0
PRODID:-//Wien für Senior:innen - ECPv6.15.17.1//NONSGML v1.0//EN
CALSCALE:GREGORIAN
METHOD:PUBLISH
X-WR-CALNAME:Wien für Senior:innen
X-ORIGINAL-URL:https://kalender.seniorinnen.wien
X-WR-CALDESC:Veranstaltungen für Wien für Senior:innen
REFRESH-INTERVAL;VALUE=DURATION:PT1H
X-Robots-Tag:noindex
X-PUBLISHED-TTL:PT1H
BEGIN:VTIMEZONE
TZID:Europe/Berlin
BEGIN:DAYLIGHT
TZOFFSETFROM:+0100
TZOFFSETTO:+0200
TZNAME:CEST
DTSTART:20250330T010000
END:DAYLIGHT
BEGIN:STANDARD
TZOFFSETFROM:+0200
TZOFFSETTO:+0100
TZNAME:CET
DTSTART:20251026T010000
END:STANDARD
BEGIN:DAYLIGHT
TZOFFSETFROM:+0100
TZOFFSETTO:+0200
TZNAME:CEST
DTSTART:20260329T010000
END:DAYLIGHT
BEGIN:STANDARD
TZOFFSETFROM:+0200
TZOFFSETTO:+0100
TZNAME:CET
DTSTART:20261025T010000
END:STANDARD
BEGIN:DAYLIGHT
TZOFFSETFROM:+0100
TZOFFSETTO:+0200
TZNAME:CEST
DTSTART:20270328T010000
END:DAYLIGHT
BEGIN:STANDARD
TZOFFSETFROM:+0200
TZOFFSETTO:+0100
TZNAME:CET
DTSTART:20271031T010000
END:STANDARD
END:VTIMEZONE
BEGIN:VEVENT
DTSTART;TZID=Europe/Berlin:20260505T160000
DTEND;TZID=Europe/Berlin:20260505T173000
DTSTAMP:20260421T115903
CREATED:20260330T133003Z
LAST-MODIFIED:20260330T133003Z
UID:12497-1777996800-1778002200@kalender.seniorinnen.wien
SUMMARY:Vergessen? Demenz? Reden wir darüber!
DESCRIPTION:Informationsmöglichkeit und Austausch zum Thema Vergesslichkeit und Demenz\nNetzwerk demenzfreundlicher 23. Bezirk \nDienstag\, 5. Mai 2026\, 16 bis 17:30 Uhr\nHeuriger EDLMOSER\nMaurer Lange Gasse 123\, 1230 Wien \nErreichbar mit der Autobuslinie 60A \nBitte-wenn möglich-um Anmeldung: petra.hausteiner@cs.at\nEintritt frei \nFoto: Pixabay
URL:https://kalender.seniorinnen.wien/event/vergessen-demenz-reden-wir-darueber-6/
LOCATION:Heuriger Edlmoser\, Maurer Lange Gasse 123\, Wien\, 1230\, Österreich
CATEGORIES:Demenz,Information
ATTACH;FMTTYPE=image/jpeg:https://kalender.seniorinnen.wien/wp-content/uploads/2025/08/Schriftzug-Demenz-©Pixabay-e1754396077386.jpg
END:VEVENT
END:VCALENDAR