BEGIN:VCALENDAR
VERSION:2.0
PRODID:-//Wien für Senior:innen - ECPv6.15.17.1//NONSGML v1.0//EN
CALSCALE:GREGORIAN
METHOD:PUBLISH
X-ORIGINAL-URL:https://kalender.seniorinnen.wien
X-WR-CALDESC:Veranstaltungen für Wien für Senior:innen
REFRESH-INTERVAL;VALUE=DURATION:PT1H
X-Robots-Tag:noindex
X-PUBLISHED-TTL:PT1H
BEGIN:VTIMEZONE
TZID:Europe/Berlin
BEGIN:DAYLIGHT
TZOFFSETFROM:+0100
TZOFFSETTO:+0200
TZNAME:CEST
DTSTART:20240331T010000
END:DAYLIGHT
BEGIN:STANDARD
TZOFFSETFROM:+0200
TZOFFSETTO:+0100
TZNAME:CET
DTSTART:20241027T010000
END:STANDARD
BEGIN:DAYLIGHT
TZOFFSETFROM:+0100
TZOFFSETTO:+0200
TZNAME:CEST
DTSTART:20250330T010000
END:DAYLIGHT
BEGIN:STANDARD
TZOFFSETFROM:+0200
TZOFFSETTO:+0100
TZNAME:CET
DTSTART:20251026T010000
END:STANDARD
BEGIN:DAYLIGHT
TZOFFSETFROM:+0100
TZOFFSETTO:+0200
TZNAME:CEST
DTSTART:20260329T010000
END:DAYLIGHT
BEGIN:STANDARD
TZOFFSETFROM:+0200
TZOFFSETTO:+0100
TZNAME:CET
DTSTART:20261025T010000
END:STANDARD
BEGIN:DAYLIGHT
TZOFFSETFROM:+0100
TZOFFSETTO:+0200
TZNAME:CEST
DTSTART:20270328T010000
END:DAYLIGHT
BEGIN:STANDARD
TZOFFSETFROM:+0200
TZOFFSETTO:+0100
TZNAME:CET
DTSTART:20271031T010000
END:STANDARD
END:VTIMEZONE
BEGIN:VEVENT
DTSTART;TZID=Europe/Berlin:20260318T160000
DTEND;TZID=Europe/Berlin:20260318T173000
DTSTAMP:20260423T105941
CREATED:20260302T073610Z
LAST-MODIFIED:20260302T073610Z
UID:12247-1773849600-1773855000@kalender.seniorinnen.wien
SUMMARY:Vergessen? Demenz? Reden wir darüber!
DESCRIPTION:Informationsmöglichkeit und Austausch zum Thema Vergesslichkeit und Demenz \nMittwoch\, 18. März 2026\, 16 bis 17:30 Uhr\nHeuriger EDLMOSER\nMaurer Lange Gasse 123\, 1230 Wien \nErreichbar mit der Autobuslinie 60A \nBitte-wenn möglich-um Anmeldung: petra.hausteiner@cs.at\nEintritt frei \nFoto: Pixabay
URL:https://kalender.seniorinnen.wien/event/vergessen-demenz-reden-wir-darueber-4/
LOCATION:Heuriger Edlmoser\, Maurer Lange Gasse 123\, Wien\, 1230\, Österreich
CATEGORIES:Demenz,Information
ATTACH;FMTTYPE=image/jpeg:https://kalender.seniorinnen.wien/wp-content/uploads/2025/08/Schriftzug-Demenz-©Pixabay-e1754396077386.jpg
END:VEVENT
BEGIN:VEVENT
DTSTART;TZID=Europe/Berlin:20250716T160000
DTEND;TZID=Europe/Berlin:20250716T173000
DTSTAMP:20260423T105941
CREATED:20220823T073014Z
LAST-MODIFIED:20250630T134609Z
UID:3018-1752681600-1752687000@kalender.seniorinnen.wien
SUMMARY:Demenz: Treffpunkt Heuriger
DESCRIPTION:Vergessen? Demenz? Reden Sie darüber beim Treffpunkt Heuriger!\nDas Netzwerk demenzfreundlicher 23. Bezirk lädt zum gemütlichen Beisammensein ein. Beim Heurigen Edlmoser haben Sie die Möglichkeit\, sich Informationen zum Thema Vergesslichkeit und Demenz zu holen bzw. sich zu den Themen auszutauschen. \nBitte melden Sie sich per E-Mail an petra.hausteiner@cs.at oder telefonisch (Tel. 01/71753-2040) für den Besuch an. \nDie Caritas Socialis Wien ist Mitglied der Plattform Demenzfreundliches Wien.
URL:https://kalender.seniorinnen.wien/event/demenz-treffpunkt-heuriger/
LOCATION:Heuriger Edlmoser\, Maurer Lange Gasse 123\, Wien\, 1230\, Österreich
CATEGORIES:Begegnung,Demenz
ATTACH;FMTTYPE=image/jpeg:https://kalender.seniorinnen.wien/wp-content/uploads/2022/08/Treffpunkt-Heuriger-scaled-e1710945041698.jpg
ORGANIZER;CN="CS Caritas Socialis GmbH":MAILTO:info@cs.at
END:VEVENT
END:VCALENDAR