BEGIN:VCALENDAR
VERSION:2.0
PRODID:-//Wien für Senior:innen - ECPv6.15.17.1//NONSGML v1.0//EN
CALSCALE:GREGORIAN
METHOD:PUBLISH
X-WR-CALNAME:Wien für Senior:innen
X-ORIGINAL-URL:https://kalender.seniorinnen.wien
X-WR-CALDESC:Veranstaltungen für Wien für Senior:innen
REFRESH-INTERVAL;VALUE=DURATION:PT1H
X-Robots-Tag:noindex
X-PUBLISHED-TTL:PT1H
BEGIN:VTIMEZONE
TZID:Europe/Berlin
BEGIN:DAYLIGHT
TZOFFSETFROM:+0100
TZOFFSETTO:+0200
TZNAME:CEST
DTSTART:20240331T010000
END:DAYLIGHT
BEGIN:STANDARD
TZOFFSETFROM:+0200
TZOFFSETTO:+0100
TZNAME:CET
DTSTART:20241027T010000
END:STANDARD
BEGIN:DAYLIGHT
TZOFFSETFROM:+0100
TZOFFSETTO:+0200
TZNAME:CEST
DTSTART:20250330T010000
END:DAYLIGHT
BEGIN:STANDARD
TZOFFSETFROM:+0200
TZOFFSETTO:+0100
TZNAME:CET
DTSTART:20251026T010000
END:STANDARD
BEGIN:DAYLIGHT
TZOFFSETFROM:+0100
TZOFFSETTO:+0200
TZNAME:CEST
DTSTART:20260329T010000
END:DAYLIGHT
BEGIN:STANDARD
TZOFFSETFROM:+0200
TZOFFSETTO:+0100
TZNAME:CET
DTSTART:20261025T010000
END:STANDARD
END:VTIMEZONE
BEGIN:VEVENT
DTSTART;TZID=Europe/Berlin:20251011T150000
DTEND;TZID=Europe/Berlin:20251011T150000
DTSTAMP:20260421T044155
CREATED:20250925T133312Z
LAST-MODIFIED:20250925T133312Z
UID:10520-1760194800-1760194800@kalender.seniorinnen.wien
SUMMARY:Musik von Komponist:innen
DESCRIPTION:Nach den erfolgreichen Konzerten der letzten Jahre im Haydnhaus\, freuen wir uns auch heuer wieder ein Konzert unter dem Titel „Musik von Komponist:innen“ im Haydnhaus veranstalten zu dürfen. \nDiesmal dreht sich alles um Klassik & Jazz! Es werden spätromantische Werke von Ethel Smyth\, sowie moderne Klassik von Margit Szekely bis zu Songs aus eigener Feder bzw. Favorites persönlicher Lieblings-Komponistinnen aus Jazz\, Pop und Soul von Philippine Duchateau\, Lisa Haag\, Peter Natterer und dem Duo Besra Alaca Pummer & Yu Chen präsentiert. \nKlassik & Jazz – mit Philippine Duchateau\, Lisa Haag\, Peter Natterer und dem Duo „Besra Alaca Pummer & Yu Chen“ \nEintritt ist frei! \n  \nFoto: Freepik \n 
URL:https://kalender.seniorinnen.wien/event/musik-von-komponistinnen/
LOCATION:Haydnhaus\, Haydngasse 19\, Wien\, Wien\, 1060\, Austria
CATEGORIES:Kunst und Kultur,Monat der Senior:innen
ATTACH;FMTTYPE=image/jpeg:https://kalender.seniorinnen.wien/wp-content/uploads/2025/09/abstract_music_notes_background_2504-scaled-e1757432292614.jpg
END:VEVENT
END:VCALENDAR