BEGIN:VCALENDAR
VERSION:2.0
PRODID:-//Wien für Senior:innen - ECPv6.15.17.1//NONSGML v1.0//EN
CALSCALE:GREGORIAN
METHOD:PUBLISH
X-ORIGINAL-URL:https://kalender.seniorinnen.wien
X-WR-CALDESC:Veranstaltungen für Wien für Senior:innen
REFRESH-INTERVAL;VALUE=DURATION:PT1H
X-Robots-Tag:noindex
X-PUBLISHED-TTL:PT1H
BEGIN:VTIMEZONE
TZID:Europe/Berlin
BEGIN:DAYLIGHT
TZOFFSETFROM:+0100
TZOFFSETTO:+0200
TZNAME:CEST
DTSTART:20240331T010000
END:DAYLIGHT
BEGIN:STANDARD
TZOFFSETFROM:+0200
TZOFFSETTO:+0100
TZNAME:CET
DTSTART:20241027T010000
END:STANDARD
BEGIN:DAYLIGHT
TZOFFSETFROM:+0100
TZOFFSETTO:+0200
TZNAME:CEST
DTSTART:20250330T010000
END:DAYLIGHT
BEGIN:STANDARD
TZOFFSETFROM:+0200
TZOFFSETTO:+0100
TZNAME:CET
DTSTART:20251026T010000
END:STANDARD
BEGIN:DAYLIGHT
TZOFFSETFROM:+0100
TZOFFSETTO:+0200
TZNAME:CEST
DTSTART:20260329T010000
END:DAYLIGHT
BEGIN:STANDARD
TZOFFSETFROM:+0200
TZOFFSETTO:+0100
TZNAME:CET
DTSTART:20261025T010000
END:STANDARD
END:VTIMEZONE
BEGIN:VEVENT
DTSTART;TZID=Europe/Berlin:20251028T150000
DTEND;TZID=Europe/Berlin:20251028T160000
DTSTAMP:20260421T011651
CREATED:20250909T091609Z
LAST-MODIFIED:20250909T091618Z
UID:9985-1761663600-1761667200@kalender.seniorinnen.wien
SUMMARY:Musiknachmittag
DESCRIPTION:Musiknachmittag mit Lia Burger\nGenießen Sie den musikalischen Nachmittagsauftritt von Lia Burger mit der Gruppe Donauwalzer und deren Programm \,\,Am Rio Negro“ zum Schunkeln \nab 15:00 Uhr im GastHaus \nInfos:\nTel.: 01/313 99 1050 \nkeine Anmeldung erforderlich\, einfach vorbeikommen \nFoto: Freepik
URL:https://kalender.seniorinnen.wien/event/musiknachmittag-2/
LOCATION:Haus Maria Jacobi\, Würtzlerstraße 25\, Wien\, Wien\, 1030\, Austria
CATEGORIES:Monat der Senior:innen
ATTACH;FMTTYPE=image/jpeg:https://kalender.seniorinnen.wien/wp-content/uploads/2025/09/cheerful-senior-couple-with-sunglasses-dancing-having-fun-together-home-scaled-e1756374878240.jpg
END:VEVENT
BEGIN:VEVENT
DTSTART;TZID=Europe/Berlin:20251021T150000
DTEND;TZID=Europe/Berlin:20251021T170000
DTSTAMP:20260421T011651
CREATED:20250909T091353Z
LAST-MODIFIED:20250909T091652Z
UID:9983-1761058800-1761066000@kalender.seniorinnen.wien
SUMMARY:Nachmittag mit Stand Up Comedy
DESCRIPTION:Nachmittagsauftritt – Stand Up Comedy Petra Rubin\nGenießen Sie den Stand Up Comedy Auftritt von Petra Rubin  im GastHaus \nab 15:00 Uhr im GastHaus \nInfos:\nTel.: 01/313 99 1050 \nkeine Anmeldung erforderlich\, einfach vorbeikommen \nFoto: Freepik
URL:https://kalender.seniorinnen.wien/event/nachmittag-mit-stand-up-comedy/
LOCATION:Haus Maria Jacobi\, Würtzlerstraße 25\, Wien\, Wien\, 1030\, Austria
CATEGORIES:Monat der Senior:innen
ATTACH;FMTTYPE=image/jpeg:https://kalender.seniorinnen.wien/wp-content/uploads/2025/09/cheerful-senior-couple-with-sunglasses-dancing-having-fun-together-home-scaled-e1756374878240.jpg
END:VEVENT
BEGIN:VEVENT
DTSTART;TZID=Europe/Berlin:20251014T150000
DTEND;TZID=Europe/Berlin:20251014T160000
DTSTAMP:20260421T011651
CREATED:20250905T131647Z
LAST-MODIFIED:20250905T131830Z
UID:9962-1760454000-1760457600@kalender.seniorinnen.wien
SUMMARY:Musiknachmittag
DESCRIPTION:Genießen Sie den Nachmittagsauftritt vom Duo Variando\, Irene Malizia & Angelo Tatone\, mit einem vielfältigem Repertoire: Klassik\, Jazz\, spanische Tangomusik und saisonalen Musikstücken \nab 15:00 Uhr im GastHaus \nInfos:\nTel.: 01/313 99 1050 \nkeine Anmeldung erforderlich\, einfach vorbeikommen \nFoto: Freepik
URL:https://kalender.seniorinnen.wien/event/musiknachmittag/
LOCATION:Haus Maria Jacobi\, Würtzlerstraße 25\, Wien\, Wien\, 1030\, Austria
CATEGORIES:Monat der Senior:innen,Unterhaltung
ATTACH;FMTTYPE=image/jpeg:https://kalender.seniorinnen.wien/wp-content/uploads/2025/09/cheerful-senior-couple-with-sunglasses-dancing-having-fun-together-home-scaled-e1756374878240.jpg
END:VEVENT
BEGIN:VEVENT
DTSTART;TZID=Europe/Berlin:20251009T150000
DTEND;TZID=Europe/Berlin:20251009T160000
DTSTAMP:20260421T011651
CREATED:20250905T130422Z
LAST-MODIFIED:20250905T131826Z
UID:9953-1760022000-1760025600@kalender.seniorinnen.wien
SUMMARY:Selbstbestimmt leben im Alter
DESCRIPTION:FSW-Workshop zum Thema „Selbstbestimmt leben im Alter“ im GastHaus \nInfos:\nTel.: 01/313 99 1050 \nkeine Anmeldung erforderlich\, einfach vorbeikommen \nFoto: Freepik
URL:https://kalender.seniorinnen.wien/event/selbstbestimmt-leben-im-alter/
LOCATION:Haus Maria Jacobi\, Würtzlerstraße 25\, Wien\, Wien\, 1030\, Austria
CATEGORIES:Monat der Senior:innen
ATTACH;FMTTYPE=image/jpeg:https://kalender.seniorinnen.wien/wp-content/uploads/2025/09/57646-e1757077411681.jpg
END:VEVENT
END:VCALENDAR