BEGIN:VCALENDAR
VERSION:2.0
PRODID:-//Wien für Senior:innen - ECPv6.15.17.1//NONSGML v1.0//EN
CALSCALE:GREGORIAN
METHOD:PUBLISH
X-WR-CALNAME:Wien für Senior:innen
X-ORIGINAL-URL:https://kalender.seniorinnen.wien
X-WR-CALDESC:Veranstaltungen für Wien für Senior:innen
REFRESH-INTERVAL;VALUE=DURATION:PT1H
X-Robots-Tag:noindex
X-PUBLISHED-TTL:PT1H
BEGIN:VTIMEZONE
TZID:Europe/Berlin
BEGIN:DAYLIGHT
TZOFFSETFROM:+0100
TZOFFSETTO:+0200
TZNAME:CEST
DTSTART:20240331T010000
END:DAYLIGHT
BEGIN:STANDARD
TZOFFSETFROM:+0200
TZOFFSETTO:+0100
TZNAME:CET
DTSTART:20241027T010000
END:STANDARD
BEGIN:DAYLIGHT
TZOFFSETFROM:+0100
TZOFFSETTO:+0200
TZNAME:CEST
DTSTART:20250330T010000
END:DAYLIGHT
BEGIN:STANDARD
TZOFFSETFROM:+0200
TZOFFSETTO:+0100
TZNAME:CET
DTSTART:20251026T010000
END:STANDARD
BEGIN:DAYLIGHT
TZOFFSETFROM:+0100
TZOFFSETTO:+0200
TZNAME:CEST
DTSTART:20260329T010000
END:DAYLIGHT
BEGIN:STANDARD
TZOFFSETFROM:+0200
TZOFFSETTO:+0100
TZNAME:CET
DTSTART:20261025T010000
END:STANDARD
END:VTIMEZONE
BEGIN:VEVENT
DTSTART;TZID=Europe/Berlin:20251015T153000
DTEND;TZID=Europe/Berlin:20251015T170000
DTSTAMP:20260420T164341
CREATED:20250831T230017Z
LAST-MODIFIED:20250828T081300Z
UID:8575-1760542200-1760547600@kalender.seniorinnen.wien
SUMMARY:Führung: Haus der Mode Wien
DESCRIPTION:Kennen Sie das Haus der Mode in der Inneren Stadt? Wir öffnen die Schauräume für Mode und Kunst für Sie! \n  \nMax. 60 Teilnehmer:innen \nAnmeldung bis 10.10. \nTel.: 01 24 5 24 \nFoto: pixabay
URL:https://kalender.seniorinnen.wien/event/fuehrung-haus-der-mode-wien/
LOCATION:Haus der Mode Wien\, Fütterergasse 1 (Nähe Judenplatz)\, Wien\, Wien\, 1010\, Austria
CATEGORIES:Monat der Senior:innen
ATTACH;FMTTYPE=image/jpeg:https://kalender.seniorinnen.wien/wp-content/uploads/2025/08/20250811-Krawatten-pixabay-e1754927883693.jpg
END:VEVENT
END:VCALENDAR