BEGIN:VCALENDAR
VERSION:2.0
PRODID:-//Wien für Senior:innen - ECPv6.15.17.1//NONSGML v1.0//EN
CALSCALE:GREGORIAN
METHOD:PUBLISH
X-WR-CALNAME:Wien für Senior:innen
X-ORIGINAL-URL:https://kalender.seniorinnen.wien
X-WR-CALDESC:Veranstaltungen für Wien für Senior:innen
REFRESH-INTERVAL;VALUE=DURATION:PT1H
X-Robots-Tag:noindex
X-PUBLISHED-TTL:PT1H
BEGIN:VTIMEZONE
TZID:Europe/Berlin
BEGIN:DAYLIGHT
TZOFFSETFROM:+0100
TZOFFSETTO:+0200
TZNAME:CEST
DTSTART:20240331T010000
END:DAYLIGHT
BEGIN:STANDARD
TZOFFSETFROM:+0200
TZOFFSETTO:+0100
TZNAME:CET
DTSTART:20241027T010000
END:STANDARD
BEGIN:DAYLIGHT
TZOFFSETFROM:+0100
TZOFFSETTO:+0200
TZNAME:CEST
DTSTART:20250330T010000
END:DAYLIGHT
BEGIN:STANDARD
TZOFFSETFROM:+0200
TZOFFSETTO:+0100
TZNAME:CET
DTSTART:20251026T010000
END:STANDARD
BEGIN:DAYLIGHT
TZOFFSETFROM:+0100
TZOFFSETTO:+0200
TZNAME:CEST
DTSTART:20260329T010000
END:DAYLIGHT
BEGIN:STANDARD
TZOFFSETFROM:+0200
TZOFFSETTO:+0100
TZNAME:CET
DTSTART:20261025T010000
END:STANDARD
END:VTIMEZONE
BEGIN:VEVENT
DTSTART;TZID=Europe/Berlin:20251022T150000
DTEND;TZID=Europe/Berlin:20251022T163000
DTSTAMP:20260423T205900
CREATED:20250831T230024Z
LAST-MODIFIED:20250826T115807Z
UID:8808-1761145200-1761150600@kalender.seniorinnen.wien
SUMMARY:Hietzinger Spaziergang
DESCRIPTION:Die Bezirksvorstehung Hietzing lädt zu einem Kultur-Spaziergang. Flanieren Sie gemeinsam mit Mag. Klaus Daubeck durch die Geschichte des 13. Bezirks und erfahren Sie Wissenswertes von gestern\, heute und morgen. \nTreffpunkt: Hans-Moser-Park (vor dem Amtshaus Hietzing)\, 1130 Wien \nAnmeldung bis 20.10.:\nTel.: 01 4000 13 115\nE-Mail: post@bv13.wien.gv.at \n  \nGrafik: BV13
URL:https://kalender.seniorinnen.wien/event/hietzinger-spaziergang/
LOCATION:Hans-Moser-Park\, Eduard-Klein-Gasse 1\, Wien\, 1130
CATEGORIES:Begegnung,Bildung,Monat der Senior:innen
ATTACH;FMTTYPE=image/jpeg:https://kalender.seniorinnen.wien/wp-content/uploads/2025/08/Hietzinger-Kultur-Spaziergang-scaled.jpg
ORGANIZER;CN="Bezirksvorstehung Hietzing":MAILTO:post@bv13.wien.gv.at
END:VEVENT
END:VCALENDAR