BEGIN:VCALENDAR
VERSION:2.0
PRODID:-//Wien für Senior:innen - ECPv6.15.17.1//NONSGML v1.0//EN
CALSCALE:GREGORIAN
METHOD:PUBLISH
X-ORIGINAL-URL:https://kalender.seniorinnen.wien
X-WR-CALDESC:Veranstaltungen für Wien für Senior:innen
REFRESH-INTERVAL;VALUE=DURATION:PT1H
X-Robots-Tag:noindex
X-PUBLISHED-TTL:PT1H
BEGIN:VTIMEZONE
TZID:Europe/Berlin
BEGIN:DAYLIGHT
TZOFFSETFROM:+0100
TZOFFSETTO:+0200
TZNAME:CEST
DTSTART:20240331T010000
END:DAYLIGHT
BEGIN:STANDARD
TZOFFSETFROM:+0200
TZOFFSETTO:+0100
TZNAME:CET
DTSTART:20241027T010000
END:STANDARD
BEGIN:DAYLIGHT
TZOFFSETFROM:+0100
TZOFFSETTO:+0200
TZNAME:CEST
DTSTART:20250330T010000
END:DAYLIGHT
BEGIN:STANDARD
TZOFFSETFROM:+0200
TZOFFSETTO:+0100
TZNAME:CET
DTSTART:20251026T010000
END:STANDARD
BEGIN:DAYLIGHT
TZOFFSETFROM:+0100
TZOFFSETTO:+0200
TZNAME:CEST
DTSTART:20260329T010000
END:DAYLIGHT
BEGIN:STANDARD
TZOFFSETFROM:+0200
TZOFFSETTO:+0100
TZNAME:CET
DTSTART:20261025T010000
END:STANDARD
END:VTIMEZONE
BEGIN:VEVENT
DTSTART;TZID=Europe/Berlin:20251029T130000
DTEND;TZID=Europe/Berlin:20251029T143000
DTSTAMP:20260423T151533
CREATED:20250831T230039Z
LAST-MODIFIED:20250826T094159Z
UID:8879-1761742800-1761748200@kalender.seniorinnen.wien
SUMMARY:Jung durch Nährstoffe
DESCRIPTION:Worauf muss ich bei der Ernährung im Alter besonders achten!\nGesunde Ernährung hält Körper und Geist fit. Welche Vitamine und Nährstoffe sind im Alter besonders wichtig?\nDie Community Nurses des Fonds Soziales Wien zeigen welche Vitamine und Nährstoffe besonders wichtig sind und wie auch im Alter durch gesunde Ernährung der Körper und Geist fit gehalten werden kann. All Ihre Fragen können Sie vor Ort stellen und gemeinsam finden wir Antworten\, die zu Ihnen ganz persönlich passen. \nmax. 10 Teilnehmer:innen \nAnmeldung bis 26.9. \nTel.: 0676 8289 40055\nE-Mail: wienzimmer@fsw.at  – Betreff: Jung durch Nährstoffe \nFoto: WienZimmer
URL:https://kalender.seniorinnen.wien/event/jung-durch-naehrstoffe/
LOCATION:Grätzlzentrum WienZimmer Gartenstadt\, Jedleseerstraße 66-94/36/2\, Wien\, Wien\, 1210\, Austria
CATEGORIES:Monat der Senior:innen
ATTACH;FMTTYPE=image/jpeg:https://kalender.seniorinnen.wien/wp-content/uploads/2025/08/Bild-scaled-e1755782313153.jpg
ORGANIZER;CN="Gr%C3%A4tzlzentrum WienZimmer Gartenstadt":MAILTO:wienzimmer@fsw.at
END:VEVENT
BEGIN:VEVENT
DTSTART;TZID=Europe/Berlin:20251029T103000
DTEND;TZID=Europe/Berlin:20251029T123000
DTSTAMP:20260423T151533
CREATED:20250831T230009Z
LAST-MODIFIED:20250828T093853Z
UID:8775-1761733800-1761741000@kalender.seniorinnen.wien
SUMMARY:Auskommen mit der Pension
DESCRIPTION:Geld ist ein sensibles und wichtiges Thema. Mangelndes Wissen und kleine Fehlentscheidungen im Umgang mit den persönlichen Finanzen können weitreichende Konsequenzen haben. Finanzbildung hilft\, den Überblick über das eigene Geld zu behalten und Schulden zu vermeiden. \nAnmeldung bis 26.9. \nTel.: 0676 8289 400 55 \nMail: wienzimmer@fsw.at    (Betreff: Finanzbildung) \n  \nFoto: pixabay
URL:https://kalender.seniorinnen.wien/event/auskommen-mit-der-pension/
LOCATION:Grätzlzentrum WienZimmer Gartenstadt\, Jedleseerstraße 66-94/36/2\, Wien\, Wien\, 1210\, Austria
CATEGORIES:Monat der Senior:innen
ATTACH;FMTTYPE=image/jpeg:https://kalender.seniorinnen.wien/wp-content/uploads/2025/08/20250813-Euroscheine-pixabay-e1755080836604.jpg
ORGANIZER;CN="Gr%C3%A4tzlzentrum WienZimmer Gartenstadt":MAILTO:wienzimmer@fsw.at
END:VEVENT
BEGIN:VEVENT
DTSTART;TZID=Europe/Berlin:20251027T140000
DTEND;TZID=Europe/Berlin:20251027T160000
DTSTAMP:20260423T151533
CREATED:20250831T230052Z
LAST-MODIFIED:20250826T094301Z
UID:8892-1761573600-1761580800@kalender.seniorinnen.wien
SUMMARY:Improvisationstheater für Senior:innen
DESCRIPTION:Theaterworkshop: Improvisationstheater\nmit Schauspielerin Nina Quintero\nBeim Improtheater – dem “aus dem Bauch heraus Spielen”\, lernen Sie ganz im Hier und Jetzt zu sein. Gemeinsam probieren wir mit viel Humor und der angeleiteten Methode der Improvisation\, verschiedenste Dinge aus. Falsch gibt es nicht! Mit Freude erlaubt dieser Kurs es Ihnen\, Dinge auszuprobieren\, Fehler zu machen und diese kreativ in etwas Positives zu verwandeln.\nDadurch entstehen ganz besondere und schöne gemeinsame Momente. \nBitte beachten Sie\, dass es sich ingesamt um vier aufeinander aufbauende Termine handelt:\n6.10.\, 13.10.\, 20.10.\, 27.10. – Montag\, 14.00 bis 16.00 \nmax. 10 Teilnehmer:innen \nAnmeldung bis 26.9. \nTel.: 0676 8289 40055\nE-Mail: wienzimmer@fsw.at  – Betreff: Improtheater \nHinweis:\nDer Workshop “Improtheater für Senior:innen”\, findet im WienZimmer Gartenstadt\, einem Grätzlzentrum des Fonds Soziales Wien im Festsaal (Hochparterre) statt. Der Raum ist durch einen Stiegenlift vom Eingangsbereich ins Hochparterre\, barrierefrei zugänglich. Sollten Sie mit Rollstuhl kommen\, freuen wir uns über eine Begleitperson und dass Sie uns im Vorhinein informieren \nFoto: Freepik \n 
URL:https://kalender.seniorinnen.wien/event/improvisationstheater-fuer-seniorinnen/2025-10-27/
LOCATION:Grätzlzentrum WienZimmer Gartenstadt\, Jedleseerstraße 66-94/36/2\, Wien\, Wien\, 1210\, Austria
CATEGORIES:Monat der Senior:innen
ATTACH;FMTTYPE=image/jpeg:https://kalender.seniorinnen.wien/wp-content/uploads/2025/08/altere-gruppe-von-freunden-feiern-scaled-e1755782294762.jpg
ORGANIZER;CN="Gr%C3%A4tzlzentrum WienZimmer Gartenstadt":MAILTO:wienzimmer@fsw.at
END:VEVENT
BEGIN:VEVENT
DTSTART;TZID=Europe/Berlin:20251022T130000
DTEND;TZID=Europe/Berlin:20251022T143000
DTSTAMP:20260423T151533
CREATED:20250831T230013Z
LAST-MODIFIED:20250826T094604Z
UID:8873-1761138000-1761143400@kalender.seniorinnen.wien
SUMMARY:Keine Panik im Notfall
DESCRIPTION:Wie reagiere ich richtig\, wenn jemand plötzlich Hilfe braucht?\nWorkshop: Lebensretter:innen. Notfallwissen.\nBei diesem Workshop werden einfache Maßnahmen gezeigt\, wie man Ängste abbaut und Handlungssicherheit stärkt. \nDie Community Nurses des Fonds Soziales Wien zeigen auf\, wie man Ruhe behält und mit welchen einfachen Maßnahmen man am besten helfen kann. \nmax. 10 Teilnehmer:innen \nAnmeldung bis 26.9. \nTel.: 0676 8289 40055\nE-Mail: wienzimmer@fsw.at  – Betreff: Hilfe im Notfall \nFoto: Freepik
URL:https://kalender.seniorinnen.wien/event/keine-panik-im-notfall/
LOCATION:Grätzlzentrum WienZimmer Gartenstadt\, Jedleseerstraße 66-94/36/2\, Wien\, Wien\, 1210\, Austria
CATEGORIES:Monat der Senior:innen
ATTACH;FMTTYPE=image/jpeg:https://kalender.seniorinnen.wien/wp-content/uploads/2025/08/altere-frau-fiel-auf-den-boden-scaled-e1755782202530.jpg
ORGANIZER;CN="Gr%C3%A4tzlzentrum WienZimmer Gartenstadt":MAILTO:wienzimmer@fsw.at
END:VEVENT
BEGIN:VEVENT
DTSTART;TZID=Europe/Berlin:20251022T100000
DTEND;TZID=Europe/Berlin:20251022T120000
DTSTAMP:20260423T151533
CREATED:20250831T230107Z
LAST-MODIFIED:20250826T094632Z
UID:8900-1761127200-1761134400@kalender.seniorinnen.wien
SUMMARY:Oldie Brunch
DESCRIPTION:Beim Oldie Brunch von Jugend am Werk gibt es neben eingängiger Oldie Musik auch verschiedenste gesunde und leckere Speisen. Es darf gegessen und getanzt werden! Der Oldie Brunch richtet sich an alle Senior:innen die gern einen netten Spätvormittag mit guter Musik und in bestern Gesellschaft verbringen möchten. Begleitet von einem köstlichen Brunch den Jugend am Werk ausrichtet\, darf genossen\, geschunkelt und gern auch getanzt werden. \nmax. 25 Teilnehmer:innen \nAnmeldung bis 26.9. \nTel.: 0676 8289 40055\nE-Mail: wienzimmer@fsw.at  – Betreff: Oldie Brunch (+Datum) \nHinweis: Der Oldie Brunch im Grätzlzentrum WienZimmer Gartenstadt ist durch einen Stiegenlift vom Eingangsbereich ins Hochparterre\, barrierefrei zugänglich. Sollten Sie mit Rollstuhl kommen\, freuen wir uns über eine Begleitperson und dass Sie uns im Vorhinen informieren. \nFoto: WienZimmer
URL:https://kalender.seniorinnen.wien/event/oldie-brunch/2025-10-22/
LOCATION:Grätzlzentrum WienZimmer Gartenstadt\, Jedleseerstraße 66-94/36/2\, Wien\, Wien\, 1210\, Austria
CATEGORIES:Monat der Senior:innen
ATTACH;FMTTYPE=image/jpeg:https://kalender.seniorinnen.wien/wp-content/uploads/2025/08/WZi_MdS_JaW_Oldiebrunch-e1755782276747.jpg
ORGANIZER;CN="Gr%C3%A4tzlzentrum WienZimmer Gartenstadt":MAILTO:wienzimmer@fsw.at
END:VEVENT
BEGIN:VEVENT
DTSTART;TZID=Europe/Berlin:20251020T140000
DTEND;TZID=Europe/Berlin:20251020T160000
DTSTAMP:20260423T151533
CREATED:20250831T230052Z
LAST-MODIFIED:20250826T094301Z
UID:8891-1760968800-1760976000@kalender.seniorinnen.wien
SUMMARY:Improvisationstheater für Senior:innen
DESCRIPTION:Theaterworkshop: Improvisationstheater\nmit Schauspielerin Nina Quintero\nBeim Improtheater – dem “aus dem Bauch heraus Spielen”\, lernen Sie ganz im Hier und Jetzt zu sein. Gemeinsam probieren wir mit viel Humor und der angeleiteten Methode der Improvisation\, verschiedenste Dinge aus. Falsch gibt es nicht! Mit Freude erlaubt dieser Kurs es Ihnen\, Dinge auszuprobieren\, Fehler zu machen und diese kreativ in etwas Positives zu verwandeln.\nDadurch entstehen ganz besondere und schöne gemeinsame Momente. \nBitte beachten Sie\, dass es sich ingesamt um vier aufeinander aufbauende Termine handelt:\n6.10.\, 13.10.\, 20.10.\, 27.10. – Montag\, 14.00 bis 16.00 \nmax. 10 Teilnehmer:innen \nAnmeldung bis 26.9. \nTel.: 0676 8289 40055\nE-Mail: wienzimmer@fsw.at  – Betreff: Improtheater \nHinweis:\nDer Workshop “Improtheater für Senior:innen”\, findet im WienZimmer Gartenstadt\, einem Grätzlzentrum des Fonds Soziales Wien im Festsaal (Hochparterre) statt. Der Raum ist durch einen Stiegenlift vom Eingangsbereich ins Hochparterre\, barrierefrei zugänglich. Sollten Sie mit Rollstuhl kommen\, freuen wir uns über eine Begleitperson und dass Sie uns im Vorhinein informieren \nFoto: Freepik \n 
URL:https://kalender.seniorinnen.wien/event/improvisationstheater-fuer-seniorinnen/2025-10-20/
LOCATION:Grätzlzentrum WienZimmer Gartenstadt\, Jedleseerstraße 66-94/36/2\, Wien\, Wien\, 1210\, Austria
CATEGORIES:Monat der Senior:innen
ATTACH;FMTTYPE=image/jpeg:https://kalender.seniorinnen.wien/wp-content/uploads/2025/08/altere-gruppe-von-freunden-feiern-scaled-e1755782294762.jpg
ORGANIZER;CN="Gr%C3%A4tzlzentrum WienZimmer Gartenstadt":MAILTO:wienzimmer@fsw.at
END:VEVENT
BEGIN:VEVENT
DTSTART;TZID=Europe/Berlin:20251017T130000
DTEND;TZID=Europe/Berlin:20251017T134500
DTSTAMP:20260423T151533
CREATED:20250831T230629Z
LAST-MODIFIED:20250826T095001Z
UID:8970-1760706000-1760708700@kalender.seniorinnen.wien
SUMMARY:Gedächtnistraining
DESCRIPTION:Gedächtnistraining im Alter ist eine hilfreiche und wichtige Aktivität\, um die geistige Gesundheit und kognitive Funktionen zu fördern. Mit zunehmendem Alter kann die Gedächtnisleistung\nabnehmen. Speziell Senior:innen kann es helfen\, einem altersbedingten Abbau geistiger Fähigkeiten vorzubeugen und ihren Alltag möglichst lange gut zu bewältigen. \nmax. 10 Teilnehmer:innen \nAnmeldung bis 26.9. \nTel.: 0676 8289 40055\nE-Mail: wienzimmer@fsw.at  – Betreff: Gedächtnistraining \nDer Kurs im im WienZimmer Gartenstadt ist leider NICHT barrierefrei zugänglich. Der Zugang zu Trainingsraum erfolgt über eine Stiege. \nFoto: Freepik
URL:https://kalender.seniorinnen.wien/event/gedaechtnistraining-2/
LOCATION:Grätzlzentrum WienZimmer Gartenstadt\, Jedleseerstraße 66-94/36/2\, Wien\, Wien\, 1210\, Austria
CATEGORIES:Fit und Gesund,Monat der Senior:innen
ATTACH;FMTTYPE=image/jpeg:https://kalender.seniorinnen.wien/wp-content/uploads/2025/08/9845373-e1755850278391.jpg
ORGANIZER;CN="Gr%C3%A4tzlzentrum WienZimmer Gartenstadt":MAILTO:wienzimmer@fsw.at
END:VEVENT
BEGIN:VEVENT
DTSTART;TZID=Europe/Berlin:20251013T140000
DTEND;TZID=Europe/Berlin:20251013T160000
DTSTAMP:20260423T151533
CREATED:20250831T230052Z
LAST-MODIFIED:20250826T094301Z
UID:8890-1760364000-1760371200@kalender.seniorinnen.wien
SUMMARY:Improvisationstheater für Senior:innen
DESCRIPTION:Theaterworkshop: Improvisationstheater\nmit Schauspielerin Nina Quintero\nBeim Improtheater – dem “aus dem Bauch heraus Spielen”\, lernen Sie ganz im Hier und Jetzt zu sein. Gemeinsam probieren wir mit viel Humor und der angeleiteten Methode der Improvisation\, verschiedenste Dinge aus. Falsch gibt es nicht! Mit Freude erlaubt dieser Kurs es Ihnen\, Dinge auszuprobieren\, Fehler zu machen und diese kreativ in etwas Positives zu verwandeln.\nDadurch entstehen ganz besondere und schöne gemeinsame Momente. \nBitte beachten Sie\, dass es sich ingesamt um vier aufeinander aufbauende Termine handelt:\n6.10.\, 13.10.\, 20.10.\, 27.10. – Montag\, 14.00 bis 16.00 \nmax. 10 Teilnehmer:innen \nAnmeldung bis 26.9. \nTel.: 0676 8289 40055\nE-Mail: wienzimmer@fsw.at  – Betreff: Improtheater \nHinweis:\nDer Workshop “Improtheater für Senior:innen”\, findet im WienZimmer Gartenstadt\, einem Grätzlzentrum des Fonds Soziales Wien im Festsaal (Hochparterre) statt. Der Raum ist durch einen Stiegenlift vom Eingangsbereich ins Hochparterre\, barrierefrei zugänglich. Sollten Sie mit Rollstuhl kommen\, freuen wir uns über eine Begleitperson und dass Sie uns im Vorhinein informieren \nFoto: Freepik \n 
URL:https://kalender.seniorinnen.wien/event/improvisationstheater-fuer-seniorinnen/2025-10-13/
LOCATION:Grätzlzentrum WienZimmer Gartenstadt\, Jedleseerstraße 66-94/36/2\, Wien\, Wien\, 1210\, Austria
CATEGORIES:Monat der Senior:innen
ATTACH;FMTTYPE=image/jpeg:https://kalender.seniorinnen.wien/wp-content/uploads/2025/08/altere-gruppe-von-freunden-feiern-scaled-e1755782294762.jpg
ORGANIZER;CN="Gr%C3%A4tzlzentrum WienZimmer Gartenstadt":MAILTO:wienzimmer@fsw.at
END:VEVENT
BEGIN:VEVENT
DTSTART;TZID=Europe/Berlin:20251008T130000
DTEND;TZID=Europe/Berlin:20251008T143000
DTSTAMP:20260423T151533
CREATED:20250831T230033Z
LAST-MODIFIED:20251008T071527Z
UID:9619-1759928400-1759933800@kalender.seniorinnen.wien
SUMMARY:Mann\, wie geht’s?
DESCRIPTION:Psychische Gesundhieit betrifft auch Männer – doch oft wird geschwiegen. In diesem Workshop sprechen wir offen darüber und finden gemeinsam Wege zu innerer Stärke. Beim Vortrag der Community Nurses des Fonds Soziales Wien\, zum Thema Männergesundheit\, inklusive Vorsorgethemen\, geht es darum das Bewusstsein für Krakheiten und Symptome\, die speziell Männer betreffen zu schärfen. Auch werden verschiedenste Prävetionsmaßnahmen besprochen und die Teilnehmer können in einem geschützten Rahmen alles fragen\, was ihnen rund um dieses Thema auf dem Herzen liegt. \nmax. 10 Teilnehmer:innen \nAnmeldung bis 26.9. \nTel.: 0676 8289 40055\nE-Mail: wienzimmer@fsw.at (Betreff: Männergesundheit) \nVeranstaltungsort: leichter zu finden unter: Jedleseerstr./Ecke Dunantgasse; Eingang schräg vis a vis der Henry Dunant Volksschule \nFoto: freepik
URL:https://kalender.seniorinnen.wien/event/mann-wie-gehts/
LOCATION:Grätzlzentrum WienZimmer Gartenstadt\, Jedleseerstraße 66-94/36/2\, Wien\, Wien\, 1210\, Austria
CATEGORIES:Fit und Gesund,Monat der Senior:innen
ATTACH;FMTTYPE=image/jpeg:https://kalender.seniorinnen.wien/wp-content/uploads/2025/09/mann-einem-karierten-hemd-mit-nahrungserganzungsmitteln-scaled-e1756384625620.jpg
ORGANIZER;CN="WienZimmer Gartenstadt":MAILTO:wienzimmer@fsw.at
END:VEVENT
BEGIN:VEVENT
DTSTART;TZID=Europe/Berlin:20251006T140000
DTEND;TZID=Europe/Berlin:20251006T160000
DTSTAMP:20260423T151533
CREATED:20250831T230052Z
LAST-MODIFIED:20250826T094300Z
UID:8885-1759759200-1759766400@kalender.seniorinnen.wien
SUMMARY:Improvisationstheater für Senior:innen
DESCRIPTION:Theaterworkshop: Improvisationstheater\nmit Schauspielerin Nina Quintero\nBeim Improtheater – dem “aus dem Bauch heraus Spielen”\, lernen Sie ganz im Hier und Jetzt zu sein. Gemeinsam probieren wir mit viel Humor und der angeleiteten Methode der Improvisation\, verschiedenste Dinge aus. Falsch gibt es nicht! Mit Freude erlaubt dieser Kurs es Ihnen\, Dinge auszuprobieren\, Fehler zu machen und diese kreativ in etwas Positives zu verwandeln.\nDadurch entstehen ganz besondere und schöne gemeinsame Momente. \nBitte beachten Sie\, dass es sich ingesamt um vier aufeinander aufbauende Termine handelt:\n6.10.\, 13.10.\, 20.10.\, 27.10. – Montag\, 14.00 bis 16.00 \nmax. 10 Teilnehmer:innen \nAnmeldung bis 26.9. \nTel.: 0676 8289 40055\nE-Mail: wienzimmer@fsw.at  – Betreff: Improtheater \nHinweis:\nDer Workshop “Improtheater für Senior:innen”\, findet im WienZimmer Gartenstadt\, einem Grätzlzentrum des Fonds Soziales Wien im Festsaal (Hochparterre) statt. Der Raum ist durch einen Stiegenlift vom Eingangsbereich ins Hochparterre\, barrierefrei zugänglich. Sollten Sie mit Rollstuhl kommen\, freuen wir uns über eine Begleitperson und dass Sie uns im Vorhinein informieren \nFoto: Freepik \n 
URL:https://kalender.seniorinnen.wien/event/improvisationstheater-fuer-seniorinnen/2025-10-06/
LOCATION:Grätzlzentrum WienZimmer Gartenstadt\, Jedleseerstraße 66-94/36/2\, Wien\, Wien\, 1210\, Austria
CATEGORIES:Monat der Senior:innen
ATTACH;FMTTYPE=image/jpeg:https://kalender.seniorinnen.wien/wp-content/uploads/2025/08/altere-gruppe-von-freunden-feiern-scaled-e1755782294762.jpg
ORGANIZER;CN="Gr%C3%A4tzlzentrum WienZimmer Gartenstadt":MAILTO:wienzimmer@fsw.at
END:VEVENT
BEGIN:VEVENT
DTSTART;TZID=Europe/Berlin:20251001T100000
DTEND;TZID=Europe/Berlin:20251001T120000
DTSTAMP:20260423T151533
CREATED:20250831T230107Z
LAST-MODIFIED:20250826T094632Z
UID:8898-1759312800-1759320000@kalender.seniorinnen.wien
SUMMARY:Oldie Brunch
DESCRIPTION:Beim Oldie Brunch von Jugend am Werk gibt es neben eingängiger Oldie Musik auch verschiedenste gesunde und leckere Speisen. Es darf gegessen und getanzt werden! Der Oldie Brunch richtet sich an alle Senior:innen die gern einen netten Spätvormittag mit guter Musik und in bestern Gesellschaft verbringen möchten. Begleitet von einem köstlichen Brunch den Jugend am Werk ausrichtet\, darf genossen\, geschunkelt und gern auch getanzt werden. \nmax. 25 Teilnehmer:innen \nAnmeldung bis 26.9. \nTel.: 0676 8289 40055\nE-Mail: wienzimmer@fsw.at  – Betreff: Oldie Brunch (+Datum) \nHinweis: Der Oldie Brunch im Grätzlzentrum WienZimmer Gartenstadt ist durch einen Stiegenlift vom Eingangsbereich ins Hochparterre\, barrierefrei zugänglich. Sollten Sie mit Rollstuhl kommen\, freuen wir uns über eine Begleitperson und dass Sie uns im Vorhinen informieren. \nFoto: WienZimmer
URL:https://kalender.seniorinnen.wien/event/oldie-brunch/2025-10-01/
LOCATION:Grätzlzentrum WienZimmer Gartenstadt\, Jedleseerstraße 66-94/36/2\, Wien\, Wien\, 1210\, Austria
CATEGORIES:Monat der Senior:innen
ATTACH;FMTTYPE=image/jpeg:https://kalender.seniorinnen.wien/wp-content/uploads/2025/08/WZi_MdS_JaW_Oldiebrunch-e1755782276747.jpg
ORGANIZER;CN="Gr%C3%A4tzlzentrum WienZimmer Gartenstadt":MAILTO:wienzimmer@fsw.at
END:VEVENT
END:VCALENDAR