BEGIN:VCALENDAR
VERSION:2.0
PRODID:-//Wien für Senior:innen - ECPv6.15.17.1//NONSGML v1.0//EN
CALSCALE:GREGORIAN
METHOD:PUBLISH
X-ORIGINAL-URL:https://kalender.seniorinnen.wien
X-WR-CALDESC:Veranstaltungen für Wien für Senior:innen
REFRESH-INTERVAL;VALUE=DURATION:PT1H
X-Robots-Tag:noindex
X-PUBLISHED-TTL:PT1H
BEGIN:VTIMEZONE
TZID:Europe/Berlin
BEGIN:DAYLIGHT
TZOFFSETFROM:+0100
TZOFFSETTO:+0200
TZNAME:CEST
DTSTART:20240331T010000
END:DAYLIGHT
BEGIN:STANDARD
TZOFFSETFROM:+0200
TZOFFSETTO:+0100
TZNAME:CET
DTSTART:20241027T010000
END:STANDARD
BEGIN:DAYLIGHT
TZOFFSETFROM:+0100
TZOFFSETTO:+0200
TZNAME:CEST
DTSTART:20250330T010000
END:DAYLIGHT
BEGIN:STANDARD
TZOFFSETFROM:+0200
TZOFFSETTO:+0100
TZNAME:CET
DTSTART:20251026T010000
END:STANDARD
BEGIN:DAYLIGHT
TZOFFSETFROM:+0100
TZOFFSETTO:+0200
TZNAME:CEST
DTSTART:20260329T010000
END:DAYLIGHT
BEGIN:STANDARD
TZOFFSETFROM:+0200
TZOFFSETTO:+0100
TZNAME:CET
DTSTART:20261025T010000
END:STANDARD
END:VTIMEZONE
BEGIN:VEVENT
DTSTART;TZID=Europe/Berlin:20251030T140000
DTEND;TZID=Europe/Berlin:20251030T160000
DTSTAMP:20260420T164458
CREATED:20250831T230019Z
LAST-MODIFIED:20250829T072114Z
UID:8367-1761832800-1761840000@kalender.seniorinnen.wien
SUMMARY:Offene Handarbeitsrunde: "Hauben\, Schals & Handschuhe"
DESCRIPTION:Gemeinsames Werken\, Häkeln\, Stricken\, Schneiden und Prickeln! Im Oktober nutzen wir die Zeit um gemeinsam Hauben\, Schals\, Socken und Handschuhe für die Wohnungslosenhilfe herzustellen. Das Material (Wolle\, Strick- und Häkelnadeln) wird zur Verfügung gestellt und zusammen eine wunderschöne Winter -Sachspendenbox zusammengestellt\, die dann an ein Wohnungslosenprojekt übergeben wird. \nAnmeldung bis 26.9. (Betreff: Handarbeit+Datum) \nTel.: 0676 82 89 400 55\nE-Mail: wienzimmer@fsw.at \nInfo Veranstaltungsort: Jedleseerstr./Ecke Dunantgasse; Eingang schräg vis a vis der Henry Dunant Volksschule \nFoto: Freepik
URL:https://kalender.seniorinnen.wien/event/offene-handarbeitsrunde-hauben-schals-handschuhe/2025-10-30/
LOCATION:Grätzelzentrum WienZimmer Gartenstadt\, Jedleseerstr. 66-94/36/2\, Wien\, Wien\, 1210\, Austria
CATEGORIES:Begegnung,Kunst und Kultur,Monat der Senior:innen
ATTACH;FMTTYPE=image/jpeg:https://kalender.seniorinnen.wien/wp-content/uploads/2025/08/high-view-person-knitting-with-pink-thread-©freepik-scaled-e1754553682651.jpg
ORGANIZER;CN="WienZimmer Gartenstadt":MAILTO:wienzimmer@fsw.at
END:VEVENT
BEGIN:VEVENT
DTSTART;TZID=Europe/Berlin:20251030T100000
DTEND;TZID=Europe/Berlin:20251030T110000
DTSTAMP:20260420T164458
CREATED:20250831T230043Z
LAST-MODIFIED:20250826T140840Z
UID:8125-1761818400-1761822000@kalender.seniorinnen.wien
SUMMARY:Krafttraining für Senior:innen
DESCRIPTION:Beim Krafttraining für Senior:innen wird achtsam auf die individuellen Möglichkeiten eingegangen und gemeinsam durch verschiedene Übungen\, die Muskulatur gestärkt. \nMax. 10 Teilnehmer:innen \nAnmeldung bis 28.9. \nTel. 0676 8289 400 55\nE – Mail: wienzimmer@fsw.at (Betreff: Krafttraining + Datum) \nhttps://wienzimmer.fsw.at \n* leichter zu finden unter: Jedleseerstr./Ecke Dunantgasse; Eingang schräg vis a vis der Henry Dunant Volksschule \nFoto: Pixabay
URL:https://kalender.seniorinnen.wien/event/krafttraining-fuer-seniorinnen/2025-10-30/
LOCATION:Grätzelzentrum WienZimmer Gartenstadt\, Jedleseerstr. 66-94/36/2\, Wien\, Wien\, 1210\, Austria
CATEGORIES:Fit und Gesund,Monat der Senior:innen
ATTACH;FMTTYPE=image/jpeg:https://kalender.seniorinnen.wien/wp-content/uploads/2025/08/Pixabay_sport-908264_1280-e1754569395693.jpg
ORGANIZER;CN="WienZimmer Gartenstadt":MAILTO:wienzimmer@fsw.at
END:VEVENT
BEGIN:VEVENT
DTSTART;TZID=Europe/Berlin:20251029T170000
DTEND;TZID=Europe/Berlin:20251029T190000
DTSTAMP:20260420T164459
CREATED:20250902T073832Z
LAST-MODIFIED:20250902T073832Z
UID:8371-1761757200-1761764400@kalender.seniorinnen.wien
SUMMARY:Dinner: Gemeinsam statt einsam
DESCRIPTION:Dinner: 20 bunt zusammengewürfelte Gäste verbringen bei einem frisch zubereiteten Abendessen einen schönen Abend. \nAnmeldung bis 26.9. (Betreff: Dinner) \nInfo Veranstaltungsort: Jedleseerstr./Ecke Dunantgasse; Eingang schräg vis a vis der Henry Dunant Volksschule \nTel.: 0676 82 89 400 55 \nMail: wienzimmer@fsw.at \nWebsite: https://wienzimmer.fsw.at
URL:https://kalender.seniorinnen.wien/event/dinner-gemeinsam-statt-einsam/
LOCATION:Grätzelzentrum WienZimmer Gartenstadt\, Jedleseerstr. 66-94/36/2\, Wien\, Wien\, 1210\, Austria
CATEGORIES:Begegnung,Grätzel,Monat der Senior:innen,Unterhaltung
ATTACH;FMTTYPE=image/jpeg:https://kalender.seniorinnen.wien/wp-content/uploads/2025/08/salad-569156_1280-e1754554703802.jpg
ORGANIZER;CN="WienZimmer Gartenstadt":MAILTO:wienzimmer@fsw.at
END:VEVENT
BEGIN:VEVENT
DTSTART;TZID=Europe/Berlin:20251029T163000
DTEND;TZID=Europe/Berlin:20251029T170000
DTSTAMP:20260420T164459
CREATED:20250831T230027Z
LAST-MODIFIED:20250902T074652Z
UID:8368-1761755400-1761757200@kalender.seniorinnen.wien
SUMMARY:Nachbar Hans liest: Otto Schenk
DESCRIPTION:Otto Schenks „Sachen zum Lachen“ erheitern jedes Gemüt. Das liegt – neben dem grandiosen Vortrag von Hans natürlich auch an der meisterlichen Qualität der ausgesuchten Texte dieser humoristischen Literatur. Genießen Sie eine halbe Stunde dieser heiteren\, handverlesenen Erzählungen im Grätzlzentrum des Fonds Soziales Wien. \nAnmeldung bis 26.9. (Betreff: Hans liest) \nTel.: +43 676 8289 40055\nE-Mail: wienzimmer@fsw.at\nWebsite: https://wienzimmer.fsw.at \nInfo Veranstaltungsort: Jedleseerstr./Ecke Dunantgasse; Eingang schräg vis a vis der Henry Dunant Volksschule \nFoto: pixabay
URL:https://kalender.seniorinnen.wien/event/nachbar-hans-liest-otto-schenk/
LOCATION:Grätzelzentrum WienZimmer Gartenstadt\, Jedleseerstr. 66-94/36/2\, Wien\, Wien\, 1210\, Austria
CATEGORIES:Grätzel,Monat der Senior:innen
ATTACH;FMTTYPE=image/jpeg:https://kalender.seniorinnen.wien/wp-content/uploads/2025/08/books-3733892_1280-e1754554139185.jpg
ORGANIZER;CN="WienZimmer Gartenstadt":MAILTO:wienzimmer@fsw.at
END:VEVENT
BEGIN:VEVENT
DTSTART;TZID=Europe/Berlin:20251024T130000
DTEND;TZID=Europe/Berlin:20251024T150000
DTSTAMP:20260420T164459
CREATED:20250831T230021Z
LAST-MODIFIED:20250826T094324Z
UID:8908-1761310800-1761318000@kalender.seniorinnen.wien
SUMMARY:Erzählcafé
DESCRIPTION:Im Erzählcafé werden im moderierten Rahmen Geschichten rund um altersrelevate Themen ausgetauscht. Die Gespräche werden durch gezielte Impulse unterstützt und gelenkt.\nErzählcafés sind moderierte Erzählrunden\, bei denen die Lebensgeschichten und Erfahrungen der Teilnehmenden im Zentrum stehen. Dabei geht es um das respektvolle Zuhören. Erzählt\nwird von den Teilnehmenden selbst zu einem vorher angekündigten Thema. Die Veranstaltung wird von einem Moderator oder einer Moderatorin geleitet\, der/die passende Impulsfragen\nvorbereitet und auf den respektvollen Austausch innerhalb der Gruppe achtet. \nmax. 14 Teilnehmer:innen \nAnmeldung bis 26.9. \nTel.: 0676 8289 40055\nE-Mail: wienzimmer@fsw.at  – Betreff: Erzählcafe \nFoto: Freepik
URL:https://kalender.seniorinnen.wien/event/erzaehlcafe-2/
LOCATION:Grätzelzentrum WienZimmer Gartenstadt\, Jedleseerstr. 66-94/36/2\, Wien\, Wien\, 1210\, Austria
CATEGORIES:Monat der Senior:innen
ATTACH;FMTTYPE=image/jpeg:https://kalender.seniorinnen.wien/wp-content/uploads/2025/08/5860081-scaled-e1755782251818.jpg
ORGANIZER;CN="Gr%C3%A4tzlzentrum WienZimmer Gartenstadt":MAILTO:wienzimmer@fsw.at
END:VEVENT
BEGIN:VEVENT
DTSTART;TZID=Europe/Berlin:20251023T140000
DTEND;TZID=Europe/Berlin:20251023T160000
DTSTAMP:20260420T164459
CREATED:20250831T230019Z
LAST-MODIFIED:20250829T072114Z
UID:8366-1761228000-1761235200@kalender.seniorinnen.wien
SUMMARY:Offene Handarbeitsrunde: "Hauben\, Schals & Handschuhe"
DESCRIPTION:Gemeinsames Werken\, Häkeln\, Stricken\, Schneiden und Prickeln! Im Oktober nutzen wir die Zeit um gemeinsam Hauben\, Schals\, Socken und Handschuhe für die Wohnungslosenhilfe herzustellen. Das Material (Wolle\, Strick- und Häkelnadeln) wird zur Verfügung gestellt und zusammen eine wunderschöne Winter -Sachspendenbox zusammengestellt\, die dann an ein Wohnungslosenprojekt übergeben wird. \nAnmeldung bis 26.9. (Betreff: Handarbeit+Datum) \nTel.: 0676 82 89 400 55\nE-Mail: wienzimmer@fsw.at \nInfo Veranstaltungsort: Jedleseerstr./Ecke Dunantgasse; Eingang schräg vis a vis der Henry Dunant Volksschule \nFoto: Freepik
URL:https://kalender.seniorinnen.wien/event/offene-handarbeitsrunde-hauben-schals-handschuhe/2025-10-23/
LOCATION:Grätzelzentrum WienZimmer Gartenstadt\, Jedleseerstr. 66-94/36/2\, Wien\, Wien\, 1210\, Austria
CATEGORIES:Begegnung,Kunst und Kultur,Monat der Senior:innen
ATTACH;FMTTYPE=image/jpeg:https://kalender.seniorinnen.wien/wp-content/uploads/2025/08/high-view-person-knitting-with-pink-thread-©freepik-scaled-e1754553682651.jpg
ORGANIZER;CN="WienZimmer Gartenstadt":MAILTO:wienzimmer@fsw.at
END:VEVENT
BEGIN:VEVENT
DTSTART;TZID=Europe/Berlin:20251023T100000
DTEND;TZID=Europe/Berlin:20251023T110000
DTSTAMP:20260420T164459
CREATED:20250831T230043Z
LAST-MODIFIED:20250826T140840Z
UID:8124-1761213600-1761217200@kalender.seniorinnen.wien
SUMMARY:Krafttraining für Senior:innen
DESCRIPTION:Beim Krafttraining für Senior:innen wird achtsam auf die individuellen Möglichkeiten eingegangen und gemeinsam durch verschiedene Übungen\, die Muskulatur gestärkt. \nMax. 10 Teilnehmer:innen \nAnmeldung bis 28.9. \nTel. 0676 8289 400 55\nE – Mail: wienzimmer@fsw.at (Betreff: Krafttraining + Datum) \nhttps://wienzimmer.fsw.at \n* leichter zu finden unter: Jedleseerstr./Ecke Dunantgasse; Eingang schräg vis a vis der Henry Dunant Volksschule \nFoto: Pixabay
URL:https://kalender.seniorinnen.wien/event/krafttraining-fuer-seniorinnen/2025-10-23/
LOCATION:Grätzelzentrum WienZimmer Gartenstadt\, Jedleseerstr. 66-94/36/2\, Wien\, Wien\, 1210\, Austria
CATEGORIES:Fit und Gesund,Monat der Senior:innen
ATTACH;FMTTYPE=image/jpeg:https://kalender.seniorinnen.wien/wp-content/uploads/2025/08/Pixabay_sport-908264_1280-e1754569395693.jpg
ORGANIZER;CN="WienZimmer Gartenstadt":MAILTO:wienzimmer@fsw.at
END:VEVENT
BEGIN:VEVENT
DTSTART;TZID=Europe/Berlin:20251018T093000
DTEND;TZID=Europe/Berlin:20251018T130000
DTSTAMP:20260420T164459
CREATED:20250831T230544Z
LAST-MODIFIED:20250826T094910Z
UID:8962-1760779800-1760792400@kalender.seniorinnen.wien
SUMMARY:Was der Beckenboden alles kann
DESCRIPTION:Der Beckenboden ist mehr als ein Auslaufschutz. Er ist ein Teamplayer und arbeitet mit vielen verschiedenen Körperbereichen zusammen. In diesem Workshop wird\nbesprochen\, was er mag und was nicht und welche ersten Schritte es braucht\, um den Beckenboden wahrzunehmen\, zu ertasten und gezielt zu trainieren. \nmax. 10 Teilnehmer:innen \nAnmeldung bis 26.9. \nTel.: 0676 8289 40055\nE-Mail: wienzimmer@fsw.at  – Betreff: Beckenboden \nHinweis:\nDer Kurs im im WienZimmer Gartenstadt ist leider NICHT barrierefrei zugänglich. Der Zugang zu Trainingsraum erfolgt über eine Stiege. Bitte bringen Sie bequeme Kleidung mit\, in der Sie sich frei bewegen können. \nFoto: Freepik
URL:https://kalender.seniorinnen.wien/event/was-der-beckenboden-alles-kann/
LOCATION:Grätzelzentrum WienZimmer Gartenstadt\, Jedleseerstr. 66-94/36/2\, Wien\, Wien\, 1210\, Austria
CATEGORIES:Fit und Gesund,Monat der Senior:innen
ATTACH;FMTTYPE=image/jpeg:https://kalender.seniorinnen.wien/wp-content/uploads/2025/08/front-view-old-woman-with-closed-eyes-beach-scaled-e1755849125393.jpg
ORGANIZER;CN="Gr%C3%A4tzlzentrum WienZimmer Gartenstadt":MAILTO:wienzimmer@fsw.at
END:VEVENT
BEGIN:VEVENT
DTSTART;TZID=Europe/Berlin:20251016T140000
DTEND;TZID=Europe/Berlin:20251016T160000
DTSTAMP:20260420T164459
CREATED:20250831T230019Z
LAST-MODIFIED:20250829T072114Z
UID:8365-1760623200-1760630400@kalender.seniorinnen.wien
SUMMARY:Offene Handarbeitsrunde: "Hauben\, Schals & Handschuhe"
DESCRIPTION:Gemeinsames Werken\, Häkeln\, Stricken\, Schneiden und Prickeln! Im Oktober nutzen wir die Zeit um gemeinsam Hauben\, Schals\, Socken und Handschuhe für die Wohnungslosenhilfe herzustellen. Das Material (Wolle\, Strick- und Häkelnadeln) wird zur Verfügung gestellt und zusammen eine wunderschöne Winter -Sachspendenbox zusammengestellt\, die dann an ein Wohnungslosenprojekt übergeben wird. \nAnmeldung bis 26.9. (Betreff: Handarbeit+Datum) \nTel.: 0676 82 89 400 55\nE-Mail: wienzimmer@fsw.at \nInfo Veranstaltungsort: Jedleseerstr./Ecke Dunantgasse; Eingang schräg vis a vis der Henry Dunant Volksschule \nFoto: Freepik
URL:https://kalender.seniorinnen.wien/event/offene-handarbeitsrunde-hauben-schals-handschuhe/2025-10-16/
LOCATION:Grätzelzentrum WienZimmer Gartenstadt\, Jedleseerstr. 66-94/36/2\, Wien\, Wien\, 1210\, Austria
CATEGORIES:Begegnung,Kunst und Kultur,Monat der Senior:innen
ATTACH;FMTTYPE=image/jpeg:https://kalender.seniorinnen.wien/wp-content/uploads/2025/08/high-view-person-knitting-with-pink-thread-©freepik-scaled-e1754553682651.jpg
ORGANIZER;CN="WienZimmer Gartenstadt":MAILTO:wienzimmer@fsw.at
END:VEVENT
BEGIN:VEVENT
DTSTART;TZID=Europe/Berlin:20251016T100000
DTEND;TZID=Europe/Berlin:20251016T110000
DTSTAMP:20260420T164459
CREATED:20250831T230043Z
LAST-MODIFIED:20250826T140839Z
UID:8123-1760608800-1760612400@kalender.seniorinnen.wien
SUMMARY:Krafttraining für Senior:innen
DESCRIPTION:Beim Krafttraining für Senior:innen wird achtsam auf die individuellen Möglichkeiten eingegangen und gemeinsam durch verschiedene Übungen\, die Muskulatur gestärkt. \nMax. 10 Teilnehmer:innen \nAnmeldung bis 28.9. \nTel. 0676 8289 400 55\nE – Mail: wienzimmer@fsw.at (Betreff: Krafttraining + Datum) \nhttps://wienzimmer.fsw.at \n* leichter zu finden unter: Jedleseerstr./Ecke Dunantgasse; Eingang schräg vis a vis der Henry Dunant Volksschule \nFoto: Pixabay
URL:https://kalender.seniorinnen.wien/event/krafttraining-fuer-seniorinnen/2025-10-16/
LOCATION:Grätzelzentrum WienZimmer Gartenstadt\, Jedleseerstr. 66-94/36/2\, Wien\, Wien\, 1210\, Austria
CATEGORIES:Fit und Gesund,Monat der Senior:innen
ATTACH;FMTTYPE=image/jpeg:https://kalender.seniorinnen.wien/wp-content/uploads/2025/08/Pixabay_sport-908264_1280-e1754569395693.jpg
ORGANIZER;CN="WienZimmer Gartenstadt":MAILTO:wienzimmer@fsw.at
END:VEVENT
BEGIN:VEVENT
DTSTART;TZID=Europe/Berlin:20251015T130000
DTEND;TZID=Europe/Berlin:20251015T143000
DTSTAMP:20260420T164459
CREATED:20250831T230007Z
LAST-MODIFIED:20250828T131445Z
UID:9637-1760533200-1760538600@kalender.seniorinnen.wien
SUMMARY:Wenn die Seele müde wird
DESCRIPTION:Depression ist mehr als schlechte Laune\nBei diesem Vortrag wollen wir mit dem Tabu um Depression brechen\, ein besserer Verständnis für diese psychische Erkrankung vermitteln und darüber sprechen\, wie man sie erkennt (bei sich selbst und anderen) und was man tun kann. \nBeim Vortrag der Community Nurses des Fonds Soziales Wien\, zum Thema Psychische Gesundheit / Depression\, geht es darum das Bewusstsein für die Erkrankung zu vermitteln.\nWoran erkenne ich eine psychische Erkrakung/Depression bei mir selbst und bei anderen? Was kann ich dann tun? Was gibt es für Präventionsmaßnahmen\, um einer psychischen\nErkrankung vorzubeugen? \nAnmeldung bis 26.9. \nTel.: 0676 8289 40055\nE-Mail: wienzimmer@fsw.at (Betreff:Depression) \nVeranstaltungsort: leichter zu finden unter: Jedleseerstr./Ecke Dunantgasse; Eingang schräg vis a vis der Henry Dunant Volksschule \nFoto: Freepik
URL:https://kalender.seniorinnen.wien/event/wenn-die-seele-muede-wird/
LOCATION:Grätzelzentrum WienZimmer Gartenstadt\, Jedleseerstr. 66-94/36/2\, Wien\, Wien\, 1210\, Austria
CATEGORIES:Monat der Senior:innen
ATTACH;FMTTYPE=image/jpeg:https://kalender.seniorinnen.wien/wp-content/uploads/2025/08/nahaufnahme-einer-person-die-depressionen-leidet-scaled.jpg
ORGANIZER;CN="Gr%C3%A4tzlzentrum WienZimmer Gartenstadt":MAILTO:wienzimmer@fsw.at
END:VEVENT
BEGIN:VEVENT
DTSTART;TZID=Europe/Berlin:20251011T093000
DTEND;TZID=Europe/Berlin:20251011T130000
DTSTAMP:20260420T164459
CREATED:20250831T231049Z
LAST-MODIFIED:20250826T095910Z
UID:8912-1760175000-1760187600@kalender.seniorinnen.wien
SUMMARY:Fußreflexzonenmassage zur Selbstanwendung
DESCRIPTION:Die Reflexzonen-Stimulation auf der Fußsohle ist eine effektive Methode\, um Verspannungen zu lösen und die Selbstheilungskräfte zu aktivieren. Fußreflexzonenmassage können Sie ganz einfach selber machen. Die Fußsohlen-Reflexzonen-Stimulation ist eine effektive Methode\, um Verspannungen zu lösen und die Selbstheilungskräfte zu aktivieren. Mit einfachen Techniken können Sie gezielt Druckpunkte auf der Fußsohle sebst stimulieren und so die Funktion verschiedener Organe unterstützen. \nmax. 10 Teilnehmer:innen \nAnmeldung bis 26.9. \nTel.: 0676 8289 4005501\nE-Mail: wienzimmer@fsw.at  – Betreff: Fußmassage \nDer Kurs im im WienZimmer Gartenstadt ist leider NICHT barrierefrei zugänglich. Der Zugang zu Trainingsraum erfolgt über eine Stiege. Bitte bringen Sie bequeme Kleidung mit\, in der Sie sich frei bewegen können. \nFoto: Freepik
URL:https://kalender.seniorinnen.wien/event/fussreflexzonenmassage-zur-selbstanwendung/
LOCATION:Grätzelzentrum WienZimmer Gartenstadt\, Jedleseerstr. 66-94/36/2\, Wien\, Wien\, 1210\, Austria
CATEGORIES:Fit und Gesund,Monat der Senior:innen
ATTACH;FMTTYPE=image/jpeg:https://kalender.seniorinnen.wien/wp-content/uploads/2025/08/dw14_ier7_220804-scaled-e1755783135167.jpg
ORGANIZER;CN="Gr%C3%A4tzlzentrum WienZimmer Gartenstadt":MAILTO:wienzimmer@fsw.at
END:VEVENT
BEGIN:VEVENT
DTSTART;TZID=Europe/Berlin:20251010T130000
DTEND;TZID=Europe/Berlin:20251010T143000
DTSTAMP:20260420T164459
CREATED:20250831T230004Z
LAST-MODIFIED:20250902T074934Z
UID:8285-1760101200-1760106600@kalender.seniorinnen.wien
SUMMARY:Vortrag: Demenz verstehen - Unterstützung für Angehörige
DESCRIPTION:„Validation nach Feil“ ist eine Methode zur Kommunikation mit Menschen mit Demenz. Das einfühlsame Zuhören kann Stress abbauen und ein würdevolles Zusammenleben erleichtern. \nAnmeldung bis 26.9. \nTel.: 0676 828 9400 55\nE-Mail: wienzimmer@fsw.at (Betreff: Demenz) \nFoto: Pixabay
URL:https://kalender.seniorinnen.wien/event/vortrag-demenz-verstehen-unterstuetzung-fuer-angehoerige/
LOCATION:Grätzelzentrum WienZimmer Gartenstadt\, Jedleseerstr. 66-94/36/2\, Wien\, Wien\, 1210\, Austria
CATEGORIES:Demenz,Monat der Senior:innen
ATTACH;FMTTYPE=image/jpeg:https://kalender.seniorinnen.wien/wp-content/uploads/2025/08/note-2527442_1920-e1756291109952.jpg
END:VEVENT
BEGIN:VEVENT
DTSTART;TZID=Europe/Berlin:20251009T140000
DTEND;TZID=Europe/Berlin:20251009T160000
DTSTAMP:20260420T164459
CREATED:20250831T230019Z
LAST-MODIFIED:20250829T072113Z
UID:8364-1760018400-1760025600@kalender.seniorinnen.wien
SUMMARY:Offene Handarbeitsrunde: "Hauben\, Schals & Handschuhe"
DESCRIPTION:Gemeinsames Werken\, Häkeln\, Stricken\, Schneiden und Prickeln! Im Oktober nutzen wir die Zeit um gemeinsam Hauben\, Schals\, Socken und Handschuhe für die Wohnungslosenhilfe herzustellen. Das Material (Wolle\, Strick- und Häkelnadeln) wird zur Verfügung gestellt und zusammen eine wunderschöne Winter -Sachspendenbox zusammengestellt\, die dann an ein Wohnungslosenprojekt übergeben wird. \nAnmeldung bis 26.9. (Betreff: Handarbeit+Datum) \nTel.: 0676 82 89 400 55\nE-Mail: wienzimmer@fsw.at \nInfo Veranstaltungsort: Jedleseerstr./Ecke Dunantgasse; Eingang schräg vis a vis der Henry Dunant Volksschule \nFoto: Freepik
URL:https://kalender.seniorinnen.wien/event/offene-handarbeitsrunde-hauben-schals-handschuhe/2025-10-09/
LOCATION:Grätzelzentrum WienZimmer Gartenstadt\, Jedleseerstr. 66-94/36/2\, Wien\, Wien\, 1210\, Austria
CATEGORIES:Begegnung,Kunst und Kultur,Monat der Senior:innen
ATTACH;FMTTYPE=image/jpeg:https://kalender.seniorinnen.wien/wp-content/uploads/2025/08/high-view-person-knitting-with-pink-thread-©freepik-scaled-e1754553682651.jpg
ORGANIZER;CN="WienZimmer Gartenstadt":MAILTO:wienzimmer@fsw.at
END:VEVENT
BEGIN:VEVENT
DTSTART;TZID=Europe/Berlin:20251009T100000
DTEND;TZID=Europe/Berlin:20251009T110000
DTSTAMP:20260420T164459
CREATED:20250831T230043Z
LAST-MODIFIED:20250826T140839Z
UID:8122-1760004000-1760007600@kalender.seniorinnen.wien
SUMMARY:Krafttraining für Senior:innen
DESCRIPTION:Beim Krafttraining für Senior:innen wird achtsam auf die individuellen Möglichkeiten eingegangen und gemeinsam durch verschiedene Übungen\, die Muskulatur gestärkt. \nMax. 10 Teilnehmer:innen \nAnmeldung bis 28.9. \nTel. 0676 8289 400 55\nE – Mail: wienzimmer@fsw.at (Betreff: Krafttraining + Datum) \nhttps://wienzimmer.fsw.at \n* leichter zu finden unter: Jedleseerstr./Ecke Dunantgasse; Eingang schräg vis a vis der Henry Dunant Volksschule \nFoto: Pixabay
URL:https://kalender.seniorinnen.wien/event/krafttraining-fuer-seniorinnen/2025-10-09/
LOCATION:Grätzelzentrum WienZimmer Gartenstadt\, Jedleseerstr. 66-94/36/2\, Wien\, Wien\, 1210\, Austria
CATEGORIES:Fit und Gesund,Monat der Senior:innen
ATTACH;FMTTYPE=image/jpeg:https://kalender.seniorinnen.wien/wp-content/uploads/2025/08/Pixabay_sport-908264_1280-e1754569395693.jpg
ORGANIZER;CN="WienZimmer Gartenstadt":MAILTO:wienzimmer@fsw.at
END:VEVENT
BEGIN:VEVENT
DTSTART;TZID=Europe/Berlin:20251002T140000
DTEND;TZID=Europe/Berlin:20251002T160000
DTSTAMP:20260420T164459
CREATED:20250831T230019Z
LAST-MODIFIED:20250829T072113Z
UID:8361-1759413600-1759420800@kalender.seniorinnen.wien
SUMMARY:Offene Handarbeitsrunde: "Hauben\, Schals & Handschuhe"
DESCRIPTION:Gemeinsames Werken\, Häkeln\, Stricken\, Schneiden und Prickeln! Im Oktober nutzen wir die Zeit um gemeinsam Hauben\, Schals\, Socken und Handschuhe für die Wohnungslosenhilfe herzustellen. Das Material (Wolle\, Strick- und Häkelnadeln) wird zur Verfügung gestellt und zusammen eine wunderschöne Winter -Sachspendenbox zusammengestellt\, die dann an ein Wohnungslosenprojekt übergeben wird. \nAnmeldung bis 26.9. (Betreff: Handarbeit+Datum) \nTel.: 0676 82 89 400 55\nE-Mail: wienzimmer@fsw.at \nInfo Veranstaltungsort: Jedleseerstr./Ecke Dunantgasse; Eingang schräg vis a vis der Henry Dunant Volksschule \nFoto: Freepik
URL:https://kalender.seniorinnen.wien/event/offene-handarbeitsrunde-hauben-schals-handschuhe/2025-10-02/
LOCATION:Grätzelzentrum WienZimmer Gartenstadt\, Jedleseerstr. 66-94/36/2\, Wien\, Wien\, 1210\, Austria
CATEGORIES:Begegnung,Kunst und Kultur,Monat der Senior:innen
ATTACH;FMTTYPE=image/jpeg:https://kalender.seniorinnen.wien/wp-content/uploads/2025/08/high-view-person-knitting-with-pink-thread-©freepik-scaled-e1754553682651.jpg
ORGANIZER;CN="WienZimmer Gartenstadt":MAILTO:wienzimmer@fsw.at
END:VEVENT
BEGIN:VEVENT
DTSTART;TZID=Europe/Berlin:20251002T100000
DTEND;TZID=Europe/Berlin:20251002T110000
DTSTAMP:20260420T164459
CREATED:20250831T230043Z
LAST-MODIFIED:20250826T140839Z
UID:8117-1759399200-1759402800@kalender.seniorinnen.wien
SUMMARY:Krafttraining für Senior:innen
DESCRIPTION:Beim Krafttraining für Senior:innen wird achtsam auf die individuellen Möglichkeiten eingegangen und gemeinsam durch verschiedene Übungen\, die Muskulatur gestärkt. \nMax. 10 Teilnehmer:innen \nAnmeldung bis 28.9. \nTel. 0676 8289 400 55\nE – Mail: wienzimmer@fsw.at (Betreff: Krafttraining + Datum) \nhttps://wienzimmer.fsw.at \n* leichter zu finden unter: Jedleseerstr./Ecke Dunantgasse; Eingang schräg vis a vis der Henry Dunant Volksschule \nFoto: Pixabay
URL:https://kalender.seniorinnen.wien/event/krafttraining-fuer-seniorinnen/2025-10-02/
LOCATION:Grätzelzentrum WienZimmer Gartenstadt\, Jedleseerstr. 66-94/36/2\, Wien\, Wien\, 1210\, Austria
CATEGORIES:Fit und Gesund,Monat der Senior:innen
ATTACH;FMTTYPE=image/jpeg:https://kalender.seniorinnen.wien/wp-content/uploads/2025/08/Pixabay_sport-908264_1280-e1754569395693.jpg
ORGANIZER;CN="WienZimmer Gartenstadt":MAILTO:wienzimmer@fsw.at
END:VEVENT
END:VCALENDAR