BEGIN:VCALENDAR
VERSION:2.0
PRODID:-//Wien für Senior:innen - ECPv6.15.17.1//NONSGML v1.0//EN
CALSCALE:GREGORIAN
METHOD:PUBLISH
X-ORIGINAL-URL:https://kalender.seniorinnen.wien
X-WR-CALDESC:Veranstaltungen für Wien für Senior:innen
REFRESH-INTERVAL;VALUE=DURATION:PT1H
X-Robots-Tag:noindex
X-PUBLISHED-TTL:PT1H
BEGIN:VTIMEZONE
TZID:Europe/Berlin
BEGIN:DAYLIGHT
TZOFFSETFROM:+0100
TZOFFSETTO:+0200
TZNAME:CEST
DTSTART:20230326T010000
END:DAYLIGHT
BEGIN:STANDARD
TZOFFSETFROM:+0200
TZOFFSETTO:+0100
TZNAME:CET
DTSTART:20231029T010000
END:STANDARD
BEGIN:DAYLIGHT
TZOFFSETFROM:+0100
TZOFFSETTO:+0200
TZNAME:CEST
DTSTART:20240331T010000
END:DAYLIGHT
BEGIN:STANDARD
TZOFFSETFROM:+0200
TZOFFSETTO:+0100
TZNAME:CET
DTSTART:20241027T010000
END:STANDARD
BEGIN:DAYLIGHT
TZOFFSETFROM:+0100
TZOFFSETTO:+0200
TZNAME:CEST
DTSTART:20250330T010000
END:DAYLIGHT
BEGIN:STANDARD
TZOFFSETFROM:+0200
TZOFFSETTO:+0100
TZNAME:CET
DTSTART:20251026T010000
END:STANDARD
END:VTIMEZONE
BEGIN:VEVENT
DTSTART;TZID=Europe/Berlin:20241003T153000
DTEND;TZID=Europe/Berlin:20241003T170000
DTSTAMP:20260421T003348
CREATED:20240822T114933Z
LAST-MODIFIED:20240822T114933Z
UID:5988-1727969400-1727974800@kalender.seniorinnen.wien
SUMMARY:Stadtteil-Spaziergang: Entdeckungsreise durch Atzgersdorf
DESCRIPTION:Die Gebietsbetreuung Stadterneuerung lädt zur Erkundung des neu entstandenen Stadtteils und der historischen Besonderheiten von Atzgersdorf ein. \nAtzgersdorf hat sich in den letzten Jahren stark gewandelt: Aus alten Gewerbegebieten und Brachen sind lebendige Stadtteile mit leistbarem Wohnraum und Angeboten für die gesamte Nachbarschaft entstanden. \nBei einem geführten Rundgang besuchen wir spannende Orte im Grätzl. Gemeinsam mit Expert*innen der Gebietsbetreuung Stadterneuerung entdecken Besucherinnen und Besucher den Stadtteil spielerisch und erfahren Wissenswertes zur Geschichte\, zu den Entwicklungen\, Angeboten im Stadtteil und vieles mehr. \nDer Spaziergang dauert ca. 1\,5 Stunden und endet beim Stadtpark Atzgersdorf. \n  \nAnmeldung: 2.9. bis 2.10.2024\, max. Teilnehmer:innen: 20 \nTel.: 01 89 36 657 \nE-Mail: suedwest@gbstern.at \nWebsite: www.gbstern.at \n  \nFoto: Dutkowski / GB*
URL:https://kalender.seniorinnen.wien/event/stadtteil-spaziergang-entdeckungsreise-durch-atzgersdorf/
LOCATION:Gebietsbetreuung 23\, Gustav-Holzmann-Platz\, Wien\, Wien\, 1230\, Österreich
CATEGORIES:Monat der Senior:innen
ATTACH;FMTTYPE=image/jpeg:https://kalender.seniorinnen.wien/wp-content/uploads/2024/08/Foto_Monat-Seniorinnen-DD_GB_suedwest-scaled-e1724157676375.jpg
ORGANIZER;CN="Gebietsbetreuung Stadterneuerung GB*":MAILTO:info@gbstern.at
END:VEVENT
END:VCALENDAR