BEGIN:VCALENDAR
VERSION:2.0
PRODID:-//Wien für Senior:innen - ECPv6.15.17.1//NONSGML v1.0//EN
CALSCALE:GREGORIAN
METHOD:PUBLISH
X-ORIGINAL-URL:https://kalender.seniorinnen.wien
X-WR-CALDESC:Veranstaltungen für Wien für Senior:innen
REFRESH-INTERVAL;VALUE=DURATION:PT1H
X-Robots-Tag:noindex
X-PUBLISHED-TTL:PT1H
BEGIN:VTIMEZONE
TZID:Europe/Berlin
BEGIN:DAYLIGHT
TZOFFSETFROM:+0100
TZOFFSETTO:+0200
TZNAME:CEST
DTSTART:20240331T010000
END:DAYLIGHT
BEGIN:STANDARD
TZOFFSETFROM:+0200
TZOFFSETTO:+0100
TZNAME:CET
DTSTART:20241027T010000
END:STANDARD
BEGIN:DAYLIGHT
TZOFFSETFROM:+0100
TZOFFSETTO:+0200
TZNAME:CEST
DTSTART:20250330T010000
END:DAYLIGHT
BEGIN:STANDARD
TZOFFSETFROM:+0200
TZOFFSETTO:+0100
TZNAME:CET
DTSTART:20251026T010000
END:STANDARD
BEGIN:DAYLIGHT
TZOFFSETFROM:+0100
TZOFFSETTO:+0200
TZNAME:CEST
DTSTART:20260329T010000
END:DAYLIGHT
BEGIN:STANDARD
TZOFFSETFROM:+0200
TZOFFSETTO:+0100
TZNAME:CET
DTSTART:20261025T010000
END:STANDARD
END:VTIMEZONE
BEGIN:VEVENT
DTSTART;VALUE=DATE:20251207
DTEND;VALUE=DATE:20251208
DTSTAMP:20260420T220145
CREATED:20251202T082518Z
LAST-MODIFIED:20251202T082659Z
UID:11316-1765065600-1765151999@kalender.seniorinnen.wien
SUMMARY:GasthausRave in Floridsdorf
DESCRIPTION:GasthausRave zur Weihnachtszeit in Floridsdorf mit Punsch\, Krapfen und heißen Waffeln … \nEingeladen sind im speziellen\, aber nicht ausschließlich\, Seniorinnen und Senioren\, Menschen mit Behinderung\, Eltern\, sowie die Raver von damals und heute\, um an einem feinen Wintersonnensonntag\, zusammen\, unterm Sternenhimmel zu tanzen und zu lachen. \nE-Mail: technoagevienna@gmail.com\nTel.: 0677 637 89 688 \nFoto: technoagevienna
URL:https://kalender.seniorinnen.wien/event/gasthausrave-in-floridsdorf/
LOCATION:Gasthaus Birner\, An der Oberen Alten Donau 47\, Wien\, Wien\, 1210\, Austria
ATTACH;FMTTYPE=image/jpeg:https://kalender.seniorinnen.wien/wp-content/uploads/2025/12/BIRNER-header.jpg
END:VEVENT
END:VCALENDAR