BEGIN:VCALENDAR
VERSION:2.0
PRODID:-//Wien für Senior:innen - ECPv6.15.17.1//NONSGML v1.0//EN
CALSCALE:GREGORIAN
METHOD:PUBLISH
X-WR-CALNAME:Wien für Senior:innen
X-ORIGINAL-URL:https://kalender.seniorinnen.wien
X-WR-CALDESC:Veranstaltungen für Wien für Senior:innen
REFRESH-INTERVAL;VALUE=DURATION:PT1H
X-Robots-Tag:noindex
X-PUBLISHED-TTL:PT1H
BEGIN:VTIMEZONE
TZID:Europe/Berlin
BEGIN:DAYLIGHT
TZOFFSETFROM:+0100
TZOFFSETTO:+0200
TZNAME:CEST
DTSTART:20240331T010000
END:DAYLIGHT
BEGIN:STANDARD
TZOFFSETFROM:+0200
TZOFFSETTO:+0100
TZNAME:CET
DTSTART:20241027T010000
END:STANDARD
BEGIN:DAYLIGHT
TZOFFSETFROM:+0100
TZOFFSETTO:+0200
TZNAME:CEST
DTSTART:20250330T010000
END:DAYLIGHT
BEGIN:STANDARD
TZOFFSETFROM:+0200
TZOFFSETTO:+0100
TZNAME:CET
DTSTART:20251026T010000
END:STANDARD
BEGIN:DAYLIGHT
TZOFFSETFROM:+0100
TZOFFSETTO:+0200
TZNAME:CEST
DTSTART:20260329T010000
END:DAYLIGHT
BEGIN:STANDARD
TZOFFSETFROM:+0200
TZOFFSETTO:+0100
TZNAME:CET
DTSTART:20261025T010000
END:STANDARD
END:VTIMEZONE
BEGIN:VEVENT
DTSTART;TZID=Europe/Berlin:20251008T160000
DTEND;TZID=Europe/Berlin:20251008T180000
DTSTAMP:20260421T001114
CREATED:20250930T121113Z
LAST-MODIFIED:20250930T121129Z
UID:10719-1759939200-1759946400@kalender.seniorinnen.wien
SUMMARY:Kontaktbesuchsdienst: Sprechstunde für Menschen ab 60 Jahren im 10. Bezirk
DESCRIPTION:Die Wiener Sozialdienste informieren alle in Wien lebenden Personen ab 60 Jahren über die sozialen Dienstleistungen der Stadt. \nIn speziellen Sprechstunden werden im 10. Bezirk passende Ansprechpartner:innen\, Telefonnummern und Adressen genannt – rund um Themen wie Freizeitaktivitäten\, Unterstützung für pflegende Angehörige\, Wohnen\, Vorsorge und das digitale Angebot der Stadt. \nSprechstunde (Deutsch/BKS)\nFEM Med Frauengesundheitszentrum\nReumannplatz 7\, 1100 Wien  \nMi.\, 08.10.2025\, 16 – 18 \nTelefonische Voranmeldung unter 01 890 22 22\nDie Sprechstunde ist kostenlos. \n 
URL:https://kalender.seniorinnen.wien/event/kontaktbesuchsdienst-sprechstunde-fuer-menschen-ab-60-jahren-im-10-bezirk/
LOCATION:Frauengesundheitszentrum FEM Med\, Reumannplatz 7\, Wien\, Wien\, 1100\, Austria
CATEGORIES:Grätzel,Information
ATTACH;FMTTYPE=image/jpeg:https://kalender.seniorinnen.wien/wp-content/uploads/2019/08/WISO_Kontaktbesuchsdienst.jpg
END:VEVENT
BEGIN:VEVENT
DTSTART;TZID=Europe/Berlin:20251008T090000
DTEND;TZID=Europe/Berlin:20251008T103000
DTSTAMP:20260421T001114
CREATED:20250831T230040Z
LAST-MODIFIED:20250829T093852Z
UID:8154-1759914000-1759919400@kalender.seniorinnen.wien
SUMMARY:Bewegt & beglückt - Sanftes Yoga für neue Energie (exklusiv für Frauen)
DESCRIPTION:Sanfte Übungen\, bewusste Atmung und entspannende Momente bringen Körper und Geist in Einklang\nWir stärken die Beweglichkeit\, fördern die innere Balance und tanken neue Kraft. Mit Leichtigkeit in Bewegung kommen: In diesem Yogakurs stärken wir die Beweglichkeit\, fördern die innere Balance und tanken neue Kraft. Sanfte Übungen\, bewusste Atmung und entspannende Momente bringen Körper und Geist in Einklang. \nEinfach mitmachen\, durchatmen und sich rundum wohlfühlen! (exklusiv für Frauen) \nMax. 20 Teilnehmerinnen \nAnmeldung bis 30.9. \nTel.: 01 890 2222\nE – Mail: office@femmed.at \nWeitere Infos: https://femmed.at \n  \nFoto: Freepik \n 
URL:https://kalender.seniorinnen.wien/event/bewegt-beglueckt-sanftes-yoga-fuer-neue-energie-exklusiv-fuer-frauen/
LOCATION:Frauengesundheitszentrum FEM Med\, Reumannplatz 7\, Wien\, Wien\, 1100\, Austria
CATEGORIES:Fit und Gesund,Frauen,Monat der Senior:innen
ATTACH;FMTTYPE=image/jpeg:https://kalender.seniorinnen.wien/wp-content/uploads/2025/09/close-up-women-stretching-scaled-e1756460273128.jpg
ORGANIZER;CN="Frauengesundheitszentrum FEM Med":MAILTO:office@femmed.at
END:VEVENT
BEGIN:VEVENT
DTSTART;TZID=Europe/Berlin:20251003T090000
DTEND;TZID=Europe/Berlin:20251003T103000
DTSTAMP:20260421T001114
CREATED:20250831T230026Z
LAST-MODIFIED:20250828T115833Z
UID:8974-1759482000-1759487400@kalender.seniorinnen.wien
SUMMARY:Willkommen im Frauengesundheitszentrum FEM Med
DESCRIPTION:Hier bekommen Sie praktische Tipps für Ihren Alltag: Erfahren Sie\, wie Sie Fitness und Wohlbefinden auch mit 60+ pflegen und fördern können.\nWir laden Sie auch zu einem freiwilligen Gesundheitscheck ein\, bei dem Sie Ihren Blutdruck\, Ihr Körpergewicht\, Fett- und Muskelmasse messen lassen können. \nMaximal 15 Teilnehmerinnen \n Anmeldung bis 1.10. \nTel: 01 890 2222\nE-Mail: office@femmed.at\nWeb: https://femmed.at/ \nFoto: Daniel Nuderscher
URL:https://kalender.seniorinnen.wien/event/willkommen-im-frauengesundheitszentrum-fem-med/
LOCATION:Frauengesundheitszentrum FEM Med\, Reumannplatz 7\, Wien\, Wien\, 1100\, Austria
CATEGORIES:Frauen,Monat der Senior:innen
ATTACH;FMTTYPE=image/jpeg:https://kalender.seniorinnen.wien/wp-content/uploads/2022/10/NZ12_Fotos-cDaniel-NuderscherWHW-NZ-Blutdruckmessen-03_01-scaled-e1756382267153.jpg
ORGANIZER;CN="Frauengesundheitszentrum FEM Med":MAILTO:office@femmed.at
END:VEVENT
END:VCALENDAR