BEGIN:VCALENDAR
VERSION:2.0
PRODID:-//Wien für Senior:innen - ECPv6.15.17.1//NONSGML v1.0//EN
CALSCALE:GREGORIAN
METHOD:PUBLISH
X-WR-CALNAME:Wien für Senior:innen
X-ORIGINAL-URL:https://kalender.seniorinnen.wien
X-WR-CALDESC:Veranstaltungen für Wien für Senior:innen
REFRESH-INTERVAL;VALUE=DURATION:PT1H
X-Robots-Tag:noindex
X-PUBLISHED-TTL:PT1H
BEGIN:VTIMEZONE
TZID:Europe/Berlin
BEGIN:DAYLIGHT
TZOFFSETFROM:+0100
TZOFFSETTO:+0200
TZNAME:CEST
DTSTART:20240331T010000
END:DAYLIGHT
BEGIN:STANDARD
TZOFFSETFROM:+0200
TZOFFSETTO:+0100
TZNAME:CET
DTSTART:20241027T010000
END:STANDARD
BEGIN:DAYLIGHT
TZOFFSETFROM:+0100
TZOFFSETTO:+0200
TZNAME:CEST
DTSTART:20250330T010000
END:DAYLIGHT
BEGIN:STANDARD
TZOFFSETFROM:+0200
TZOFFSETTO:+0100
TZNAME:CET
DTSTART:20251026T010000
END:STANDARD
BEGIN:DAYLIGHT
TZOFFSETFROM:+0100
TZOFFSETTO:+0200
TZNAME:CEST
DTSTART:20260329T010000
END:DAYLIGHT
BEGIN:STANDARD
TZOFFSETFROM:+0200
TZOFFSETTO:+0100
TZNAME:CET
DTSTART:20261025T010000
END:STANDARD
BEGIN:DAYLIGHT
TZOFFSETFROM:+0100
TZOFFSETTO:+0200
TZNAME:CEST
DTSTART:20270328T010000
END:DAYLIGHT
BEGIN:STANDARD
TZOFFSETFROM:+0200
TZOFFSETTO:+0100
TZNAME:CET
DTSTART:20271031T010000
END:STANDARD
END:VTIMEZONE
BEGIN:VEVENT
DTSTART;TZID=Europe/Berlin:20260418T150000
DTEND;TZID=Europe/Berlin:20260418T210000
DTSTAMP:20260421T003223
CREATED:20260316T090425Z
LAST-MODIFIED:20260316T090425Z
UID:12430-1776524400-1776546000@kalender.seniorinnen.wien
SUMMARY:techNOage CLUBBING
DESCRIPTION:FLUCC am Praterstern\, oben auf dem DECK\, Praterstern 5 \nDiesmal werden keine DJs angekündigt. Lassen wir uns überraschen… \nBarrierefreien Zugang\nKaffe & Kuchen\nGenerationsmiteinander \ntechNOage on INSTA\ntechNOage on FB\ntechNOage on TELEGRAM \nEintritt auf Spendenbasis und selbstbestimmt \nIllustration: techNOage
URL:https://kalender.seniorinnen.wien/event/technoage-clubbing-3/2026-04-18/
LOCATION:Flucc
CATEGORIES:Unterhaltung
ATTACH;FMTTYPE=image/jpeg:https://kalender.seniorinnen.wien/wp-content/uploads/2025/12/techNOage.jpg
END:VEVENT
BEGIN:VEVENT
DTSTART;TZID=Europe/Berlin:20260321T150000
DTEND;TZID=Europe/Berlin:20260321T210000
DTSTAMP:20260421T003223
CREATED:20260316T090425Z
LAST-MODIFIED:20260316T090425Z
UID:12427-1774105200-1774126800@kalender.seniorinnen.wien
SUMMARY:techNOage CLUBBING
DESCRIPTION:FLUCC am Praterstern\, oben auf dem DECK\, Praterstern 5 \nDiesmal werden keine DJs angekündigt. Lassen wir uns überraschen… \nBarrierefreien Zugang\nKaffe & Kuchen\nGenerationsmiteinander \ntechNOage on INSTA\ntechNOage on FB\ntechNOage on TELEGRAM \nEintritt auf Spendenbasis und selbstbestimmt \nIllustration: techNOage
URL:https://kalender.seniorinnen.wien/event/technoage-clubbing-3/2026-03-21/
LOCATION:Flucc
CATEGORIES:Unterhaltung
ATTACH;FMTTYPE=image/jpeg:https://kalender.seniorinnen.wien/wp-content/uploads/2025/12/techNOage.jpg
END:VEVENT
BEGIN:VEVENT
DTSTART;TZID=Europe/Berlin:20260228T153000
DTEND;TZID=Europe/Berlin:20260228T210000
DTSTAMP:20260421T003223
CREATED:20260223T091014Z
LAST-MODIFIED:20260223T091014Z
UID:12205-1772292600-1772312400@kalender.seniorinnen.wien
SUMMARY:techNOage CLUBBING
DESCRIPTION:FLUCC-Wanne\, Praterstern 5 \nDJ_XOPHON Session\nDuett zwischen akustischen und elektronischen Schallwellen: Edith Lettner (Saxophonistin\, Komponistin\, Malerin) und SNDR_Xone\nAb 17:30 Uhr steuert Thommy Coconut ein hybrides Set mit Schallplatten und Drum-Maschine.\nMichael Zehetner spielt danach ein wunderbares Closing.\nBarrierefreien Zugang\nKaffe & Kuchen\nGenerationsmiteinander \ntechNOage on INSTA\ntechNOage on FB\ntechNOage on TELEGRAM \nEintritt: Empfohlen 2\,50 € bis 50\,- € \nIllustration: techNOage
URL:https://kalender.seniorinnen.wien/event/technoage-clubbing-2/
LOCATION:Flucc
CATEGORIES:Unterhaltung
ATTACH;FMTTYPE=image/jpeg:https://kalender.seniorinnen.wien/wp-content/uploads/2025/12/techNOage.jpg
END:VEVENT
BEGIN:VEVENT
DTSTART;TZID=Europe/Berlin:20251220T150000
DTEND;TZID=Europe/Berlin:20251220T210000
DTSTAMP:20260421T003223
CREATED:20251212T085038Z
LAST-MODIFIED:20251212T123753Z
UID:11352-1766242800-1766264400@kalender.seniorinnen.wien
SUMMARY:techNOage CLUBBING
DESCRIPTION:FLUCC-Wanne\, Praterstern 5\nUnser WANNE-Spezial zieht uns in den Untergrund der ehemaligen Unterführung der U2-Bim zum Wurstelprater. \nDJ LINEUP\nTRENDWÆNDE – Kay Barton – Berlin/Wien\nMELIMEKO – Wien\nMichael Zehetner – Wien\nSNDR_Xone – Berlin/Wien \nBarrierefreien Zugang\nKaffe & Kuchen\nGenerationsmiteinander \ntechNOage on INSTA\ntechNOage on FB\ntechNOage on TELEGRAM \nEintritt: ab zehn Euro \nIllustration: techNOage
URL:https://kalender.seniorinnen.wien/event/technoage-clubbing/
LOCATION:Flucc
CATEGORIES:Unterhaltung
ATTACH;FMTTYPE=image/jpeg:https://kalender.seniorinnen.wien/wp-content/uploads/2025/12/techNOage.jpg
ORGANIZER;CN="techNoage":MAILTO:technoagevienna@gmail.com
END:VEVENT
BEGIN:VEVENT
DTSTART;TZID=Europe/Berlin:20251018T180000
DTEND;TZID=Europe/Berlin:20251018T180000
DTSTAMP:20260421T003223
CREATED:20250831T230038Z
LAST-MODIFIED:20250826T142609Z
UID:8158-1760810400-1760810400@kalender.seniorinnen.wien
SUMMARY:techNOage - ab sechs Uhr Clubbing
DESCRIPTION:Gemeinsam tanzen\, die Technomusik spüren und lachen: Beim inklusiven Clubbing-Format treffen Raver:innen von gestern auf Neugierige von heute. Offen für alle Generationen\, ohne\nBarrieren und Vorurteile! \nAnmeldung bis 9.10. \nTel.: 0677 637 89 688\nE – Mail: technoagevienna@gmail.com \nFoto: Pixabay
URL:https://kalender.seniorinnen.wien/event/technoage-ab-sechs-uhr-clubbing-2/
LOCATION:Flucc
CATEGORIES:Monat der Senior:innen
ATTACH;FMTTYPE=image/jpeg:https://kalender.seniorinnen.wien/wp-content/uploads/2025/08/dance-floor_Pixabay-e1754035190484.jpg
ORGANIZER;CN="techNoage":MAILTO:technoagevienna@gmail.com
END:VEVENT
END:VCALENDAR