BEGIN:VCALENDAR
VERSION:2.0
PRODID:-//Wien für Senior:innen - ECPv6.15.17.1//NONSGML v1.0//EN
CALSCALE:GREGORIAN
METHOD:PUBLISH
X-WR-CALNAME:Wien für Senior:innen
X-ORIGINAL-URL:https://kalender.seniorinnen.wien
X-WR-CALDESC:Veranstaltungen für Wien für Senior:innen
REFRESH-INTERVAL;VALUE=DURATION:PT1H
X-Robots-Tag:noindex
X-PUBLISHED-TTL:PT1H
BEGIN:VTIMEZONE
TZID:Europe/Berlin
BEGIN:DAYLIGHT
TZOFFSETFROM:+0100
TZOFFSETTO:+0200
TZNAME:CEST
DTSTART:20240331T010000
END:DAYLIGHT
BEGIN:STANDARD
TZOFFSETFROM:+0200
TZOFFSETTO:+0100
TZNAME:CET
DTSTART:20241027T010000
END:STANDARD
BEGIN:DAYLIGHT
TZOFFSETFROM:+0100
TZOFFSETTO:+0200
TZNAME:CEST
DTSTART:20250330T010000
END:DAYLIGHT
BEGIN:STANDARD
TZOFFSETFROM:+0200
TZOFFSETTO:+0100
TZNAME:CET
DTSTART:20251026T010000
END:STANDARD
BEGIN:DAYLIGHT
TZOFFSETFROM:+0100
TZOFFSETTO:+0200
TZNAME:CEST
DTSTART:20260329T010000
END:DAYLIGHT
BEGIN:STANDARD
TZOFFSETFROM:+0200
TZOFFSETTO:+0100
TZNAME:CET
DTSTART:20261025T010000
END:STANDARD
END:VTIMEZONE
BEGIN:VEVENT
DTSTART;TZID=Europe/Berlin:20250220T173000
DTEND;TZID=Europe/Berlin:20250220T190000
DTSTAMP:20260421T031950
CREATED:20250128T141349Z
LAST-MODIFIED:20250128T141349Z
UID:7270-1740072600-1740078000@kalender.seniorinnen.wien
SUMMARY:Meidlinger Demenzjahrestag
DESCRIPTION:Herzliche Einladung zur Jahresfeier „Demenzfreundlicher Bezirk Meidling“! \nWann: Donnerstag\, 20.2.2025\, von 17:30 bis 19:00 Uhr \nWo: Ferdinand Kral-Saal\, BV Meidling\, Schönbrunner Straße 259 \n\nBegrüßung: BV Ing. Wilfried Zankl und Anna Bolovich (Bezirkssenior:innenbeauftragte)\nVortrag „TagFamilien in den Häusern zum Leben – Wohnen mit Demenz“ (Alexandra Troch – Fachexpertin Häuser zum Leben)\nVortrag Dr. Clemens Farr\, PhD „Früherkennung und Therapie“ (Neurologe\, AKH)\nVerkostungsstation (Forschungsküche der Häuser zum Leben)\nProbierstationen Parorobbe\, Memocorby (Häuser zum Leben)\nMusikalische Begleitung – Marion Zib\n\n 
URL:https://kalender.seniorinnen.wien/event/meidlinger-demenzjahrestag/
LOCATION:Ferdinand-Kral-Saal\, Schönbrunner Straße 259\, Meidling\, Wien\, 1120\, Austria
CATEGORIES:Demenz
ATTACH;FMTTYPE=image/jpeg:https://kalender.seniorinnen.wien/wp-content/uploads/2019/11/Demenzfreundliches-Wien_Oida.jpg
END:VEVENT
END:VCALENDAR