BEGIN:VCALENDAR
VERSION:2.0
PRODID:-//Wien für Senior:innen - ECPv6.15.17.1//NONSGML v1.0//EN
CALSCALE:GREGORIAN
METHOD:PUBLISH
X-ORIGINAL-URL:https://kalender.seniorinnen.wien
X-WR-CALDESC:Veranstaltungen für Wien für Senior:innen
REFRESH-INTERVAL;VALUE=DURATION:PT1H
X-Robots-Tag:noindex
X-PUBLISHED-TTL:PT1H
BEGIN:VTIMEZONE
TZID:Europe/Berlin
BEGIN:DAYLIGHT
TZOFFSETFROM:+0100
TZOFFSETTO:+0200
TZNAME:CEST
DTSTART:20230326T010000
END:DAYLIGHT
BEGIN:STANDARD
TZOFFSETFROM:+0200
TZOFFSETTO:+0100
TZNAME:CET
DTSTART:20231029T010000
END:STANDARD
BEGIN:DAYLIGHT
TZOFFSETFROM:+0100
TZOFFSETTO:+0200
TZNAME:CEST
DTSTART:20240331T010000
END:DAYLIGHT
BEGIN:STANDARD
TZOFFSETFROM:+0200
TZOFFSETTO:+0100
TZNAME:CET
DTSTART:20241027T010000
END:STANDARD
BEGIN:DAYLIGHT
TZOFFSETFROM:+0100
TZOFFSETTO:+0200
TZNAME:CEST
DTSTART:20250330T010000
END:DAYLIGHT
BEGIN:STANDARD
TZOFFSETFROM:+0200
TZOFFSETTO:+0100
TZNAME:CET
DTSTART:20251026T010000
END:STANDARD
BEGIN:DAYLIGHT
TZOFFSETFROM:+0100
TZOFFSETTO:+0200
TZNAME:CEST
DTSTART:20260329T010000
END:DAYLIGHT
BEGIN:STANDARD
TZOFFSETFROM:+0200
TZOFFSETTO:+0100
TZNAME:CET
DTSTART:20261025T010000
END:STANDARD
END:VTIMEZONE
BEGIN:VEVENT
DTSTART;TZID=Europe/Berlin:20251029T150000
DTEND;TZID=Europe/Berlin:20251029T163000
DTSTAMP:20260420T165316
CREATED:20250831T230002Z
LAST-MODIFIED:20250828T101502Z
UID:8943-1761750000-1761755400@kalender.seniorinnen.wien
SUMMARY:Sexualität kennt kein Alter
DESCRIPTION:Intimität und Nähe im späten Lebensabschnitt\nSexualität in späten Lebensjahren ist kein Tabuthema – sondern Ausdruck von Nähe\, Identität und Lebensfreude. Der Vortrag richtet sich exklusiv an Frauen und räumt mit Mythen auf. Wir beleuchten körperliche\, emotionale und gesellschaftliche Aspekte von Intimität im Alter und laden zu einem offenen\, respektvollen Blick auf gelebte Sexualität ein. \nMax. 15 Teilnehmer:innen \nAnmeldung bis 28.10. \nTel: 01 890 22 22\nE-Mail: office@femmed.at\nWeb: www.femmed.at \nFoto: FEM Med
URL:https://kalender.seniorinnen.wien/event/sexualitaet-kennt-kein-alter/
LOCATION:FEM Med\, Reumannplatz 7 (Raum 3)\, Wien\, 1010
CATEGORIES:Frauen,Monat der Senior:innen
ATTACH;FMTTYPE=image/jpeg:https://kalender.seniorinnen.wien/wp-content/uploads/2025/08/3449_27ef39c428761fb-scaled-e1755847175702.jpg
ORGANIZER;CN="Frauengesundheitszentrum FEM Med":MAILTO:office@femmed.at
END:VEVENT
BEGIN:VEVENT
DTSTART;TZID=Europe/Berlin:20251021T100000
DTEND;TZID=Europe/Berlin:20251021T120000
DTSTAMP:20260420T165316
CREATED:20250831T230058Z
LAST-MODIFIED:20250827T101834Z
UID:8386-1761040800-1761048000@kalender.seniorinnen.wien
SUMMARY:Strickpunkt Gesundheit
DESCRIPTION:Kommen Sie zum Häkel- und Strickvormittag ins Gesundheitszentrum: Unter Frauen verbringen wir entspannte Stunden\, trinken Kaffee\, sind kreativ\, fördern unsere Fingerfertigkeit und den sozialen Austausch. Gerne eigenes Werkzeug mitbringen! \nAnmeldung bis 14.10.: \nTel.: 01 890 22 22\nE-Mail: office@femmed.at \nWebsite: http://www.femmed.at
URL:https://kalender.seniorinnen.wien/event/strickpunkt-gesundheit/
LOCATION:FEM Med\, Reumannplatz 7 (Raum 3)\, Wien\, 1010
CATEGORIES:Begegnung,Monat der Senior:innen
ATTACH;FMTTYPE=image/jpeg:https://kalender.seniorinnen.wien/wp-content/uploads/2025/08/knit-9203457_1280-e1754556631399.jpg
ORGANIZER;CN="Frauengesundheitszentrum FEM Med":MAILTO:office@femmed.at
END:VEVENT
BEGIN:VEVENT
DTSTART;TZID=Europe/Berlin:20250903T160000
DTEND;TZID=Europe/Berlin:20250903T180000
DTSTAMP:20260420T165316
CREATED:20240125T095559Z
LAST-MODIFIED:20240125T095559Z
UID:7747-1756915200-1756922400@kalender.seniorinnen.wien
SUMMARY:Kontaktbesuchsdienst: Sprechstunde für Frauen im FEM Med
DESCRIPTION:Ein kostenloser Wegweiser durch die Soziallandschaft Wiens.\n\n\nDie Wiener Sozialdienste informieren alle in Wien lebenden Personen ab 60 Jahren über die sozialen Dienstleistungen der Stadt. \nIn speziellen Sprechstunden nur für Frauen werden im 10. Bezirk passende Ansprechpartner:innen\, Telefonnummern und Adressen genannt rund um Themen wie Freizeitaktivitäten\, Unterstützung für pflegende Angehörige\, Wohnen\, Vorsorge und das digitale Angebot der Stadt. \nTermine: \n\nMi\, 7.05.2025\, 16:00 – 18:00\nMi\, 4.06.2025\, 16:00 – 18:00\nMi\, 2.07.2025\, 16:00 – 18:00\nMi\, 3.09.2025\, 16:00 – 18:00\n\nAnmeldungen bitte an:\nFEM Med. Frauengesundheitszentrum\, Reumannplatz 7\, 1100 Wien\nTel.: 01-890 22 22 \nOder Sie informieren sich telefonisch während der wöchentlichen Telefonsprechstunde. Sie erreichen die Wiener Sozialdienste jeden Donnerstag von 13–15 Uhr unter: +43 (1) 98121 1730 oder 1740. \nFoto: Pixabay \n\n  \n 
URL:https://kalender.seniorinnen.wien/event/sprechstunde-fuer-frauen-kontaktbesuchsdienst-sozial/2025-09-03/
LOCATION:FEM Med\, Reumannplatz 7 (Raum 3)\, Wien\, 1010
CATEGORIES:Frauen,Information
ATTACH;FMTTYPE=image/jpeg:https://kalender.seniorinnen.wien/wp-content/uploads/2024/01/kbd_sozial_3-600x422-1-e1722503863573.jpg
END:VEVENT
BEGIN:VEVENT
DTSTART;TZID=Europe/Berlin:20250806T160000
DTEND;TZID=Europe/Berlin:20250806T180000
DTSTAMP:20260420T165316
CREATED:20240125T095559Z
LAST-MODIFIED:20240125T095559Z
UID:7746-1754496000-1754503200@kalender.seniorinnen.wien
SUMMARY:Kontaktbesuchsdienst: Sprechstunde für Frauen im FEM Med
DESCRIPTION:Ein kostenloser Wegweiser durch die Soziallandschaft Wiens.\n\n\nDie Wiener Sozialdienste informieren alle in Wien lebenden Personen ab 60 Jahren über die sozialen Dienstleistungen der Stadt. \nIn speziellen Sprechstunden nur für Frauen werden im 10. Bezirk passende Ansprechpartner:innen\, Telefonnummern und Adressen genannt rund um Themen wie Freizeitaktivitäten\, Unterstützung für pflegende Angehörige\, Wohnen\, Vorsorge und das digitale Angebot der Stadt. \nTermine: \n\nMi\, 7.05.2025\, 16:00 – 18:00\nMi\, 4.06.2025\, 16:00 – 18:00\nMi\, 2.07.2025\, 16:00 – 18:00\nMi\, 3.09.2025\, 16:00 – 18:00\n\nAnmeldungen bitte an:\nFEM Med. Frauengesundheitszentrum\, Reumannplatz 7\, 1100 Wien\nTel.: 01-890 22 22 \nOder Sie informieren sich telefonisch während der wöchentlichen Telefonsprechstunde. Sie erreichen die Wiener Sozialdienste jeden Donnerstag von 13–15 Uhr unter: +43 (1) 98121 1730 oder 1740. \nFoto: Pixabay \n\n  \n 
URL:https://kalender.seniorinnen.wien/event/sprechstunde-fuer-frauen-kontaktbesuchsdienst-sozial/2025-08-06/
LOCATION:FEM Med\, Reumannplatz 7 (Raum 3)\, Wien\, 1010
CATEGORIES:Frauen,Information
ATTACH;FMTTYPE=image/jpeg:https://kalender.seniorinnen.wien/wp-content/uploads/2024/01/kbd_sozial_3-600x422-1-e1722503863573.jpg
END:VEVENT
BEGIN:VEVENT
DTSTART;TZID=Europe/Berlin:20250702T160000
DTEND;TZID=Europe/Berlin:20250702T180000
DTSTAMP:20260420T165316
CREATED:20240125T095559Z
LAST-MODIFIED:20240125T095559Z
UID:7745-1751472000-1751479200@kalender.seniorinnen.wien
SUMMARY:Kontaktbesuchsdienst: Sprechstunde für Frauen im FEM Med
DESCRIPTION:Ein kostenloser Wegweiser durch die Soziallandschaft Wiens.\n\n\nDie Wiener Sozialdienste informieren alle in Wien lebenden Personen ab 60 Jahren über die sozialen Dienstleistungen der Stadt. \nIn speziellen Sprechstunden nur für Frauen werden im 10. Bezirk passende Ansprechpartner:innen\, Telefonnummern und Adressen genannt rund um Themen wie Freizeitaktivitäten\, Unterstützung für pflegende Angehörige\, Wohnen\, Vorsorge und das digitale Angebot der Stadt. \nTermine: \n\nMi\, 7.05.2025\, 16:00 – 18:00\nMi\, 4.06.2025\, 16:00 – 18:00\nMi\, 2.07.2025\, 16:00 – 18:00\nMi\, 3.09.2025\, 16:00 – 18:00\n\nAnmeldungen bitte an:\nFEM Med. Frauengesundheitszentrum\, Reumannplatz 7\, 1100 Wien\nTel.: 01-890 22 22 \nOder Sie informieren sich telefonisch während der wöchentlichen Telefonsprechstunde. Sie erreichen die Wiener Sozialdienste jeden Donnerstag von 13–15 Uhr unter: +43 (1) 98121 1730 oder 1740. \nFoto: Pixabay \n\n  \n 
URL:https://kalender.seniorinnen.wien/event/sprechstunde-fuer-frauen-kontaktbesuchsdienst-sozial/2025-07-02/
LOCATION:FEM Med\, Reumannplatz 7 (Raum 3)\, Wien\, 1010
CATEGORIES:Frauen,Information
ATTACH;FMTTYPE=image/jpeg:https://kalender.seniorinnen.wien/wp-content/uploads/2024/01/kbd_sozial_3-600x422-1-e1722503863573.jpg
END:VEVENT
BEGIN:VEVENT
DTSTART;TZID=Europe/Berlin:20250604T160000
DTEND;TZID=Europe/Berlin:20250604T180000
DTSTAMP:20260420T165316
CREATED:20240125T095559Z
LAST-MODIFIED:20240125T095559Z
UID:7744-1749052800-1749060000@kalender.seniorinnen.wien
SUMMARY:Kontaktbesuchsdienst: Sprechstunde für Frauen im FEM Med
DESCRIPTION:Ein kostenloser Wegweiser durch die Soziallandschaft Wiens.\n\n\nDie Wiener Sozialdienste informieren alle in Wien lebenden Personen ab 60 Jahren über die sozialen Dienstleistungen der Stadt. \nIn speziellen Sprechstunden nur für Frauen werden im 10. Bezirk passende Ansprechpartner:innen\, Telefonnummern und Adressen genannt rund um Themen wie Freizeitaktivitäten\, Unterstützung für pflegende Angehörige\, Wohnen\, Vorsorge und das digitale Angebot der Stadt. \nTermine: \n\nMi\, 7.05.2025\, 16:00 – 18:00\nMi\, 4.06.2025\, 16:00 – 18:00\nMi\, 2.07.2025\, 16:00 – 18:00\nMi\, 3.09.2025\, 16:00 – 18:00\n\nAnmeldungen bitte an:\nFEM Med. Frauengesundheitszentrum\, Reumannplatz 7\, 1100 Wien\nTel.: 01-890 22 22 \nOder Sie informieren sich telefonisch während der wöchentlichen Telefonsprechstunde. Sie erreichen die Wiener Sozialdienste jeden Donnerstag von 13–15 Uhr unter: +43 (1) 98121 1730 oder 1740. \nFoto: Pixabay \n\n  \n 
URL:https://kalender.seniorinnen.wien/event/sprechstunde-fuer-frauen-kontaktbesuchsdienst-sozial/2025-06-04/
LOCATION:FEM Med\, Reumannplatz 7 (Raum 3)\, Wien\, 1010
CATEGORIES:Frauen,Information
ATTACH;FMTTYPE=image/jpeg:https://kalender.seniorinnen.wien/wp-content/uploads/2024/01/kbd_sozial_3-600x422-1-e1722503863573.jpg
END:VEVENT
BEGIN:VEVENT
DTSTART;TZID=Europe/Berlin:20250507T160000
DTEND;TZID=Europe/Berlin:20250507T180000
DTSTAMP:20260420T165316
CREATED:20240125T095559Z
LAST-MODIFIED:20250328T153313Z
UID:4911-1746633600-1746640800@kalender.seniorinnen.wien
SUMMARY:Kontaktbesuchsdienst: Sprechstunde für Frauen im FEM Med
DESCRIPTION:Ein kostenloser Wegweiser durch die Soziallandschaft Wiens.\n\n\nDie Wiener Sozialdienste informieren alle in Wien lebenden Personen ab 60 Jahren über die sozialen Dienstleistungen der Stadt. \nIn speziellen Sprechstunden nur für Frauen werden im 10. Bezirk passende Ansprechpartner:innen\, Telefonnummern und Adressen genannt rund um Themen wie Freizeitaktivitäten\, Unterstützung für pflegende Angehörige\, Wohnen\, Vorsorge und das digitale Angebot der Stadt. \nTermine: \n\nMi\, 7.05.2025\, 16:00 – 18:00\nMi\, 4.06.2025\, 16:00 – 18:00\nMi\, 2.07.2025\, 16:00 – 18:00\nMi\, 3.09.2025\, 16:00 – 18:00\n\nAnmeldungen bitte an:\nFEM Med. Frauengesundheitszentrum\, Reumannplatz 7\, 1100 Wien\nTel.: 01-890 22 22 \nOder Sie informieren sich telefonisch während der wöchentlichen Telefonsprechstunde. Sie erreichen die Wiener Sozialdienste jeden Donnerstag von 13–15 Uhr unter: +43 (1) 98121 1730 oder 1740. \nFoto: Pixabay \n\n  \n 
URL:https://kalender.seniorinnen.wien/event/sprechstunde-fuer-frauen-kontaktbesuchsdienst-sozial/2025-05-07/
LOCATION:FEM Med\, Reumannplatz 7 (Raum 3)\, Wien\, 1010
CATEGORIES:Frauen,Information
ATTACH;FMTTYPE=image/jpeg:https://kalender.seniorinnen.wien/wp-content/uploads/2024/01/kbd_sozial_3-600x422-1-e1722503863573.jpg
END:VEVENT
BEGIN:VEVENT
DTSTART;TZID=Europe/Berlin:20240626T160000
DTEND;TZID=Europe/Berlin:20240626T180000
DTSTAMP:20260420T165316
CREATED:20240607T091313Z
LAST-MODIFIED:20250116T083626Z
UID:5727-1719417600-1719424800@kalender.seniorinnen.wien
SUMMARY:Kontaktbesuchsdienst: Kostenloses Angebot für alle Frauen ab 60 Jahren
DESCRIPTION:Der Kontaktbesuchsdienst bietet allen Frauen ab 60 Jahren eine kostenlose Sprechstunde mit Informationen rund um Themen wie Freizeitaktivitäten\, Vorsorge\, Unterstützung für pflegende Angehörige und mehr. \nDer Kontaktbesuchsdienst ist auch so telefonisch und per E-Mail erreichbar: \nTelefon: 001 98121 DW 1730 oder 1740\n(Montag bis Freitag von 9:00 – 15:00 Uhr) \nE-Mail: kontaktbesuchsdienst@wiso.or.at
URL:https://kalender.seniorinnen.wien/event/kontakt-besuchsdienst-sozial-%e2%80%92-kostenloses-angebot-fuer-alle-frauen-ab-60-jahren/2024-06-26/
LOCATION:FEM Med\, Reumannplatz 7 (Raum 3)\, Wien\, 1010
CATEGORIES:Information
ATTACH;FMTTYPE=image/jpeg:https://kalender.seniorinnen.wien/wp-content/uploads/2024/06/woman-3186741_1920-e1717751293989.jpg
END:VEVENT
BEGIN:VEVENT
DTSTART;TZID=Europe/Berlin:20240612T160000
DTEND;TZID=Europe/Berlin:20240612T180000
DTSTAMP:20260420T165316
CREATED:20240607T091313Z
LAST-MODIFIED:20250116T083626Z
UID:5719-1718208000-1718215200@kalender.seniorinnen.wien
SUMMARY:Kontaktbesuchsdienst: Kostenloses Angebot für alle Frauen ab 60 Jahren
DESCRIPTION:Der Kontaktbesuchsdienst bietet allen Frauen ab 60 Jahren eine kostenlose Sprechstunde mit Informationen rund um Themen wie Freizeitaktivitäten\, Vorsorge\, Unterstützung für pflegende Angehörige und mehr. \nDer Kontaktbesuchsdienst ist auch so telefonisch und per E-Mail erreichbar: \nTelefon: 001 98121 DW 1730 oder 1740\n(Montag bis Freitag von 9:00 – 15:00 Uhr) \nE-Mail: kontaktbesuchsdienst@wiso.or.at
URL:https://kalender.seniorinnen.wien/event/kontakt-besuchsdienst-sozial-%e2%80%92-kostenloses-angebot-fuer-alle-frauen-ab-60-jahren/2024-06-12/
LOCATION:FEM Med\, Reumannplatz 7 (Raum 3)\, Wien\, 1010
CATEGORIES:Information
ATTACH;FMTTYPE=image/jpeg:https://kalender.seniorinnen.wien/wp-content/uploads/2024/06/woman-3186741_1920-e1717751293989.jpg
END:VEVENT
END:VCALENDAR