BEGIN:VCALENDAR
VERSION:2.0
PRODID:-//Wien für Senior:innen - ECPv6.15.17.1//NONSGML v1.0//EN
CALSCALE:GREGORIAN
METHOD:PUBLISH
X-WR-CALNAME:Wien für Senior:innen
X-ORIGINAL-URL:https://kalender.seniorinnen.wien
X-WR-CALDESC:Veranstaltungen für Wien für Senior:innen
REFRESH-INTERVAL;VALUE=DURATION:PT1H
X-Robots-Tag:noindex
X-PUBLISHED-TTL:PT1H
BEGIN:VTIMEZONE
TZID:Europe/Berlin
BEGIN:DAYLIGHT
TZOFFSETFROM:+0100
TZOFFSETTO:+0200
TZNAME:CEST
DTSTART:20220327T010000
END:DAYLIGHT
BEGIN:STANDARD
TZOFFSETFROM:+0200
TZOFFSETTO:+0100
TZNAME:CET
DTSTART:20221030T010000
END:STANDARD
BEGIN:DAYLIGHT
TZOFFSETFROM:+0100
TZOFFSETTO:+0200
TZNAME:CEST
DTSTART:20230326T010000
END:DAYLIGHT
BEGIN:STANDARD
TZOFFSETFROM:+0200
TZOFFSETTO:+0100
TZNAME:CET
DTSTART:20231029T010000
END:STANDARD
BEGIN:DAYLIGHT
TZOFFSETFROM:+0100
TZOFFSETTO:+0200
TZNAME:CEST
DTSTART:20240331T010000
END:DAYLIGHT
BEGIN:STANDARD
TZOFFSETFROM:+0200
TZOFFSETTO:+0100
TZNAME:CET
DTSTART:20241027T010000
END:STANDARD
END:VTIMEZONE
BEGIN:VEVENT
DTSTART;TZID=Europe/Berlin:20231004T100000
DTEND;TZID=Europe/Berlin:20231005T170000
DTSTAMP:20260420T204209
CREATED:20230814T140512Z
LAST-MODIFIED:20230814T140610Z
UID:3977-1696413600-1696525200@kalender.seniorinnen.wien
SUMMARY:Monat der Senior:innen: Donaustädter Senior:innen-Tage
DESCRIPTION:Unter dem Motto „Lebensfreude“ gibt es für die Senior:innen im Donauzentrum wieder Beratung\, Information und Unterhaltung rund um die Themen Gesundheit\, Bewegung\, Reisen\, Betreuung\, uvm. \nZahlreiche Organisationen und Unternehmen informieren über ihre Angebote und Leistungen.
URL:https://kalender.seniorinnen.wien/event/monat-der-seniorinnen-donaustaedter-seniorinnen-tage/
LOCATION:Donauzentrum\, Wagramer Straße 94\, Wien\, 1220
CATEGORIES:Monat der Senior:innen
END:VEVENT
END:VCALENDAR