BEGIN:VCALENDAR
VERSION:2.0
PRODID:-//Wien für Senior:innen - ECPv6.15.17.1//NONSGML v1.0//EN
CALSCALE:GREGORIAN
METHOD:PUBLISH
X-WR-CALNAME:Wien für Senior:innen
X-ORIGINAL-URL:https://kalender.seniorinnen.wien
X-WR-CALDESC:Veranstaltungen für Wien für Senior:innen
REFRESH-INTERVAL;VALUE=DURATION:PT1H
X-Robots-Tag:noindex
X-PUBLISHED-TTL:PT1H
BEGIN:VTIMEZONE
TZID:Europe/Berlin
BEGIN:DAYLIGHT
TZOFFSETFROM:+0100
TZOFFSETTO:+0200
TZNAME:CEST
DTSTART:20230326T010000
END:DAYLIGHT
BEGIN:STANDARD
TZOFFSETFROM:+0200
TZOFFSETTO:+0100
TZNAME:CET
DTSTART:20231029T010000
END:STANDARD
BEGIN:DAYLIGHT
TZOFFSETFROM:+0100
TZOFFSETTO:+0200
TZNAME:CEST
DTSTART:20240331T010000
END:DAYLIGHT
BEGIN:STANDARD
TZOFFSETFROM:+0200
TZOFFSETTO:+0100
TZNAME:CET
DTSTART:20241027T010000
END:STANDARD
BEGIN:DAYLIGHT
TZOFFSETFROM:+0100
TZOFFSETTO:+0200
TZNAME:CEST
DTSTART:20250330T010000
END:DAYLIGHT
BEGIN:STANDARD
TZOFFSETFROM:+0200
TZOFFSETTO:+0100
TZNAME:CET
DTSTART:20251026T010000
END:STANDARD
END:VTIMEZONE
BEGIN:VEVENT
DTSTART;TZID=Europe/Berlin:20240920T140000
DTEND;TZID=Europe/Berlin:20240920T170000
DTSTAMP:20260423T105605
CREATED:20240829T110312Z
LAST-MODIFIED:20240830T115358Z
UID:6269-1726840800-1726851600@kalender.seniorinnen.wien
SUMMARY:Infotag für Angehörige zum Thema Pflege und Demenz
DESCRIPTION:Der kostenlose Infotag zum Thema Pflege und Demenz richtet sich an Angehörige und findet am 20. September 2024 im Curhaus\, 1010 Wien statt. \nEs warten drei Vorträge von Expert:innen aus der Pflege und dem Gesundheitsbereich (u.a. zum Thema Medikamentenvergabe bei Demenz) auf Sie – sowie Infostände und Beratungsmöglichkeiten. \nMehr Infos und Anmeldung: www.caritas-pflege.at/wien/infotag \nFoto: Caritas
URL:https://kalender.seniorinnen.wien/event/infotag-fuer-angehoerige-zum-thema-pflege-und-demenz/
LOCATION:Curhaus\, Stephansplatz 3\, Wien\, Wien\, 1010\, Österreich
CATEGORIES:Demenz,Fit und Gesund,Selbstfürsorge
ATTACH;FMTTYPE=image/webp:https://kalender.seniorinnen.wien/wp-content/uploads/2024/08/csm_HEADER_pflege_infotag2024_300x1000px_d0c5276fa4-e1724929386205.webp
END:VEVENT
END:VCALENDAR