BEGIN:VCALENDAR
VERSION:2.0
PRODID:-//Wien für Senior:innen - ECPv6.15.17.1//NONSGML v1.0//EN
CALSCALE:GREGORIAN
METHOD:PUBLISH
X-WR-CALNAME:Wien für Senior:innen
X-ORIGINAL-URL:https://kalender.seniorinnen.wien
X-WR-CALDESC:Veranstaltungen für Wien für Senior:innen
REFRESH-INTERVAL;VALUE=DURATION:PT1H
X-Robots-Tag:noindex
X-PUBLISHED-TTL:PT1H
BEGIN:VTIMEZONE
TZID:Europe/Berlin
BEGIN:DAYLIGHT
TZOFFSETFROM:+0100
TZOFFSETTO:+0200
TZNAME:CEST
DTSTART:20240331T010000
END:DAYLIGHT
BEGIN:STANDARD
TZOFFSETFROM:+0200
TZOFFSETTO:+0100
TZNAME:CET
DTSTART:20241027T010000
END:STANDARD
BEGIN:DAYLIGHT
TZOFFSETFROM:+0100
TZOFFSETTO:+0200
TZNAME:CEST
DTSTART:20250330T010000
END:DAYLIGHT
BEGIN:STANDARD
TZOFFSETFROM:+0200
TZOFFSETTO:+0100
TZNAME:CET
DTSTART:20251026T010000
END:STANDARD
BEGIN:DAYLIGHT
TZOFFSETFROM:+0100
TZOFFSETTO:+0200
TZNAME:CEST
DTSTART:20260329T010000
END:DAYLIGHT
BEGIN:STANDARD
TZOFFSETFROM:+0200
TZOFFSETTO:+0100
TZNAME:CET
DTSTART:20261025T010000
END:STANDARD
END:VTIMEZONE
BEGIN:VEVENT
DTSTART;TZID=Europe/Berlin:20250710T180000
DTEND;TZID=Europe/Berlin:20250710T193000
DTSTAMP:20260420T152946
CREATED:20250205T100414Z
LAST-MODIFIED:20250205T100414Z
UID:7416-1752170400-1752175800@kalender.seniorinnen.wien
SUMMARY:Erfahrungsaustausch Demenz ‒ Reden wir über Vergesslichkeit
DESCRIPTION:Diskussion und Austausch für Angehörige\, Betroffene und Interessierte in Kooperation mit der Caritas Socialis. \nEintritt: freie Spende. Um Anmeldung wird erbeten:  0676 6362973 oder johanna.pueringer@gmail.com.
URL:https://kalender.seniorinnen.wien/event/erfahrungsaustausch-demenz-%e2%80%92-reden-wir-ueber-vergesslichkeit/2025-07-10/
LOCATION:Caritas Socialis\, Oberzellergasse 1\, Wien\, 1030\, Austria
CATEGORIES:Begegnung,Demenz,Information
ATTACH;FMTTYPE=image/jpeg:https://kalender.seniorinnen.wien/wp-content/uploads/2024/02/post-it-notes-1284667_1920-e1709728597502.jpg
ORGANIZER;CN="alzheimer austria":MAILTO:johanna.pueringer@gmail.com
END:VEVENT
BEGIN:VEVENT
DTSTART;TZID=Europe/Berlin:20250707T180000
DTEND;TZID=Europe/Berlin:20250707T193000
DTSTAMP:20260420T152946
CREATED:20250205T093858Z
LAST-MODIFIED:20250205T094501Z
UID:7393-1751911200-1751916600@kalender.seniorinnen.wien
SUMMARY:Gesprächsrunde für Töchter und Söhne von Menschen mit Demenz
DESCRIPTION:Gesprächsrunde für Töchter und Söhne von Menschen mit Demenz. \nAnmeldung unter 0676 6362973 oder johanna.pueringer@gmail.com erforderlich. Eintritt: freie Spende.
URL:https://kalender.seniorinnen.wien/event/gespraechsrunde-demenz/2025-07-07/
LOCATION:Caritas Socialis\, Oberzellergasse 1\, Wien\, 1030\, Austria
CATEGORIES:Begegnung,Demenz,Information
ATTACH;FMTTYPE=image/jpeg:https://kalender.seniorinnen.wien/wp-content/uploads/2024/02/post-it-notes-1284667_1920-e1709728597502.jpg
ORGANIZER;CN="alzheimer austria":MAILTO:johanna.pueringer@gmail.com
END:VEVENT
BEGIN:VEVENT
DTSTART;TZID=Europe/Berlin:20250616T180000
DTEND;TZID=Europe/Berlin:20250616T193000
DTSTAMP:20260420T152946
CREATED:20250205T093858Z
LAST-MODIFIED:20250205T094501Z
UID:7392-1750096800-1750102200@kalender.seniorinnen.wien
SUMMARY:Gesprächsrunde für Töchter und Söhne von Menschen mit Demenz
DESCRIPTION:Gesprächsrunde für Töchter und Söhne von Menschen mit Demenz. \nAnmeldung unter 0676 6362973 oder johanna.pueringer@gmail.com erforderlich. Eintritt: freie Spende.
URL:https://kalender.seniorinnen.wien/event/gespraechsrunde-demenz/2025-06-16/
LOCATION:Caritas Socialis\, Oberzellergasse 1\, Wien\, 1030\, Austria
CATEGORIES:Begegnung,Demenz,Information
ATTACH;FMTTYPE=image/jpeg:https://kalender.seniorinnen.wien/wp-content/uploads/2024/02/post-it-notes-1284667_1920-e1709728597502.jpg
ORGANIZER;CN="alzheimer austria":MAILTO:johanna.pueringer@gmail.com
END:VEVENT
BEGIN:VEVENT
DTSTART;TZID=Europe/Berlin:20250612T180000
DTEND;TZID=Europe/Berlin:20250612T193000
DTSTAMP:20260420T152946
CREATED:20250205T100414Z
LAST-MODIFIED:20250205T100414Z
UID:7415-1749751200-1749756600@kalender.seniorinnen.wien
SUMMARY:Erfahrungsaustausch Demenz ‒ Reden wir über Vergesslichkeit
DESCRIPTION:Diskussion und Austausch für Angehörige\, Betroffene und Interessierte in Kooperation mit der Caritas Socialis. \nEintritt: freie Spende. Um Anmeldung wird erbeten:  0676 6362973 oder johanna.pueringer@gmail.com.
URL:https://kalender.seniorinnen.wien/event/erfahrungsaustausch-demenz-%e2%80%92-reden-wir-ueber-vergesslichkeit/2025-06-12/
LOCATION:Caritas Socialis\, Oberzellergasse 1\, Wien\, 1030\, Austria
CATEGORIES:Begegnung,Demenz,Information
ATTACH;FMTTYPE=image/jpeg:https://kalender.seniorinnen.wien/wp-content/uploads/2024/02/post-it-notes-1284667_1920-e1709728597502.jpg
ORGANIZER;CN="alzheimer austria":MAILTO:johanna.pueringer@gmail.com
END:VEVENT
BEGIN:VEVENT
DTSTART;TZID=Europe/Berlin:20250522T180000
DTEND;TZID=Europe/Berlin:20250522T193000
DTSTAMP:20260420T152946
CREATED:20250205T100414Z
LAST-MODIFIED:20250205T100414Z
UID:7414-1747936800-1747942200@kalender.seniorinnen.wien
SUMMARY:Erfahrungsaustausch Demenz ‒ Reden wir über Vergesslichkeit
DESCRIPTION:Diskussion und Austausch für Angehörige\, Betroffene und Interessierte in Kooperation mit der Caritas Socialis. \nEintritt: freie Spende. Um Anmeldung wird erbeten:  0676 6362973 oder johanna.pueringer@gmail.com.
URL:https://kalender.seniorinnen.wien/event/erfahrungsaustausch-demenz-%e2%80%92-reden-wir-ueber-vergesslichkeit/2025-05-22/
LOCATION:Caritas Socialis\, Oberzellergasse 1\, Wien\, 1030\, Austria
CATEGORIES:Begegnung,Demenz,Information
ATTACH;FMTTYPE=image/jpeg:https://kalender.seniorinnen.wien/wp-content/uploads/2024/02/post-it-notes-1284667_1920-e1709728597502.jpg
ORGANIZER;CN="alzheimer austria":MAILTO:johanna.pueringer@gmail.com
END:VEVENT
BEGIN:VEVENT
DTSTART;TZID=Europe/Berlin:20250519T180000
DTEND;TZID=Europe/Berlin:20250519T193000
DTSTAMP:20260420T152946
CREATED:20250205T093858Z
LAST-MODIFIED:20250205T094500Z
UID:7391-1747677600-1747683000@kalender.seniorinnen.wien
SUMMARY:Gesprächsrunde für Töchter und Söhne von Menschen mit Demenz
DESCRIPTION:Gesprächsrunde für Töchter und Söhne von Menschen mit Demenz. \nAnmeldung unter 0676 6362973 oder johanna.pueringer@gmail.com erforderlich. Eintritt: freie Spende.
URL:https://kalender.seniorinnen.wien/event/gespraechsrunde-demenz/2025-05-19/
LOCATION:Caritas Socialis\, Oberzellergasse 1\, Wien\, 1030\, Austria
CATEGORIES:Begegnung,Demenz,Information
ATTACH;FMTTYPE=image/jpeg:https://kalender.seniorinnen.wien/wp-content/uploads/2024/02/post-it-notes-1284667_1920-e1709728597502.jpg
ORGANIZER;CN="alzheimer austria":MAILTO:johanna.pueringer@gmail.com
END:VEVENT
BEGIN:VEVENT
DTSTART;TZID=Europe/Berlin:20250428T180000
DTEND;TZID=Europe/Berlin:20250428T193000
DTSTAMP:20260420T152946
CREATED:20250205T093858Z
LAST-MODIFIED:20250205T094500Z
UID:7390-1745863200-1745868600@kalender.seniorinnen.wien
SUMMARY:Gesprächsrunde für Töchter und Söhne von Menschen mit Demenz
DESCRIPTION:Gesprächsrunde für Töchter und Söhne von Menschen mit Demenz. \nAnmeldung unter 0676 6362973 oder johanna.pueringer@gmail.com erforderlich. Eintritt: freie Spende.
URL:https://kalender.seniorinnen.wien/event/gespraechsrunde-demenz/2025-04-28/
LOCATION:Caritas Socialis\, Oberzellergasse 1\, Wien\, 1030\, Austria
CATEGORIES:Begegnung,Demenz,Information
ATTACH;FMTTYPE=image/jpeg:https://kalender.seniorinnen.wien/wp-content/uploads/2024/02/post-it-notes-1284667_1920-e1709728597502.jpg
ORGANIZER;CN="alzheimer austria":MAILTO:johanna.pueringer@gmail.com
END:VEVENT
BEGIN:VEVENT
DTSTART;TZID=Europe/Berlin:20250403T180000
DTEND;TZID=Europe/Berlin:20250403T193000
DTSTAMP:20260420T152946
CREATED:20250205T100414Z
LAST-MODIFIED:20250205T100414Z
UID:7413-1743703200-1743708600@kalender.seniorinnen.wien
SUMMARY:Erfahrungsaustausch Demenz ‒ Reden wir über Vergesslichkeit
DESCRIPTION:Diskussion und Austausch für Angehörige\, Betroffene und Interessierte in Kooperation mit der Caritas Socialis. \nEintritt: freie Spende. Um Anmeldung wird erbeten:  0676 6362973 oder johanna.pueringer@gmail.com.
URL:https://kalender.seniorinnen.wien/event/erfahrungsaustausch-demenz-%e2%80%92-reden-wir-ueber-vergesslichkeit/2025-04-03/
LOCATION:Caritas Socialis\, Oberzellergasse 1\, Wien\, 1030\, Austria
CATEGORIES:Begegnung,Demenz,Information
ATTACH;FMTTYPE=image/jpeg:https://kalender.seniorinnen.wien/wp-content/uploads/2024/02/post-it-notes-1284667_1920-e1709728597502.jpg
ORGANIZER;CN="alzheimer austria":MAILTO:johanna.pueringer@gmail.com
END:VEVENT
BEGIN:VEVENT
DTSTART;TZID=Europe/Berlin:20250331T180000
DTEND;TZID=Europe/Berlin:20250331T193000
DTSTAMP:20260420T152946
CREATED:20250205T093858Z
LAST-MODIFIED:20250205T094500Z
UID:7389-1743444000-1743449400@kalender.seniorinnen.wien
SUMMARY:Gesprächsrunde für Töchter und Söhne von Menschen mit Demenz
DESCRIPTION:Gesprächsrunde für Töchter und Söhne von Menschen mit Demenz. \nAnmeldung unter 0676 6362973 oder johanna.pueringer@gmail.com erforderlich. Eintritt: freie Spende.
URL:https://kalender.seniorinnen.wien/event/gespraechsrunde-demenz/2025-03-31/
LOCATION:Caritas Socialis\, Oberzellergasse 1\, Wien\, 1030\, Austria
CATEGORIES:Begegnung,Demenz,Information
ATTACH;FMTTYPE=image/jpeg:https://kalender.seniorinnen.wien/wp-content/uploads/2024/02/post-it-notes-1284667_1920-e1709728597502.jpg
ORGANIZER;CN="alzheimer austria":MAILTO:johanna.pueringer@gmail.com
END:VEVENT
BEGIN:VEVENT
DTSTART;TZID=Europe/Berlin:20250306T180000
DTEND;TZID=Europe/Berlin:20250306T193000
DTSTAMP:20260420T152946
CREATED:20250205T100414Z
LAST-MODIFIED:20250205T100414Z
UID:7411-1741284000-1741289400@kalender.seniorinnen.wien
SUMMARY:Erfahrungsaustausch Demenz ‒ Reden wir über Vergesslichkeit
DESCRIPTION:Diskussion und Austausch für Angehörige\, Betroffene und Interessierte in Kooperation mit der Caritas Socialis. \nEintritt: freie Spende. Um Anmeldung wird erbeten:  0676 6362973 oder johanna.pueringer@gmail.com.
URL:https://kalender.seniorinnen.wien/event/erfahrungsaustausch-demenz-%e2%80%92-reden-wir-ueber-vergesslichkeit/2025-03-06/
LOCATION:Caritas Socialis\, Oberzellergasse 1\, Wien\, 1030\, Austria
CATEGORIES:Begegnung,Demenz,Information
ATTACH;FMTTYPE=image/jpeg:https://kalender.seniorinnen.wien/wp-content/uploads/2024/02/post-it-notes-1284667_1920-e1709728597502.jpg
ORGANIZER;CN="alzheimer austria":MAILTO:johanna.pueringer@gmail.com
END:VEVENT
BEGIN:VEVENT
DTSTART;TZID=Europe/Berlin:20250224T180000
DTEND;TZID=Europe/Berlin:20250224T193000
DTSTAMP:20260420T152946
CREATED:20250205T093858Z
LAST-MODIFIED:20250205T094500Z
UID:7383-1740420000-1740425400@kalender.seniorinnen.wien
SUMMARY:Gesprächsrunde für Töchter und Söhne von Menschen mit Demenz
DESCRIPTION:Gesprächsrunde für Töchter und Söhne von Menschen mit Demenz. \nAnmeldung unter 0676 6362973 oder johanna.pueringer@gmail.com erforderlich. Eintritt: freie Spende.
URL:https://kalender.seniorinnen.wien/event/gespraechsrunde-demenz/2025-02-24/
LOCATION:Caritas Socialis\, Oberzellergasse 1\, Wien\, 1030\, Austria
CATEGORIES:Begegnung,Demenz,Information
ATTACH;FMTTYPE=image/jpeg:https://kalender.seniorinnen.wien/wp-content/uploads/2024/02/post-it-notes-1284667_1920-e1709728597502.jpg
ORGANIZER;CN="alzheimer austria":MAILTO:johanna.pueringer@gmail.com
END:VEVENT
END:VCALENDAR