BEGIN:VCALENDAR
VERSION:2.0
PRODID:-//Wien für Senior:innen - ECPv6.15.17.1//NONSGML v1.0//EN
CALSCALE:GREGORIAN
METHOD:PUBLISH
X-ORIGINAL-URL:https://kalender.seniorinnen.wien
X-WR-CALDESC:Veranstaltungen für Wien für Senior:innen
REFRESH-INTERVAL;VALUE=DURATION:PT1H
X-Robots-Tag:noindex
X-PUBLISHED-TTL:PT1H
BEGIN:VTIMEZONE
TZID:Europe/Berlin
BEGIN:DAYLIGHT
TZOFFSETFROM:+0100
TZOFFSETTO:+0200
TZNAME:CEST
DTSTART:20210328T010000
END:DAYLIGHT
BEGIN:STANDARD
TZOFFSETFROM:+0200
TZOFFSETTO:+0100
TZNAME:CET
DTSTART:20211031T010000
END:STANDARD
BEGIN:DAYLIGHT
TZOFFSETFROM:+0100
TZOFFSETTO:+0200
TZNAME:CEST
DTSTART:20220327T010000
END:DAYLIGHT
BEGIN:STANDARD
TZOFFSETFROM:+0200
TZOFFSETTO:+0100
TZNAME:CET
DTSTART:20221030T010000
END:STANDARD
BEGIN:DAYLIGHT
TZOFFSETFROM:+0100
TZOFFSETTO:+0200
TZNAME:CEST
DTSTART:20230326T010000
END:DAYLIGHT
BEGIN:STANDARD
TZOFFSETFROM:+0200
TZOFFSETTO:+0100
TZNAME:CET
DTSTART:20231029T010000
END:STANDARD
END:VTIMEZONE
BEGIN:VEVENT
DTSTART;TZID=Europe/Berlin:20221115T150000
DTEND;TZID=Europe/Berlin:20221115T170000
DTSTAMP:20260421T044211
CREATED:20220315T065601Z
LAST-MODIFIED:20221109T084117Z
UID:2690-1668524400-1668531600@kalender.seniorinnen.wien
SUMMARY:Begegnungscafé mit Pfiff
DESCRIPTION:Das Begegnungscafé von Miteinander im demenzfreundlichen Hietzing lädt zum Plaudern\, Lachen\, Diskutieren\, Erinnern\, Sinnieren und vielem mehr ein. \nIm Begegnungscafé …\n…sorgen Gastgeber*innen für guten Kontakt\n…gibt es Raum für Gespräche von lustig bis tiefsinnig\n…gibt es Platz für alle: Alt und Jung\, mit Kindern\, mit\nAngehörigen\, mit Einschränkungen\, und und und\n… gibt es bei Bedarf Tipps zu Pflege im Alter und bei\nDemenz\n…gibt es keinen Konsumzwang\nund außerdem und obendrein: eine Happy Hour mit Musik und Bewegung nach Lust und Laune! \nDas Netzwerk MITEINANDER im demenzfreundlichen Hietzing ist Mitglied der Plattform Demenzfreundliches Wien. \n(c) Regina Hügli\, Diakonie Eine Welt Sozialdienst
URL:https://kalender.seniorinnen.wien/event/begegnungscafe-mit-pfiff/2022-11-15/
LOCATION:Café daskardinal\, Kardinal König Platz 3\, Wien\, 1130
CATEGORIES:Demenz
ATTACH;FMTTYPE=image/jpeg:https://kalender.seniorinnen.wien/wp-content/uploads/2022/03/22_fotoserie_huegli_plaudertischerl_lowres-10-scaled.jpg
END:VEVENT
END:VCALENDAR