BEGIN:VCALENDAR
VERSION:2.0
PRODID:-//Wien für Senior:innen - ECPv6.15.17.1//NONSGML v1.0//EN
CALSCALE:GREGORIAN
METHOD:PUBLISH
X-WR-CALNAME:Wien für Senior:innen
X-ORIGINAL-URL:https://kalender.seniorinnen.wien
X-WR-CALDESC:Veranstaltungen für Wien für Senior:innen
REFRESH-INTERVAL;VALUE=DURATION:PT1H
X-Robots-Tag:noindex
X-PUBLISHED-TTL:PT1H
BEGIN:VTIMEZONE
TZID:Europe/Berlin
BEGIN:DAYLIGHT
TZOFFSETFROM:+0100
TZOFFSETTO:+0200
TZNAME:CEST
DTSTART:20210328T010000
END:DAYLIGHT
BEGIN:STANDARD
TZOFFSETFROM:+0200
TZOFFSETTO:+0100
TZNAME:CET
DTSTART:20211031T010000
END:STANDARD
BEGIN:DAYLIGHT
TZOFFSETFROM:+0100
TZOFFSETTO:+0200
TZNAME:CEST
DTSTART:20220327T010000
END:DAYLIGHT
BEGIN:STANDARD
TZOFFSETFROM:+0200
TZOFFSETTO:+0100
TZNAME:CET
DTSTART:20221030T010000
END:STANDARD
BEGIN:DAYLIGHT
TZOFFSETFROM:+0100
TZOFFSETTO:+0200
TZNAME:CEST
DTSTART:20230326T010000
END:DAYLIGHT
BEGIN:STANDARD
TZOFFSETFROM:+0200
TZOFFSETTO:+0100
TZNAME:CET
DTSTART:20231029T010000
END:STANDARD
END:VTIMEZONE
BEGIN:VEVENT
DTSTART;TZID=Europe/Berlin:20221011T140000
DTEND;TZID=Europe/Berlin:20221011T150000
DTSTAMP:20260421T153237
CREATED:20220725T143831Z
LAST-MODIFIED:20220908T093749Z
UID:2881-1665496800-1665500400@kalender.seniorinnen.wien
SUMMARY:Monat der Senior:innen: Hula-Hoop im Burggarten
DESCRIPTION:Kommen Sie ins Schwitzen! Beim „Hullern“ wird nicht nur der Muskelaufbau\, sondern auch die Durchblutung gefördert. Spaß und Lebensfreude ist in dieser Stunde mit musikalischer Untermalung bei dieser Veranstaltung garantiert! \nDie Teilnahme ist kostenlos\, eine Anmeldung ist nicht erforderlich. \nBitte beachten Sie: Aufgrund COVID-19 sind kurzfristige Änderungen oder auch Absagen möglich. Das Team der Senior:innenbeauftragten und die Veranstalter:innen bitten um Verständnis. \n(c) KWP/ Sarah Bruckner
URL:https://kalender.seniorinnen.wien/event/monat-der-seniorinnen-hula-hoop-im-burggarten/
LOCATION:Burggarten beim Schmetterlingshaus\, Burggarten\, Wien\, 1010
CATEGORIES:Monat der Senior:innen
ATTACH;FMTTYPE=image/jpeg:https://kalender.seniorinnen.wien/wp-content/uploads/2022/07/Hula-Hoop_Burggarten-1595-scaled.jpg
END:VEVENT
END:VCALENDAR