BEGIN:VCALENDAR
VERSION:2.0
PRODID:-//Wien für Senior:innen - ECPv6.15.17.1//NONSGML v1.0//EN
CALSCALE:GREGORIAN
METHOD:PUBLISH
X-ORIGINAL-URL:https://kalender.seniorinnen.wien
X-WR-CALDESC:Veranstaltungen für Wien für Senior:innen
REFRESH-INTERVAL;VALUE=DURATION:PT1H
X-Robots-Tag:noindex
X-PUBLISHED-TTL:PT1H
BEGIN:VTIMEZONE
TZID:Europe/Berlin
BEGIN:DAYLIGHT
TZOFFSETFROM:+0100
TZOFFSETTO:+0200
TZNAME:CEST
DTSTART:20240331T010000
END:DAYLIGHT
BEGIN:STANDARD
TZOFFSETFROM:+0200
TZOFFSETTO:+0100
TZNAME:CET
DTSTART:20241027T010000
END:STANDARD
BEGIN:DAYLIGHT
TZOFFSETFROM:+0100
TZOFFSETTO:+0200
TZNAME:CEST
DTSTART:20250330T010000
END:DAYLIGHT
BEGIN:STANDARD
TZOFFSETFROM:+0200
TZOFFSETTO:+0100
TZNAME:CET
DTSTART:20251026T010000
END:STANDARD
BEGIN:DAYLIGHT
TZOFFSETFROM:+0100
TZOFFSETTO:+0200
TZNAME:CEST
DTSTART:20260329T010000
END:DAYLIGHT
BEGIN:STANDARD
TZOFFSETFROM:+0200
TZOFFSETTO:+0100
TZNAME:CET
DTSTART:20261025T010000
END:STANDARD
END:VTIMEZONE
BEGIN:VEVENT
DTSTART;TZID=Europe/Berlin:20250901T153000
DTEND;TZID=Europe/Berlin:20250901T193000
DTSTAMP:20260420T164422
CREATED:20250717T090119Z
LAST-MODIFIED:20250717T090429Z
UID:8000-1756740600-1756755000@kalender.seniorinnen.wien
SUMMARY:Open Air Event der Klubs im Donaupark
DESCRIPTION:Die Pensionist:innenklubs der Stadt Wien starten mit Musik\, Kultur und Unterhaltung in die neue Klubsaison und laden in Kooperation mit der Bezirksvorstehung Donaustadt und dem Kulturverein Donaustadt am 1. September ab 15:30 Uhr zum bunten Programm auf der Bühne Donaupark ein. \nAm Programm stehen unter anderem musikalische Auftritte der Werder Klub Band sowie der österreichischen Popsängerin Niddl & Band featuring Dennis Jale. \nNeben dem Kultur- und Unterhaltungsprogramm steht den Besucher:innen an diesem Tag ein umfangreiches Informationsangebot zu den Leistungen der Häuser zum Leben\, Pensionist:innenklubs sowie weiterer Kooperationspartner:innen und sozialer Organisationen zur Verfügung. \nDer Kulturverein Donaustadt stellt ein begrenztes Kontingent an Leihsesseln zur Verfügung. Besucher:innen können zudem selbst Sitzmöglichkeiten und Picknick-Decken mitbringen und es sich auf dem Rasen vor der Bühne Donaupark gemütlich machen. Vor Ort herrscht Selbstkonsumation. \nBei Schlechtwetter wird das Konzert auf den Folgetag\, des 2. September 2025 verschoben! \nEintritt frei! \nVeranstaltungstermin:\nMontag\, 1. September 2025\, 15:30 – 19:30 Uhr \nVeranstaltungsort:\nBühne Donaupark\, Arbeiterstrandbadstraße 122\, 1220 Wien \nErreichbarkeit:\nU1 Station Alte Donau und 10 min Fußweg oder\nU1 Station Alte Donau und Autobus 20A Richtung Neue Donau\, Ausstieg Strandbad Alte Donau und 5min Fußweg \nWeitere Informationen zur Veranstaltung unter: https://kwp.at/pensionistenklubs/open-air-festival-donaupark/ \n 
URL:https://kalender.seniorinnen.wien/event/open-air-event-der-klubs-im-donaupark/
LOCATION:Bühne im Donaupark\, Arbeiterstrandbadstraße 122\, Wien\, Wien\, 1220\, Austria
CATEGORIES:Begegnung,Unterhaltung
ATTACH;FMTTYPE=image/jpeg:https://kalender.seniorinnen.wien/wp-content/uploads/2025/07/Donaupark_Die-Klubs_Foto_Karl-Juris.jpg
END:VEVENT
END:VCALENDAR