BEGIN:VCALENDAR
VERSION:2.0
PRODID:-//Wien für Senior:innen - ECPv6.15.17.1//NONSGML v1.0//EN
CALSCALE:GREGORIAN
METHOD:PUBLISH
X-WR-CALNAME:Wien für Senior:innen
X-ORIGINAL-URL:https://kalender.seniorinnen.wien
X-WR-CALDESC:Veranstaltungen für Wien für Senior:innen
REFRESH-INTERVAL;VALUE=DURATION:PT1H
X-Robots-Tag:noindex
X-PUBLISHED-TTL:PT1H
BEGIN:VTIMEZONE
TZID:Europe/Berlin
BEGIN:DAYLIGHT
TZOFFSETFROM:+0100
TZOFFSETTO:+0200
TZNAME:CEST
DTSTART:20240331T010000
END:DAYLIGHT
BEGIN:STANDARD
TZOFFSETFROM:+0200
TZOFFSETTO:+0100
TZNAME:CET
DTSTART:20241027T010000
END:STANDARD
BEGIN:DAYLIGHT
TZOFFSETFROM:+0100
TZOFFSETTO:+0200
TZNAME:CEST
DTSTART:20250330T010000
END:DAYLIGHT
BEGIN:STANDARD
TZOFFSETFROM:+0200
TZOFFSETTO:+0100
TZNAME:CET
DTSTART:20251026T010000
END:STANDARD
BEGIN:DAYLIGHT
TZOFFSETFROM:+0100
TZOFFSETTO:+0200
TZNAME:CEST
DTSTART:20260329T010000
END:DAYLIGHT
BEGIN:STANDARD
TZOFFSETFROM:+0200
TZOFFSETTO:+0100
TZNAME:CET
DTSTART:20261025T010000
END:STANDARD
END:VTIMEZONE
BEGIN:VEVENT
DTSTART;TZID=Europe/Berlin:20251023T160000
DTEND;TZID=Europe/Berlin:20251023T180000
DTSTAMP:20260420T181816
CREATED:20250831T230006Z
LAST-MODIFIED:20250829T072933Z
UID:8088-1761235200-1761242400@kalender.seniorinnen.wien
SUMMARY:Plaudern in der Bücherei - Bildungszentrum Simmering
DESCRIPTION:Sie wollen neue Menschen kennenlernen\, sich mit Nachbar:innen austauschen und selbst erlebte Geschichten hören? Kommen Sie zum „Plaudern in der Bücherei“\, dem kostenlosen Angebot der\nWiener Gesundheitsförderung – WiG in die Büchereien der Stadt Wien. Die Treffen finden jeden Donnerstag bzw. Freitag von Oktober bis Dezember statt: abwechselnd in der Bücherei am Leberberg und in der Bücherei im Bildungszentrum Simmering. \nWeitere Infos: https://www.wig.or.at/termine/plaudern-in-der-buecherei \nFoto: Wiener Gesundheitsförderung – WiG
URL:https://kalender.seniorinnen.wien/event/plaudern-in-der-buecherei-bildungszentrum-simmering/2025-10-23/
LOCATION:Bücherei im Bildungszentrum Simmering\, Gottschalkgasse 10\, Wien\, 1110
CATEGORIES:Demenz,Monat der Senior:innen
ATTACH;FMTTYPE=image/jpeg:https://kalender.seniorinnen.wien/wp-content/uploads/2025/09/Plaudern_in_der_Buecherei_Cover-e1756216097263.jpg
END:VEVENT
BEGIN:VEVENT
DTSTART;TZID=Europe/Berlin:20251009T160000
DTEND;TZID=Europe/Berlin:20251009T180000
DTSTAMP:20260420T181816
CREATED:20250831T230006Z
LAST-MODIFIED:20250829T072933Z
UID:8086-1760025600-1760032800@kalender.seniorinnen.wien
SUMMARY:Plaudern in der Bücherei - Bildungszentrum Simmering
DESCRIPTION:Sie wollen neue Menschen kennenlernen\, sich mit Nachbar:innen austauschen und selbst erlebte Geschichten hören? Kommen Sie zum „Plaudern in der Bücherei“\, dem kostenlosen Angebot der\nWiener Gesundheitsförderung – WiG in die Büchereien der Stadt Wien. Die Treffen finden jeden Donnerstag bzw. Freitag von Oktober bis Dezember statt: abwechselnd in der Bücherei am Leberberg und in der Bücherei im Bildungszentrum Simmering. \nWeitere Infos: https://www.wig.or.at/termine/plaudern-in-der-buecherei \nFoto: Wiener Gesundheitsförderung – WiG
URL:https://kalender.seniorinnen.wien/event/plaudern-in-der-buecherei-bildungszentrum-simmering/2025-10-09/
LOCATION:Bücherei im Bildungszentrum Simmering\, Gottschalkgasse 10\, Wien\, 1110
CATEGORIES:Demenz,Monat der Senior:innen
ATTACH;FMTTYPE=image/jpeg:https://kalender.seniorinnen.wien/wp-content/uploads/2025/09/Plaudern_in_der_Buecherei_Cover-e1756216097263.jpg
END:VEVENT
BEGIN:VEVENT
DTSTART;TZID=Europe/Berlin:20250424T160000
DTEND;TZID=Europe/Berlin:20250424T180000
DTSTAMP:20260420T181816
CREATED:20250204T083740Z
LAST-MODIFIED:20250204T085736Z
UID:7315-1745510400-1745517600@kalender.seniorinnen.wien
SUMMARY:Plaudern in der Bücherei im Bildungszentrum Simmering
DESCRIPTION:ERZÄHLEN UND ZUHÖREN IN DEN BÜCHEREIEN AM LEBERBERG UND IM BILDUNGSZENTRUM SIMMERING:\nSie wollen neue Menschen kennenlernen\, sich mit Nachbar:innen austauschen und selbst erlebte Geschichten hören? \nKommen Sie in die Bücherei der Stadt Wien zu „Plaudern in der Bücherei“\, dem kostenlosen Angebot der Wiener Gesundheitsförderung – WiG. Immer donnerstags oder freitags von Februar bis April 2025. \nDie Treffen werden von erfahrenen Moderator*innen geleitet und finden abwechselnd in der Bücherei am Leberberg und in der Bücherei im Bildungszentrum Simmering statt. \nDie Teilnahme ist \n\nkostenlos\nohne Anmeldung\n\n  \nBÜCHEREI IM BILDUNGSZENTRUM SIMMERING (Gottschalkgasse 10\, 1110 Wien): \n\nFreitag\, 07.02.2025\nThema: Freizeitgeschichten\nDonnerstag\, 20.02.2025\nDonnerstag\, 06.03.2025\nThema: Schulgeschichten\nDonnerstag\, 20.03.2025\nDonnerstag\, 03.04.2025\nDonnerstag\, 24.04.2025\n\nUhrzeit: 16:00 – 18:00 Uhr \n  \nBÜCHEREI AM LEBERGERG (Rosa-Jochmann-Ring 5/1\, 1110 Wien): \n\nFreitag\, 14.02.2025\nThema: Schulgeschichten\nFreitag\, 28.02.2025\nFreitag\, 14.03.2025\nFreitag\, 28.03.2025\nFreitag\, 11.04.2025\n\nUhrzeit: 14:00 – 16:00 Uhr \nWeitere Informationen & Termine unter: wig.or.at/termine/plaudern-in-der-buecherei \nGastgeberinnen: Sabine Bergthaler\, Ilona Wenger \nÜber das Projekt: „Plaudern in der Bücherei“ ist ein Angebot der Wiener Gesundheitsförderung – WiG im Rahmen des Programms „Gesunde Bezirke“ in Kooperation mit den Büchereien der Stadt Wien und wird vom Verein Sorgenetz umgesetzt.
URL:https://kalender.seniorinnen.wien/event/plaudern-in-der-buecherei-2025-04-24/
LOCATION:Bücherei im Bildungszentrum Simmering\, Gottschalkgasse 10\, Wien\, 1110
CATEGORIES:Begegnung,Bildung
ATTACH;FMTTYPE=image/jpeg:https://kalender.seniorinnen.wien/wp-content/uploads/2025/02/OBS_20250130_OBS0014_1738226890_medium-e1756215904159.jpg
END:VEVENT
BEGIN:VEVENT
DTSTART;TZID=Europe/Berlin:20250403T160000
DTEND;TZID=Europe/Berlin:20250403T180000
DTSTAMP:20260420T181816
CREATED:20250204T083740Z
LAST-MODIFIED:20250204T085722Z
UID:7314-1743696000-1743703200@kalender.seniorinnen.wien
SUMMARY:Plaudern in der Bücherei im Bildungszentrum Simmering
DESCRIPTION:ERZÄHLEN UND ZUHÖREN IN DEN BÜCHEREIEN AM LEBERBERG UND IM BILDUNGSZENTRUM SIMMERING:\nSie wollen neue Menschen kennenlernen\, sich mit Nachbar:innen austauschen und selbst erlebte Geschichten hören? \nKommen Sie in die Bücherei der Stadt Wien zu „Plaudern in der Bücherei“\, dem kostenlosen Angebot der Wiener Gesundheitsförderung – WiG. Immer donnerstags oder freitags von Februar bis April 2025. \nDie Treffen werden von erfahrenen Moderator*innen geleitet und finden abwechselnd in der Bücherei am Leberberg und in der Bücherei im Bildungszentrum Simmering statt. \nDie Teilnahme ist \n\nkostenlos\nohne Anmeldung\n\n  \nBÜCHEREI IM BILDUNGSZENTRUM SIMMERING (Gottschalkgasse 10\, 1110 Wien): \n\nFreitag\, 07.02.2025\nThema: Freizeitgeschichten\nDonnerstag\, 20.02.2025\nDonnerstag\, 06.03.2025\nThema: Schulgeschichten\nDonnerstag\, 20.03.2025\nDonnerstag\, 03.04.2025\nDonnerstag\, 24.04.2025\n\nUhrzeit: 16:00 – 18:00 Uhr \n  \nBÜCHEREI AM LEBERGERG (Rosa-Jochmann-Ring 5/1\, 1110 Wien): \n\nFreitag\, 14.02.2025\nThema: Schulgeschichten\nFreitag\, 28.02.2025\nFreitag\, 14.03.2025\nFreitag\, 28.03.2025\nFreitag\, 11.04.2025\n\nUhrzeit: 14:00 – 16:00 Uhr \nWeitere Informationen & Termine unter: wig.or.at/termine/plaudern-in-der-buecherei \nGastgeberinnen: Sabine Bergthaler\, Ilona Wenger \nÜber das Projekt: „Plaudern in der Bücherei“ ist ein Angebot der Wiener Gesundheitsförderung – WiG im Rahmen des Programms „Gesunde Bezirke“ in Kooperation mit den Büchereien der Stadt Wien und wird vom Verein Sorgenetz umgesetzt.
URL:https://kalender.seniorinnen.wien/event/plaudern-in-der-buecherei-2025-04-03/
LOCATION:Bücherei im Bildungszentrum Simmering\, Gottschalkgasse 10\, Wien\, 1110
CATEGORIES:Begegnung,Bildung
ATTACH;FMTTYPE=image/jpeg:https://kalender.seniorinnen.wien/wp-content/uploads/2025/02/OBS_20250130_OBS0014_1738226890_medium-e1756215904159.jpg
END:VEVENT
BEGIN:VEVENT
DTSTART;TZID=Europe/Berlin:20250320T160000
DTEND;TZID=Europe/Berlin:20250320T180000
DTSTAMP:20260420T181816
CREATED:20250204T083740Z
LAST-MODIFIED:20250204T085707Z
UID:7313-1742486400-1742493600@kalender.seniorinnen.wien
SUMMARY:Plaudern in der Bücherei im Bildungszentrum Simmering
DESCRIPTION:ERZÄHLEN UND ZUHÖREN IN DEN BÜCHEREIEN AM LEBERBERG UND IM BILDUNGSZENTRUM SIMMERING:\nSie wollen neue Menschen kennenlernen\, sich mit Nachbar:innen austauschen und selbst erlebte Geschichten hören? \nKommen Sie in die Bücherei der Stadt Wien zu „Plaudern in der Bücherei“\, dem kostenlosen Angebot der Wiener Gesundheitsförderung – WiG. Immer donnerstags oder freitags von Februar bis April 2025. \nDie Treffen werden von erfahrenen Moderator*innen geleitet und finden abwechselnd in der Bücherei am Leberberg und in der Bücherei im Bildungszentrum Simmering statt. \nDie Teilnahme ist \n\nkostenlos\nohne Anmeldung\n\n  \nBÜCHEREI IM BILDUNGSZENTRUM SIMMERING (Gottschalkgasse 10\, 1110 Wien): \n\nFreitag\, 07.02.2025\nThema: Freizeitgeschichten\nDonnerstag\, 20.02.2025\nDonnerstag\, 06.03.2025\nThema: Schulgeschichten\nDonnerstag\, 20.03.2025\nDonnerstag\, 03.04.2025\nDonnerstag\, 24.04.2025\n\nUhrzeit: 16:00 – 18:00 Uhr \n  \nBÜCHEREI AM LEBERGERG (Rosa-Jochmann-Ring 5/1\, 1110 Wien): \n\nFreitag\, 14.02.2025\nThema: Schulgeschichten\nFreitag\, 28.02.2025\nFreitag\, 14.03.2025\nFreitag\, 28.03.2025\nFreitag\, 11.04.2025\n\nUhrzeit: 14:00 – 16:00 Uhr \nWeitere Informationen & Termine unter: wig.or.at/termine/plaudern-in-der-buecherei \nGastgeberinnen: Sabine Bergthaler\, Ilona Wenger \nÜber das Projekt: „Plaudern in der Bücherei“ ist ein Angebot der Wiener Gesundheitsförderung – WiG im Rahmen des Programms „Gesunde Bezirke“ in Kooperation mit den Büchereien der Stadt Wien und wird vom Verein Sorgenetz umgesetzt.
URL:https://kalender.seniorinnen.wien/event/plaudern-in-der-buecherei-2025-03-20/
LOCATION:Bücherei im Bildungszentrum Simmering\, Gottschalkgasse 10\, Wien\, 1110
CATEGORIES:Begegnung,Bildung
ATTACH;FMTTYPE=image/jpeg:https://kalender.seniorinnen.wien/wp-content/uploads/2025/02/OBS_20250130_OBS0014_1738226890_medium-e1756215904159.jpg
END:VEVENT
BEGIN:VEVENT
DTSTART;TZID=Europe/Berlin:20250306T160000
DTEND;TZID=Europe/Berlin:20250306T180000
DTSTAMP:20260420T181816
CREATED:20250204T083740Z
LAST-MODIFIED:20250204T085652Z
UID:7312-1741276800-1741284000@kalender.seniorinnen.wien
SUMMARY:Plaudern in der Bücherei im Bildungszentrum Simmering
DESCRIPTION:ERZÄHLEN UND ZUHÖREN IN DEN BÜCHEREIEN AM LEBERBERG UND IM BILDUNGSZENTRUM SIMMERING:\nSie wollen neue Menschen kennenlernen\, sich mit Nachbar:innen austauschen und selbst erlebte Geschichten hören? \nKommen Sie in die Bücherei der Stadt Wien zu „Plaudern in der Bücherei“\, dem kostenlosen Angebot der Wiener Gesundheitsförderung – WiG. Immer donnerstags oder freitags von Februar bis April 2025. \nDie Treffen werden von erfahrenen Moderator*innen geleitet und finden abwechselnd in der Bücherei am Leberberg und in der Bücherei im Bildungszentrum Simmering statt. \nDie Teilnahme ist \n\nkostenlos\nohne Anmeldung\n\n  \nBÜCHEREI IM BILDUNGSZENTRUM SIMMERING (Gottschalkgasse 10\, 1110 Wien): \n\nFreitag\, 07.02.2025\nThema: Freizeitgeschichten\nDonnerstag\, 20.02.2025\nDonnerstag\, 06.03.2025\nThema: Schulgeschichten\nDonnerstag\, 20.03.2025\nDonnerstag\, 03.04.2025\nDonnerstag\, 24.04.2025\n\nUhrzeit: 16:00 – 18:00 Uhr \n  \nBÜCHEREI AM LEBERGERG (Rosa-Jochmann-Ring 5/1\, 1110 Wien): \n\nFreitag\, 14.02.2025\nThema: Schulgeschichten\nFreitag\, 28.02.2025\nFreitag\, 14.03.2025\nFreitag\, 28.03.2025\nFreitag\, 11.04.2025\n\nUhrzeit: 14:00 – 16:00 Uhr \nWeitere Informationen & Termine unter: wig.or.at/termine/plaudern-in-der-buecherei \nGastgeberinnen: Sabine Bergthaler\, Ilona Wenger \nÜber das Projekt: „Plaudern in der Bücherei“ ist ein Angebot der Wiener Gesundheitsförderung – WiG im Rahmen des Programms „Gesunde Bezirke“ in Kooperation mit den Büchereien der Stadt Wien und wird vom Verein Sorgenetz umgesetzt.
URL:https://kalender.seniorinnen.wien/event/plaudern-in-der-buecherei-2025-03-06/
LOCATION:Bücherei im Bildungszentrum Simmering\, Gottschalkgasse 10\, Wien\, 1110
CATEGORIES:Begegnung,Bildung
ATTACH;FMTTYPE=image/jpeg:https://kalender.seniorinnen.wien/wp-content/uploads/2025/02/OBS_20250130_OBS0014_1738226890_medium-e1756215904159.jpg
END:VEVENT
BEGIN:VEVENT
DTSTART;TZID=Europe/Berlin:20250220T160000
DTEND;TZID=Europe/Berlin:20250220T180000
DTSTAMP:20260420T181816
CREATED:20250204T083740Z
LAST-MODIFIED:20250204T085638Z
UID:7311-1740067200-1740074400@kalender.seniorinnen.wien
SUMMARY:Plaudern in der Bücherei im Bildungszentrum Simmering
DESCRIPTION:ERZÄHLEN UND ZUHÖREN IN DEN BÜCHEREIEN AM LEBERBERG UND IM BILDUNGSZENTRUM SIMMERING:\nSie wollen neue Menschen kennenlernen\, sich mit Nachbar:innen austauschen und selbst erlebte Geschichten hören? \nKommen Sie in die Bücherei der Stadt Wien zu „Plaudern in der Bücherei“\, dem kostenlosen Angebot der Wiener Gesundheitsförderung – WiG. Immer donnerstags oder freitags von Februar bis April 2025. \nDie Treffen werden von erfahrenen Moderator*innen geleitet und finden abwechselnd in der Bücherei am Leberberg und in der Bücherei im Bildungszentrum Simmering statt. \nDie Teilnahme ist \n\nkostenlos\nohne Anmeldung\n\n  \nBÜCHEREI IM BILDUNGSZENTRUM SIMMERING (Gottschalkgasse 10\, 1110 Wien): \n\nFreitag\, 07.02.2025\nThema: Freizeitgeschichten\nDonnerstag\, 20.02.2025\nDonnerstag\, 06.03.2025\nThema: Schulgeschichten\nDonnerstag\, 20.03.2025\nDonnerstag\, 03.04.2025\nDonnerstag\, 24.04.2025\n\nUhrzeit: 16:00 – 18:00 Uhr \n  \nBÜCHEREI AM LEBERGERG (Rosa-Jochmann-Ring 5/1\, 1110 Wien): \n\nFreitag\, 14.02.2025\nThema: Schulgeschichten\nFreitag\, 28.02.2025\nFreitag\, 14.03.2025\nFreitag\, 28.03.2025\nFreitag\, 11.04.2025\n\nUhrzeit: 14:00 – 16:00 Uhr \nWeitere Informationen & Termine unter: wig.or.at/termine/plaudern-in-der-buecherei \nGastgeberinnen: Sabine Bergthaler\, Ilona Wenger \nÜber das Projekt: „Plaudern in der Bücherei“ ist ein Angebot der Wiener Gesundheitsförderung – WiG im Rahmen des Programms „Gesunde Bezirke“ in Kooperation mit den Büchereien der Stadt Wien und wird vom Verein Sorgenetz umgesetzt.
URL:https://kalender.seniorinnen.wien/event/plaudern-in-der-buecherei-2025-02-20/
LOCATION:Bücherei im Bildungszentrum Simmering\, Gottschalkgasse 10\, Wien\, 1110
CATEGORIES:Begegnung,Bildung
ATTACH;FMTTYPE=image/jpeg:https://kalender.seniorinnen.wien/wp-content/uploads/2025/02/OBS_20250130_OBS0014_1738226890_medium-e1756215904159.jpg
END:VEVENT
BEGIN:VEVENT
DTSTART;TZID=Europe/Berlin:20250207T160000
DTEND;TZID=Europe/Berlin:20250207T180000
DTSTAMP:20260420T181816
CREATED:20250204T083740Z
LAST-MODIFIED:20250204T085601Z
UID:7308-1738944000-1738951200@kalender.seniorinnen.wien
SUMMARY:Plaudern in der Bücherei im Bildungszentrum Simmering
DESCRIPTION:ERZÄHLEN UND ZUHÖREN IN DEN BÜCHEREIEN AM LEBERBERG UND IM BILDUNGSZENTRUM SIMMERING:\nSie wollen neue Menschen kennenlernen\, sich mit Nachbar:innen austauschen und selbst erlebte Geschichten hören? \nKommen Sie in die Bücherei der Stadt Wien zu „Plaudern in der Bücherei“\, dem kostenlosen Angebot der Wiener Gesundheitsförderung – WiG. Immer donnerstags oder freitags von Februar bis April 2025. \nDie Treffen werden von erfahrenen Moderator*innen geleitet und finden abwechselnd in der Bücherei am Leberberg und in der Bücherei im Bildungszentrum Simmering statt. \nDie Teilnahme ist \n\nkostenlos\nohne Anmeldung\n\n  \nBÜCHEREI IM BILDUNGSZENTRUM SIMMERING (Gottschalkgasse 10\, 1110 Wien): \n\nFreitag\, 07.02.2025\nThema: Freizeitgeschichten\nDonnerstag\, 20.02.2025\nDonnerstag\, 06.03.2025\nThema: Schulgeschichten\nDonnerstag\, 20.03.2025\nDonnerstag\, 03.04.2025\nDonnerstag\, 24.04.2025\n\nUhrzeit: 16:00 – 18:00 Uhr \n  \nBÜCHEREI AM LEBERGERG (Rosa-Jochmann-Ring 5/1\, 1110 Wien): \n\nFreitag\, 14.02.2025\nThema: Schulgeschichten\nFreitag\, 28.02.2025\nFreitag\, 14.03.2025\nFreitag\, 28.03.2025\nFreitag\, 11.04.2025\n\nUhrzeit: 14:00 – 16:00 Uhr \nWeitere Informationen & Termine unter: wig.or.at/termine/plaudern-in-der-buecherei \nGastgeberinnen: Sabine Bergthaler\, Ilona Wenger \nÜber das Projekt: „Plaudern in der Bücherei“ ist ein Angebot der Wiener Gesundheitsförderung – WiG im Rahmen des Programms „Gesunde Bezirke“ in Kooperation mit den Büchereien der Stadt Wien und wird vom Verein Sorgenetz umgesetzt.
URL:https://kalender.seniorinnen.wien/event/plaudern-in-der-buecherei/
LOCATION:Bücherei im Bildungszentrum Simmering\, Gottschalkgasse 10\, Wien\, 1110
CATEGORIES:Begegnung,Bildung
ATTACH;FMTTYPE=image/jpeg:https://kalender.seniorinnen.wien/wp-content/uploads/2025/02/OBS_20250130_OBS0014_1738226890_medium-e1756215904159.jpg
END:VEVENT
END:VCALENDAR