BEGIN:VCALENDAR
VERSION:2.0
PRODID:-//Wien für Senior:innen - ECPv6.15.17.1//NONSGML v1.0//EN
CALSCALE:GREGORIAN
METHOD:PUBLISH
X-ORIGINAL-URL:https://kalender.seniorinnen.wien
X-WR-CALDESC:Veranstaltungen für Wien für Senior:innen
REFRESH-INTERVAL;VALUE=DURATION:PT1H
X-Robots-Tag:noindex
X-PUBLISHED-TTL:PT1H
BEGIN:VTIMEZONE
TZID:Europe/Berlin
BEGIN:DAYLIGHT
TZOFFSETFROM:+0100
TZOFFSETTO:+0200
TZNAME:CEST
DTSTART:20220327T010000
END:DAYLIGHT
BEGIN:STANDARD
TZOFFSETFROM:+0200
TZOFFSETTO:+0100
TZNAME:CET
DTSTART:20221030T010000
END:STANDARD
BEGIN:DAYLIGHT
TZOFFSETFROM:+0100
TZOFFSETTO:+0200
TZNAME:CEST
DTSTART:20230326T010000
END:DAYLIGHT
BEGIN:STANDARD
TZOFFSETFROM:+0200
TZOFFSETTO:+0100
TZNAME:CET
DTSTART:20231029T010000
END:STANDARD
BEGIN:DAYLIGHT
TZOFFSETFROM:+0100
TZOFFSETTO:+0200
TZNAME:CEST
DTSTART:20240331T010000
END:DAYLIGHT
BEGIN:STANDARD
TZOFFSETFROM:+0200
TZOFFSETTO:+0100
TZNAME:CET
DTSTART:20241027T010000
END:STANDARD
BEGIN:DAYLIGHT
TZOFFSETFROM:+0100
TZOFFSETTO:+0200
TZNAME:CEST
DTSTART:20250330T010000
END:DAYLIGHT
BEGIN:STANDARD
TZOFFSETFROM:+0200
TZOFFSETTO:+0100
TZNAME:CET
DTSTART:20251026T010000
END:STANDARD
BEGIN:DAYLIGHT
TZOFFSETFROM:+0100
TZOFFSETTO:+0200
TZNAME:CEST
DTSTART:20260329T010000
END:DAYLIGHT
BEGIN:STANDARD
TZOFFSETFROM:+0200
TZOFFSETTO:+0100
TZNAME:CET
DTSTART:20261025T010000
END:STANDARD
END:VTIMEZONE
BEGIN:VEVENT
DTSTART;TZID=Europe/Berlin:20251023T140000
DTEND;TZID=Europe/Berlin:20251023T160000
DTSTAMP:20260420T205524
CREATED:20250831T230001Z
LAST-MODIFIED:20250828T100258Z
UID:8917-1761228000-1761235200@kalender.seniorinnen.wien
SUMMARY:Senior:innen-Kino: Das Narrenschiff
DESCRIPTION:Wer ist für einen filmreifen Nachmittag zu haben? Besuchen Sie mit der Bezirksvorstehung Penzing die Breitenseer Lichtspiele und lassen Sie sich gemeinsam mit Gleichgesinnten in die Welt des Films entführen. \nMax. 150 Teilnehmer:innen \nAnmeldung bis 20.10. \nTel: 01 4000 14 111\nE-Mail: kommunikation@bv14.wien.gv.at \nFoto: Pixabay
URL:https://kalender.seniorinnen.wien/event/seniorinnen-kino-das-narrenschiff/
LOCATION:Breitenseer Lichtspiele\, Breitenseer Straße 21\, Wien\, 1140
CATEGORIES:Monat der Senior:innen,Unterhaltung
ATTACH;FMTTYPE=image/jpeg:https://kalender.seniorinnen.wien/wp-content/uploads/2025/08/cinema-4153289_1280-e1755782580437.jpg
ORGANIZER;CN="Bezirksvorstehung Penzing":MAILTO:Claudia.exenberger@wien.gv.at
END:VEVENT
BEGIN:VEVENT
DTSTART;TZID=Europe/Berlin:20231012T140000
DTEND;TZID=Europe/Berlin:20231012T180000
DTSTAMP:20260420T205524
CREATED:20230810T091313Z
LAST-MODIFIED:20230811T135950Z
UID:3654-1697119200-1697133600@kalender.seniorinnen.wien
SUMMARY:Monat der Senior:innen: Mit dem Kontaktbesuchsdienst in die Breitenseer Lichtspiele
DESCRIPTION:Der Kontaktbesuchsdienst lädt zum Film „Die Rumba-Therapie“ ins älteste Kino der Stadt. Lassen Sie sich von heißen Rumba-Rhythmen in einer hinreißenden\, französischen Komödie verzaubern. \nEinlass\, Begrüßung mit Erfrischungen ab 14:00 Uhr\nFilmbeginn: 15:00 Uhr\nAnschließend gemütlicher Ausklang\nHinweis: die WCs sind nicht rollstuhltauglich \nBitte melden Sie sich von 1.9. bis 3.10.2023 an unter 01/98121 1730 oder 1740 oder unter kino@wiso.or.at. \nSollten Sie nicht an der Veranstaltung teilnehmen können\, sagen Sie bitte ab. So haben Interessierte die Möglichkeit\, Ihren Platz einzunehmen. \nAuf vielen Veranstaltungen wird fotografiert und/oder gefilmt. Mit der Teilnahme an einer Veranstaltung stimmen Sie einer möglichen Veröffentlichung auf Websites\, Social Media-Kanälen\, Print- und Onlinemedien und dergleichen zu. \n(c) Breitenseer Lichtspiele
URL:https://kalender.seniorinnen.wien/event/mit-dem-kontaktbesuchsdienst-in-die-breitenseer-lichtspiele/
LOCATION:Breitenseer Lichtspiele\, Breitenseer Straße 21\, Wien\, 1140
CATEGORIES:Monat der Senior:innen
ATTACH;FMTTYPE=image/jpeg:https://kalender.seniorinnen.wien/wp-content/uploads/2023/08/Breitenseer-Lichtspiele_Ansicht-2-scaled.jpg
END:VEVENT
END:VCALENDAR