BEGIN:VCALENDAR
VERSION:2.0
PRODID:-//Wien für Senior:innen - ECPv6.15.17.1//NONSGML v1.0//EN
CALSCALE:GREGORIAN
METHOD:PUBLISH
X-ORIGINAL-URL:https://kalender.seniorinnen.wien
X-WR-CALDESC:Veranstaltungen für Wien für Senior:innen
REFRESH-INTERVAL;VALUE=DURATION:PT1H
X-Robots-Tag:noindex
X-PUBLISHED-TTL:PT1H
BEGIN:VTIMEZONE
TZID:Europe/Berlin
BEGIN:DAYLIGHT
TZOFFSETFROM:+0100
TZOFFSETTO:+0200
TZNAME:CEST
DTSTART:20230326T010000
END:DAYLIGHT
BEGIN:STANDARD
TZOFFSETFROM:+0200
TZOFFSETTO:+0100
TZNAME:CET
DTSTART:20231029T010000
END:STANDARD
BEGIN:DAYLIGHT
TZOFFSETFROM:+0100
TZOFFSETTO:+0200
TZNAME:CEST
DTSTART:20240331T010000
END:DAYLIGHT
BEGIN:STANDARD
TZOFFSETFROM:+0200
TZOFFSETTO:+0100
TZNAME:CET
DTSTART:20241027T010000
END:STANDARD
BEGIN:DAYLIGHT
TZOFFSETFROM:+0100
TZOFFSETTO:+0200
TZNAME:CEST
DTSTART:20250330T010000
END:DAYLIGHT
BEGIN:STANDARD
TZOFFSETFROM:+0200
TZOFFSETTO:+0100
TZNAME:CET
DTSTART:20251026T010000
END:STANDARD
END:VTIMEZONE
BEGIN:VEVENT
DTSTART;TZID=Europe/Berlin:20241001T163000
DTEND;TZID=Europe/Berlin:20241001T180000
DTSTAMP:20260421T044344
CREATED:20240822T115008Z
LAST-MODIFIED:20240917T073612Z
UID:5943-1727800200-1727805600@kalender.seniorinnen.wien
SUMMARY:Gemeinsam sicher im digitalen Alltag
DESCRIPTION:Vorstand Mag. Böckmann wird Sie herzlich in der BKS Filiale Renngasse willkommen heißen. Anschließend erfahren Sie von Kontrollinspektor Werner Schweiger mehr über digitale Sicherheit für Senior:innen\, bevor die Möglichkeit besteht\, Fragen zu stellen. \nZum Abschluss lassen wir bei Wein und Brötchen den Abend gemütlich ausklingen. \n  \nAnmeldung: 2.9. bis 26.9.2024\, max. Teilnehmer:innen: 70 \nFSW-Kund:innentelefon: 01 24 5 24 \nOrt: 1010 Wien\, Renngasse 6-8 (Eingang Schalter) \nFoto: gettyimages / shapecharge
URL:https://kalender.seniorinnen.wien/event/gemeinsam-sicher-im-digitalen-alltag/
LOCATION:BKS Bank\, Renngasse 6-8\, Wien\, Wien\, 1010\, Österreich
CATEGORIES:Digital und Online,Monat der Senior:innen
ATTACH;FMTTYPE=image/jpeg:https://kalender.seniorinnen.wien/wp-content/uploads/2024/08/Einladung-Cyberkriminalitaet-1.jpg
END:VEVENT
END:VCALENDAR