BEGIN:VCALENDAR
VERSION:2.0
PRODID:-//Wien für Senior:innen - ECPv6.15.17.1//NONSGML v1.0//EN
CALSCALE:GREGORIAN
METHOD:PUBLISH
X-WR-CALNAME:Wien für Senior:innen
X-ORIGINAL-URL:https://kalender.seniorinnen.wien
X-WR-CALDESC:Veranstaltungen für Wien für Senior:innen
REFRESH-INTERVAL;VALUE=DURATION:PT1H
X-Robots-Tag:noindex
X-PUBLISHED-TTL:PT1H
BEGIN:VTIMEZONE
TZID:Europe/Berlin
BEGIN:DAYLIGHT
TZOFFSETFROM:+0100
TZOFFSETTO:+0200
TZNAME:CEST
DTSTART:20220327T010000
END:DAYLIGHT
BEGIN:STANDARD
TZOFFSETFROM:+0200
TZOFFSETTO:+0100
TZNAME:CET
DTSTART:20221030T010000
END:STANDARD
BEGIN:DAYLIGHT
TZOFFSETFROM:+0100
TZOFFSETTO:+0200
TZNAME:CEST
DTSTART:20230326T010000
END:DAYLIGHT
BEGIN:STANDARD
TZOFFSETFROM:+0200
TZOFFSETTO:+0100
TZNAME:CET
DTSTART:20231029T010000
END:STANDARD
BEGIN:DAYLIGHT
TZOFFSETFROM:+0100
TZOFFSETTO:+0200
TZNAME:CEST
DTSTART:20240331T010000
END:DAYLIGHT
BEGIN:STANDARD
TZOFFSETFROM:+0200
TZOFFSETTO:+0100
TZNAME:CET
DTSTART:20241027T010000
END:STANDARD
END:VTIMEZONE
BEGIN:VEVENT
DTSTART;TZID=Europe/Berlin:20231207T160000
DTEND;TZID=Europe/Berlin:20231207T170000
DTSTAMP:20260423T134759
CREATED:20231116T083116Z
LAST-MODIFIED:20231116T083116Z
UID:4598-1701964800-1701968400@kalender.seniorinnen.wien
SUMMARY:Allein - kein Grund zur Einsamkeit?
DESCRIPTION:Johannes Gorbach von der „Plattform – gegen – Einsamkeit“ geht in seinem Vortrag auf die Ursachen von Einsamkeit ein und liefert Tipps\, was wir dagegen tun können. Denn: „Selbstgewähltes Alleinsein ist kein Problem. Zum Problem wird Einsamkeit\, wenn man darunter leidet und man das Gefühl hat\, dass etwas mit den eigenen Sozialkontakten nicht stimmt“\, so die Initiatorin dieser Plattform\, Frau Ao. Univ.-Prof.in Dr.in Karin Gutiérrez-Lobos. \nIm Anschluss an den Vortrag geben Vertreter:innen von sozialen Vereinen und Projekten Informationen\, wie und wo man der Einsamkeit entgegenwirken kann. Erfahren Sie alles über Kommunikations- und Kontaktmöglichkeiten und die Gelegenheiten für soziales Engagement. \nEs wird um Anmeldung gebeten\, jeweils im Büro der Bezirksvorstehung\, persönlich zu den Amtsstunden\, telefonisch unter 01/4000-07110 oder per E-Mail post@bv07.wien.gv.at !
URL:https://kalender.seniorinnen.wien/event/allein-kein-grund-zur-einsamkeit/
LOCATION:Bezirksvorstehung Neubau\, Hermanngasse 24-26\, Wien\, Wien\, 1070
END:VEVENT
BEGIN:VEVENT
DTSTART;TZID=Europe/Berlin:20231121T160000
DTEND;TZID=Europe/Berlin:20231121T170000
DTSTAMP:20260423T134759
CREATED:20231116T082719Z
LAST-MODIFIED:20231116T082804Z
UID:4592-1700582400-1700586000@kalender.seniorinnen.wien
SUMMARY:Schutz vor Betrug
DESCRIPTION:„Gemeinsam Sicher am Neubau“ – Grätzlpolizistin Andrea Prosenbauer vom Stadtpolizeikommando 7/8/9 gibt in ihrem Vortrag Ratschläge\, wie man sich und sein Eigentum schützen kann und sich richtig in Zeiten zunehmender Betrügertricks verhält\, sowohl per Telefon\, im Internet oder an der Wohnungstür. \nBitte um Anmeldung jeweils im Büro der Bezirksvorstehung\, persönlich zu den Amtsstunden\, telefonisch unter 01/4000-07110 oder per E-Mail post@bv07.wien.gv.at !
URL:https://kalender.seniorinnen.wien/event/vortrag-schutz-vor-betrug/
LOCATION:Bezirksvorstehung Neubau\, Hermanngasse 24-26\, Wien\, Wien\, 1070
CATEGORIES:Sicherheit
END:VEVENT
BEGIN:VEVENT
DTSTART;TZID=Europe/Berlin:20231016T143000
DTEND;TZID=Europe/Berlin:20231016T160000
DTSTAMP:20260423T134759
CREATED:20230824T080550Z
LAST-MODIFIED:20230824T081924Z
UID:4015-1697466600-1697472000@kalender.seniorinnen.wien
SUMMARY:Tanzworkshop „Tanzen ab der Lebensmitte“ mit Renate
DESCRIPTION:Wer sein Tanzbein gerne schwingen möchte\, ist bei „Renate tanzt“ richtig. Ob Kreistänze und Linedances im Rhythmus von Samba\, Rumba\, langsamer Walzer oder ChaCha. Freuen Sie sich auf ein gemeinsames schwungvolles Beisammensein im Festsaal der Bezirksvorstehung Neubau. \nDie Teilnahme ist kostenlos\, die Veranstaltung richtet sich vor allem an Senior:innen. \nAnmeldung: Tel. 01/4000 – 07110. E-Mail: post@bv07.wien.gv.at \nSollten Sie nicht an der Veranstaltung teilnehmen können\, sagen Sie bitte ab. So haben Interessierte die Möglichkeit\, Ihren Platz einzunehmen. \n©Renate Elgert
URL:https://kalender.seniorinnen.wien/event/tanzworkshop-tanzen-ab-der-lebensmitte-mit-renate/
LOCATION:Bezirksvorstehung Neubau\, Hermanngasse 24-26\, Wien\, Wien\, 1070
CATEGORIES:Fit und Gesund,Grätzel,Information
END:VEVENT
END:VCALENDAR