BEGIN:VCALENDAR
VERSION:2.0
PRODID:-//Wien für Senior:innen - ECPv6.15.17.1//NONSGML v1.0//EN
CALSCALE:GREGORIAN
METHOD:PUBLISH
X-ORIGINAL-URL:https://kalender.seniorinnen.wien
X-WR-CALDESC:Veranstaltungen für Wien für Senior:innen
REFRESH-INTERVAL;VALUE=DURATION:PT1H
X-Robots-Tag:noindex
X-PUBLISHED-TTL:PT1H
BEGIN:VTIMEZONE
TZID:Europe/Berlin
BEGIN:DAYLIGHT
TZOFFSETFROM:+0100
TZOFFSETTO:+0200
TZNAME:CEST
DTSTART:20220327T010000
END:DAYLIGHT
BEGIN:STANDARD
TZOFFSETFROM:+0200
TZOFFSETTO:+0100
TZNAME:CET
DTSTART:20221030T010000
END:STANDARD
BEGIN:DAYLIGHT
TZOFFSETFROM:+0100
TZOFFSETTO:+0200
TZNAME:CEST
DTSTART:20230326T010000
END:DAYLIGHT
BEGIN:STANDARD
TZOFFSETFROM:+0200
TZOFFSETTO:+0100
TZNAME:CET
DTSTART:20231029T010000
END:STANDARD
BEGIN:DAYLIGHT
TZOFFSETFROM:+0100
TZOFFSETTO:+0200
TZNAME:CEST
DTSTART:20240331T010000
END:DAYLIGHT
BEGIN:STANDARD
TZOFFSETFROM:+0200
TZOFFSETTO:+0100
TZNAME:CET
DTSTART:20241027T010000
END:STANDARD
END:VTIMEZONE
BEGIN:VEVENT
DTSTART;TZID=Europe/Berlin:20231013T130000
DTEND;TZID=Europe/Berlin:20231013T180000
DTSTAMP:20260420T220701
CREATED:20230825T142413Z
LAST-MODIFIED:20230825T142538Z
UID:4033-1697202000-1697220000@kalender.seniorinnen.wien
SUMMARY:Monat der Senior:innen: Margartner Senior:innentag
DESCRIPTION:Auch heuer wieder: Information\, Beratung\, Musik und vor allem Spaß für alle Margaretner:innen! Der Margaretner Senior:innentag bietet auch heuer wieder ein vielfältiges\, tolles Programm für alle ab 60 Jahren. \nMelden Sie sich bitte bis 12.10.2023 an unter 01/4000 05115 oder unter post@bv05.wien.gv.at. \n 
URL:https://kalender.seniorinnen.wien/event/monat-der-seniorinnen-margartner-seniorinnentag/
LOCATION:Bezirksvorstehung Margareten\, Schönbrunner Straße 54\, Wien\, 1050
CATEGORIES:Monat der Senior:innen
END:VEVENT
END:VCALENDAR