BEGIN:VCALENDAR
VERSION:2.0
PRODID:-//Wien für Senior:innen - ECPv6.15.17.1//NONSGML v1.0//EN
CALSCALE:GREGORIAN
METHOD:PUBLISH
X-WR-CALNAME:Wien für Senior:innen
X-ORIGINAL-URL:https://kalender.seniorinnen.wien
X-WR-CALDESC:Veranstaltungen für Wien für Senior:innen
REFRESH-INTERVAL;VALUE=DURATION:PT1H
X-Robots-Tag:noindex
X-PUBLISHED-TTL:PT1H
BEGIN:VTIMEZONE
TZID:Europe/Berlin
BEGIN:DAYLIGHT
TZOFFSETFROM:+0100
TZOFFSETTO:+0200
TZNAME:CEST
DTSTART:20240331T010000
END:DAYLIGHT
BEGIN:STANDARD
TZOFFSETFROM:+0200
TZOFFSETTO:+0100
TZNAME:CET
DTSTART:20241027T010000
END:STANDARD
BEGIN:DAYLIGHT
TZOFFSETFROM:+0100
TZOFFSETTO:+0200
TZNAME:CEST
DTSTART:20250330T010000
END:DAYLIGHT
BEGIN:STANDARD
TZOFFSETFROM:+0200
TZOFFSETTO:+0100
TZNAME:CET
DTSTART:20251026T010000
END:STANDARD
BEGIN:DAYLIGHT
TZOFFSETFROM:+0100
TZOFFSETTO:+0200
TZNAME:CEST
DTSTART:20260329T010000
END:DAYLIGHT
BEGIN:STANDARD
TZOFFSETFROM:+0200
TZOFFSETTO:+0100
TZNAME:CET
DTSTART:20261025T010000
END:STANDARD
END:VTIMEZONE
BEGIN:VEVENT
DTSTART;TZID=Europe/Berlin:20250708T130000
DTEND;TZID=Europe/Berlin:20250708T160000
DTSTAMP:20260421T044911
CREATED:20250616T063812Z
LAST-MODIFIED:20250616T063950Z
UID:7945-1751979600-1751990400@kalender.seniorinnen.wien
SUMMARY:Community Nurses in Wien 21 - Sprechstunden
DESCRIPTION:Community Nurses kennen sich in Gesundheitsfragen bestens aus – sie sind diplomierte Gesundheits- und Krankenpflegepersonen und wissen\, wie man gesundheitlichen Herausforderungen begegnet\, die Gesundheit bewahrt bzw. den Alltag erleichtert. \nDie Community Nurses beraten Sie gerne persönlich in ihren kostenlosen Sprechstunden.\nEine Anmeldung ist nicht erforderlich. \nJeden 2. Dienstag im Monat von 13:00-16:00 Uhr\nin der Bezirksvorstehung 21\n2. OG\, Zimmer-Nr. 211A\nAm Spitz\n1210 Wien \n  \nKontakt: \n\nE-Mail an post-cn@fsw.at\nTelefonische Buchung von Beratungsterminen: 01/24 5 24 (Rückrufticket)
URL:https://kalender.seniorinnen.wien/event/sprechstunden-community-nurses-in-wien-21/2025-07-08/
LOCATION:Bezirksvorstehung Floridsdorf\, Am Spitz 1\, Wien\, 1210
CATEGORIES:Information,Selbstfürsorge
ATTACH;FMTTYPE=image/jpeg:https://kalender.seniorinnen.wien/wp-content/uploads/2025/06/nurse-2536963_1280.jpg
ORGANIZER;CN="Fonds Soziales Wien":MAILTO:post@fsw.at
END:VEVENT
BEGIN:VEVENT
DTSTART;TZID=Europe/Berlin:20250618T133000
DTEND;TZID=Europe/Berlin:20250618T153000
DTSTAMP:20260421T044911
CREATED:20240125T095922Z
LAST-MODIFIED:20250116T083344Z
UID:7186-1750253400-1750260600@kalender.seniorinnen.wien
SUMMARY:Kontaktbesuchsdienst: Sprechstunde in der Bezirksvorstehung des 21. Bezirks
DESCRIPTION:Die Wiener Sozialdienste informieren alle in Wien lebenden Personen ab 60 Jahren kostenlos über die sozialen Dienstleistungen der Stadt.\n\n\nIn Sprechstunden im 21. Bezirk werden Ihnen passende Ansprechpartner:innen\, Telefonnummern und Adressen genannt rund um Themen wie Freizeitaktivitäten\, Unterstützung für pflegende Angehörige\, Wohnen\, Vorsorge und das digitale Angebot der Stadt. \n\nTermine:\nMi\, 15.01.2025\nMi\, 29.01.2025\nMi\, 12.02.2025\nMi\, 26.02.2025\nMi\, 12.03.2025 \nVeranstaltungsort:\nBezirksvorstehung des 21. Bezirks\nAm Spitz 1\, 2. Stock\n1210 Wien \n  \nAußerhalb der Sprechstunden stehen die Mitarbeiter:innen der Wiener Sozialdienste auch gerne telefonisch zur Verfügung:\nTel.: 01/981 21-1730 oder 01/981 21-1740 (Montag bis Freitag\, 9 – 16 Uhr).
URL:https://kalender.seniorinnen.wien/event/4933/2025-06-18/
LOCATION:Bezirksvorstehung Floridsdorf\, Am Spitz 1\, Wien\, 1210
CATEGORIES:Information
ATTACH;FMTTYPE=image/jpeg:https://kalender.seniorinnen.wien/wp-content/uploads/2024/01/signpost-235079_1920-e1707309248113.jpg
END:VEVENT
BEGIN:VEVENT
DTSTART;TZID=Europe/Berlin:20250604T133000
DTEND;TZID=Europe/Berlin:20250604T153000
DTSTAMP:20260421T044911
CREATED:20240125T095922Z
LAST-MODIFIED:20250116T083340Z
UID:7185-1749043800-1749051000@kalender.seniorinnen.wien
SUMMARY:Kontaktbesuchsdienst: Sprechstunde in der Bezirksvorstehung des 21. Bezirks
DESCRIPTION:Die Wiener Sozialdienste informieren alle in Wien lebenden Personen ab 60 Jahren kostenlos über die sozialen Dienstleistungen der Stadt.\n\n\nIn Sprechstunden im 21. Bezirk werden Ihnen passende Ansprechpartner:innen\, Telefonnummern und Adressen genannt rund um Themen wie Freizeitaktivitäten\, Unterstützung für pflegende Angehörige\, Wohnen\, Vorsorge und das digitale Angebot der Stadt. \n\nTermine:\nMi\, 15.01.2025\nMi\, 29.01.2025\nMi\, 12.02.2025\nMi\, 26.02.2025\nMi\, 12.03.2025 \nVeranstaltungsort:\nBezirksvorstehung des 21. Bezirks\nAm Spitz 1\, 2. Stock\n1210 Wien \n  \nAußerhalb der Sprechstunden stehen die Mitarbeiter:innen der Wiener Sozialdienste auch gerne telefonisch zur Verfügung:\nTel.: 01/981 21-1730 oder 01/981 21-1740 (Montag bis Freitag\, 9 – 16 Uhr).
URL:https://kalender.seniorinnen.wien/event/4933/2025-06-04/
LOCATION:Bezirksvorstehung Floridsdorf\, Am Spitz 1\, Wien\, 1210
CATEGORIES:Information
ATTACH;FMTTYPE=image/jpeg:https://kalender.seniorinnen.wien/wp-content/uploads/2024/01/signpost-235079_1920-e1707309248113.jpg
END:VEVENT
BEGIN:VEVENT
DTSTART;TZID=Europe/Berlin:20250521T133000
DTEND;TZID=Europe/Berlin:20250521T153000
DTSTAMP:20260421T044911
CREATED:20240125T095922Z
LAST-MODIFIED:20250116T083339Z
UID:7184-1747834200-1747841400@kalender.seniorinnen.wien
SUMMARY:Kontaktbesuchsdienst: Sprechstunde in der Bezirksvorstehung des 21. Bezirks
DESCRIPTION:Die Wiener Sozialdienste informieren alle in Wien lebenden Personen ab 60 Jahren kostenlos über die sozialen Dienstleistungen der Stadt.\n\n\nIn Sprechstunden im 21. Bezirk werden Ihnen passende Ansprechpartner:innen\, Telefonnummern und Adressen genannt rund um Themen wie Freizeitaktivitäten\, Unterstützung für pflegende Angehörige\, Wohnen\, Vorsorge und das digitale Angebot der Stadt. \n\nTermine:\nMi\, 15.01.2025\nMi\, 29.01.2025\nMi\, 12.02.2025\nMi\, 26.02.2025\nMi\, 12.03.2025 \nVeranstaltungsort:\nBezirksvorstehung des 21. Bezirks\nAm Spitz 1\, 2. Stock\n1210 Wien \n  \nAußerhalb der Sprechstunden stehen die Mitarbeiter:innen der Wiener Sozialdienste auch gerne telefonisch zur Verfügung:\nTel.: 01/981 21-1730 oder 01/981 21-1740 (Montag bis Freitag\, 9 – 16 Uhr).
URL:https://kalender.seniorinnen.wien/event/4933/2025-05-21/
LOCATION:Bezirksvorstehung Floridsdorf\, Am Spitz 1\, Wien\, 1210
CATEGORIES:Information
ATTACH;FMTTYPE=image/jpeg:https://kalender.seniorinnen.wien/wp-content/uploads/2024/01/signpost-235079_1920-e1707309248113.jpg
END:VEVENT
BEGIN:VEVENT
DTSTART;TZID=Europe/Berlin:20250507T133000
DTEND;TZID=Europe/Berlin:20250507T153000
DTSTAMP:20260421T044911
CREATED:20240125T095922Z
LAST-MODIFIED:20250116T083339Z
UID:7183-1746624600-1746631800@kalender.seniorinnen.wien
SUMMARY:Kontaktbesuchsdienst: Sprechstunde in der Bezirksvorstehung des 21. Bezirks
DESCRIPTION:Die Wiener Sozialdienste informieren alle in Wien lebenden Personen ab 60 Jahren kostenlos über die sozialen Dienstleistungen der Stadt.\n\n\nIn Sprechstunden im 21. Bezirk werden Ihnen passende Ansprechpartner:innen\, Telefonnummern und Adressen genannt rund um Themen wie Freizeitaktivitäten\, Unterstützung für pflegende Angehörige\, Wohnen\, Vorsorge und das digitale Angebot der Stadt. \n\nTermine:\nMi\, 15.01.2025\nMi\, 29.01.2025\nMi\, 12.02.2025\nMi\, 26.02.2025\nMi\, 12.03.2025 \nVeranstaltungsort:\nBezirksvorstehung des 21. Bezirks\nAm Spitz 1\, 2. Stock\n1210 Wien \n  \nAußerhalb der Sprechstunden stehen die Mitarbeiter:innen der Wiener Sozialdienste auch gerne telefonisch zur Verfügung:\nTel.: 01/981 21-1730 oder 01/981 21-1740 (Montag bis Freitag\, 9 – 16 Uhr).
URL:https://kalender.seniorinnen.wien/event/4933/2025-05-07/
LOCATION:Bezirksvorstehung Floridsdorf\, Am Spitz 1\, Wien\, 1210
CATEGORIES:Information
ATTACH;FMTTYPE=image/jpeg:https://kalender.seniorinnen.wien/wp-content/uploads/2024/01/signpost-235079_1920-e1707309248113.jpg
END:VEVENT
BEGIN:VEVENT
DTSTART;TZID=Europe/Berlin:20250423T133000
DTEND;TZID=Europe/Berlin:20250423T153000
DTSTAMP:20260421T044911
CREATED:20240125T095922Z
LAST-MODIFIED:20250116T083338Z
UID:7182-1745415000-1745422200@kalender.seniorinnen.wien
SUMMARY:Kontaktbesuchsdienst: Sprechstunde in der Bezirksvorstehung des 21. Bezirks
DESCRIPTION:Die Wiener Sozialdienste informieren alle in Wien lebenden Personen ab 60 Jahren kostenlos über die sozialen Dienstleistungen der Stadt.\n\n\nIn Sprechstunden im 21. Bezirk werden Ihnen passende Ansprechpartner:innen\, Telefonnummern und Adressen genannt rund um Themen wie Freizeitaktivitäten\, Unterstützung für pflegende Angehörige\, Wohnen\, Vorsorge und das digitale Angebot der Stadt. \n\nTermine:\nMi\, 15.01.2025\nMi\, 29.01.2025\nMi\, 12.02.2025\nMi\, 26.02.2025\nMi\, 12.03.2025 \nVeranstaltungsort:\nBezirksvorstehung des 21. Bezirks\nAm Spitz 1\, 2. Stock\n1210 Wien \n  \nAußerhalb der Sprechstunden stehen die Mitarbeiter:innen der Wiener Sozialdienste auch gerne telefonisch zur Verfügung:\nTel.: 01/981 21-1730 oder 01/981 21-1740 (Montag bis Freitag\, 9 – 16 Uhr).
URL:https://kalender.seniorinnen.wien/event/4933/2025-04-23/
LOCATION:Bezirksvorstehung Floridsdorf\, Am Spitz 1\, Wien\, 1210
CATEGORIES:Information
ATTACH;FMTTYPE=image/jpeg:https://kalender.seniorinnen.wien/wp-content/uploads/2024/01/signpost-235079_1920-e1707309248113.jpg
END:VEVENT
BEGIN:VEVENT
DTSTART;TZID=Europe/Berlin:20250409T133000
DTEND;TZID=Europe/Berlin:20250409T153000
DTSTAMP:20260421T044911
CREATED:20240125T095922Z
LAST-MODIFIED:20250116T083338Z
UID:7181-1744205400-1744212600@kalender.seniorinnen.wien
SUMMARY:Kontaktbesuchsdienst: Sprechstunde in der Bezirksvorstehung des 21. Bezirks
DESCRIPTION:Die Wiener Sozialdienste informieren alle in Wien lebenden Personen ab 60 Jahren kostenlos über die sozialen Dienstleistungen der Stadt.\n\n\nIn Sprechstunden im 21. Bezirk werden Ihnen passende Ansprechpartner:innen\, Telefonnummern und Adressen genannt rund um Themen wie Freizeitaktivitäten\, Unterstützung für pflegende Angehörige\, Wohnen\, Vorsorge und das digitale Angebot der Stadt. \n\nTermine:\nMi\, 15.01.2025\nMi\, 29.01.2025\nMi\, 12.02.2025\nMi\, 26.02.2025\nMi\, 12.03.2025 \nVeranstaltungsort:\nBezirksvorstehung des 21. Bezirks\nAm Spitz 1\, 2. Stock\n1210 Wien \n  \nAußerhalb der Sprechstunden stehen die Mitarbeiter:innen der Wiener Sozialdienste auch gerne telefonisch zur Verfügung:\nTel.: 01/981 21-1730 oder 01/981 21-1740 (Montag bis Freitag\, 9 – 16 Uhr).
URL:https://kalender.seniorinnen.wien/event/4933/2025-04-09/
LOCATION:Bezirksvorstehung Floridsdorf\, Am Spitz 1\, Wien\, 1210
CATEGORIES:Information
ATTACH;FMTTYPE=image/jpeg:https://kalender.seniorinnen.wien/wp-content/uploads/2024/01/signpost-235079_1920-e1707309248113.jpg
END:VEVENT
BEGIN:VEVENT
DTSTART;TZID=Europe/Berlin:20250326T133000
DTEND;TZID=Europe/Berlin:20250326T153000
DTSTAMP:20260421T044911
CREATED:20240125T095922Z
LAST-MODIFIED:20250116T083337Z
UID:7180-1742995800-1743003000@kalender.seniorinnen.wien
SUMMARY:Kontaktbesuchsdienst: Sprechstunde in der Bezirksvorstehung des 21. Bezirks
DESCRIPTION:Die Wiener Sozialdienste informieren alle in Wien lebenden Personen ab 60 Jahren kostenlos über die sozialen Dienstleistungen der Stadt.\n\n\nIn Sprechstunden im 21. Bezirk werden Ihnen passende Ansprechpartner:innen\, Telefonnummern und Adressen genannt rund um Themen wie Freizeitaktivitäten\, Unterstützung für pflegende Angehörige\, Wohnen\, Vorsorge und das digitale Angebot der Stadt. \n\nTermine:\nMi\, 15.01.2025\nMi\, 29.01.2025\nMi\, 12.02.2025\nMi\, 26.02.2025\nMi\, 12.03.2025 \nVeranstaltungsort:\nBezirksvorstehung des 21. Bezirks\nAm Spitz 1\, 2. Stock\n1210 Wien \n  \nAußerhalb der Sprechstunden stehen die Mitarbeiter:innen der Wiener Sozialdienste auch gerne telefonisch zur Verfügung:\nTel.: 01/981 21-1730 oder 01/981 21-1740 (Montag bis Freitag\, 9 – 16 Uhr).
URL:https://kalender.seniorinnen.wien/event/4933/2025-03-26/
LOCATION:Bezirksvorstehung Floridsdorf\, Am Spitz 1\, Wien\, 1210
CATEGORIES:Information
ATTACH;FMTTYPE=image/jpeg:https://kalender.seniorinnen.wien/wp-content/uploads/2024/01/signpost-235079_1920-e1707309248113.jpg
END:VEVENT
BEGIN:VEVENT
DTSTART;TZID=Europe/Berlin:20250312T133000
DTEND;TZID=Europe/Berlin:20250312T153000
DTSTAMP:20260421T044911
CREATED:20240125T095922Z
LAST-MODIFIED:20250116T083336Z
UID:6868-1741786200-1741793400@kalender.seniorinnen.wien
SUMMARY:Kontaktbesuchsdienst: Sprechstunde in der Bezirksvorstehung des 21. Bezirks
DESCRIPTION:Die Wiener Sozialdienste informieren alle in Wien lebenden Personen ab 60 Jahren kostenlos über die sozialen Dienstleistungen der Stadt.\n\n\nIn Sprechstunden im 21. Bezirk werden Ihnen passende Ansprechpartner:innen\, Telefonnummern und Adressen genannt rund um Themen wie Freizeitaktivitäten\, Unterstützung für pflegende Angehörige\, Wohnen\, Vorsorge und das digitale Angebot der Stadt. \n\nTermine:\nMi\, 15.01.2025\nMi\, 29.01.2025\nMi\, 12.02.2025\nMi\, 26.02.2025\nMi\, 12.03.2025 \nVeranstaltungsort:\nBezirksvorstehung des 21. Bezirks\nAm Spitz 1\, 2. Stock\n1210 Wien \n  \nAußerhalb der Sprechstunden stehen die Mitarbeiter:innen der Wiener Sozialdienste auch gerne telefonisch zur Verfügung:\nTel.: 01/981 21-1730 oder 01/981 21-1740 (Montag bis Freitag\, 9 – 16 Uhr).
URL:https://kalender.seniorinnen.wien/event/4933/2025-03-12/
LOCATION:Bezirksvorstehung Floridsdorf\, Am Spitz 1\, Wien\, 1210
CATEGORIES:Information
ATTACH;FMTTYPE=image/jpeg:https://kalender.seniorinnen.wien/wp-content/uploads/2024/01/signpost-235079_1920-e1707309248113.jpg
END:VEVENT
BEGIN:VEVENT
DTSTART;TZID=Europe/Berlin:20250226T133000
DTEND;TZID=Europe/Berlin:20250226T153000
DTSTAMP:20260421T044911
CREATED:20240125T095922Z
LAST-MODIFIED:20250116T083336Z
UID:6867-1740576600-1740583800@kalender.seniorinnen.wien
SUMMARY:Kontaktbesuchsdienst: Sprechstunde in der Bezirksvorstehung des 21. Bezirks
DESCRIPTION:Die Wiener Sozialdienste informieren alle in Wien lebenden Personen ab 60 Jahren kostenlos über die sozialen Dienstleistungen der Stadt.\n\n\nIn Sprechstunden im 21. Bezirk werden Ihnen passende Ansprechpartner:innen\, Telefonnummern und Adressen genannt rund um Themen wie Freizeitaktivitäten\, Unterstützung für pflegende Angehörige\, Wohnen\, Vorsorge und das digitale Angebot der Stadt. \n\nTermine:\nMi\, 15.01.2025\nMi\, 29.01.2025\nMi\, 12.02.2025\nMi\, 26.02.2025\nMi\, 12.03.2025 \nVeranstaltungsort:\nBezirksvorstehung des 21. Bezirks\nAm Spitz 1\, 2. Stock\n1210 Wien \n  \nAußerhalb der Sprechstunden stehen die Mitarbeiter:innen der Wiener Sozialdienste auch gerne telefonisch zur Verfügung:\nTel.: 01/981 21-1730 oder 01/981 21-1740 (Montag bis Freitag\, 9 – 16 Uhr).
URL:https://kalender.seniorinnen.wien/event/4933/2025-02-26/
LOCATION:Bezirksvorstehung Floridsdorf\, Am Spitz 1\, Wien\, 1210
CATEGORIES:Information
ATTACH;FMTTYPE=image/jpeg:https://kalender.seniorinnen.wien/wp-content/uploads/2024/01/signpost-235079_1920-e1707309248113.jpg
END:VEVENT
BEGIN:VEVENT
DTSTART;TZID=Europe/Berlin:20250212T133000
DTEND;TZID=Europe/Berlin:20250212T153000
DTSTAMP:20260421T044911
CREATED:20240125T095922Z
LAST-MODIFIED:20250116T083335Z
UID:6853-1739367000-1739374200@kalender.seniorinnen.wien
SUMMARY:Kontaktbesuchsdienst: Sprechstunde in der Bezirksvorstehung des 21. Bezirks
DESCRIPTION:Die Wiener Sozialdienste informieren alle in Wien lebenden Personen ab 60 Jahren kostenlos über die sozialen Dienstleistungen der Stadt.\n\n\nIn Sprechstunden im 21. Bezirk werden Ihnen passende Ansprechpartner:innen\, Telefonnummern und Adressen genannt rund um Themen wie Freizeitaktivitäten\, Unterstützung für pflegende Angehörige\, Wohnen\, Vorsorge und das digitale Angebot der Stadt. \n\nTermine:\nMi\, 15.01.2025\nMi\, 29.01.2025\nMi\, 12.02.2025\nMi\, 26.02.2025\nMi\, 12.03.2025 \nVeranstaltungsort:\nBezirksvorstehung des 21. Bezirks\nAm Spitz 1\, 2. Stock\n1210 Wien \n  \nAußerhalb der Sprechstunden stehen die Mitarbeiter:innen der Wiener Sozialdienste auch gerne telefonisch zur Verfügung:\nTel.: 01/981 21-1730 oder 01/981 21-1740 (Montag bis Freitag\, 9 – 16 Uhr).
URL:https://kalender.seniorinnen.wien/event/4933/2025-02-12/
LOCATION:Bezirksvorstehung Floridsdorf\, Am Spitz 1\, Wien\, 1210
CATEGORIES:Information
ATTACH;FMTTYPE=image/jpeg:https://kalender.seniorinnen.wien/wp-content/uploads/2024/01/signpost-235079_1920-e1707309248113.jpg
END:VEVENT
BEGIN:VEVENT
DTSTART;TZID=Europe/Berlin:20250129T133000
DTEND;TZID=Europe/Berlin:20250129T153000
DTSTAMP:20260421T044911
CREATED:20240125T095922Z
LAST-MODIFIED:20250116T083334Z
UID:6852-1738157400-1738164600@kalender.seniorinnen.wien
SUMMARY:Kontaktbesuchsdienst: Sprechstunde in der Bezirksvorstehung des 21. Bezirks
DESCRIPTION:Die Wiener Sozialdienste informieren alle in Wien lebenden Personen ab 60 Jahren kostenlos über die sozialen Dienstleistungen der Stadt.\n\n\nIn Sprechstunden im 21. Bezirk werden Ihnen passende Ansprechpartner:innen\, Telefonnummern und Adressen genannt rund um Themen wie Freizeitaktivitäten\, Unterstützung für pflegende Angehörige\, Wohnen\, Vorsorge und das digitale Angebot der Stadt. \n\nTermine:\nMi\, 15.01.2025\nMi\, 29.01.2025\nMi\, 12.02.2025\nMi\, 26.02.2025\nMi\, 12.03.2025 \nVeranstaltungsort:\nBezirksvorstehung des 21. Bezirks\nAm Spitz 1\, 2. Stock\n1210 Wien \n  \nAußerhalb der Sprechstunden stehen die Mitarbeiter:innen der Wiener Sozialdienste auch gerne telefonisch zur Verfügung:\nTel.: 01/981 21-1730 oder 01/981 21-1740 (Montag bis Freitag\, 9 – 16 Uhr).
URL:https://kalender.seniorinnen.wien/event/4933/2025-01-29/
LOCATION:Bezirksvorstehung Floridsdorf\, Am Spitz 1\, Wien\, 1210
CATEGORIES:Information
ATTACH;FMTTYPE=image/jpeg:https://kalender.seniorinnen.wien/wp-content/uploads/2024/01/signpost-235079_1920-e1707309248113.jpg
END:VEVENT
BEGIN:VEVENT
DTSTART;TZID=Europe/Berlin:20250115T133000
DTEND;TZID=Europe/Berlin:20250115T153000
DTSTAMP:20260421T044911
CREATED:20240125T095922Z
LAST-MODIFIED:20250116T083334Z
UID:4933-1736947800-1736955000@kalender.seniorinnen.wien
SUMMARY:Kontaktbesuchsdienst: Sprechstunde in der Bezirksvorstehung des 21. Bezirks
DESCRIPTION:Die Wiener Sozialdienste informieren alle in Wien lebenden Personen ab 60 Jahren kostenlos über die sozialen Dienstleistungen der Stadt.\n\n\nIn Sprechstunden im 21. Bezirk werden Ihnen passende Ansprechpartner:innen\, Telefonnummern und Adressen genannt rund um Themen wie Freizeitaktivitäten\, Unterstützung für pflegende Angehörige\, Wohnen\, Vorsorge und das digitale Angebot der Stadt. \n\nTermine:\nMi\, 15.01.2025\nMi\, 29.01.2025\nMi\, 12.02.2025\nMi\, 26.02.2025\nMi\, 12.03.2025 \nVeranstaltungsort:\nBezirksvorstehung des 21. Bezirks\nAm Spitz 1\, 2. Stock\n1210 Wien \n  \nAußerhalb der Sprechstunden stehen die Mitarbeiter:innen der Wiener Sozialdienste auch gerne telefonisch zur Verfügung:\nTel.: 01/981 21-1730 oder 01/981 21-1740 (Montag bis Freitag\, 9 – 16 Uhr).
URL:https://kalender.seniorinnen.wien/event/4933/2025-01-15/
LOCATION:Bezirksvorstehung Floridsdorf\, Am Spitz 1\, Wien\, 1210
CATEGORIES:Information
ATTACH;FMTTYPE=image/jpeg:https://kalender.seniorinnen.wien/wp-content/uploads/2024/01/signpost-235079_1920-e1707309248113.jpg
END:VEVENT
END:VCALENDAR