BEGIN:VCALENDAR
VERSION:2.0
PRODID:-//Wien für Senior:innen - ECPv6.15.17.1//NONSGML v1.0//EN
CALSCALE:GREGORIAN
METHOD:PUBLISH
X-WR-CALNAME:Wien für Senior:innen
X-ORIGINAL-URL:https://kalender.seniorinnen.wien
X-WR-CALDESC:Veranstaltungen für Wien für Senior:innen
REFRESH-INTERVAL;VALUE=DURATION:PT1H
X-Robots-Tag:noindex
X-PUBLISHED-TTL:PT1H
BEGIN:VTIMEZONE
TZID:Europe/Berlin
BEGIN:DAYLIGHT
TZOFFSETFROM:+0100
TZOFFSETTO:+0200
TZNAME:CEST
DTSTART:20210328T010000
END:DAYLIGHT
BEGIN:STANDARD
TZOFFSETFROM:+0200
TZOFFSETTO:+0100
TZNAME:CET
DTSTART:20211031T010000
END:STANDARD
BEGIN:DAYLIGHT
TZOFFSETFROM:+0100
TZOFFSETTO:+0200
TZNAME:CEST
DTSTART:20220327T010000
END:DAYLIGHT
BEGIN:STANDARD
TZOFFSETFROM:+0200
TZOFFSETTO:+0100
TZNAME:CET
DTSTART:20221030T010000
END:STANDARD
BEGIN:DAYLIGHT
TZOFFSETFROM:+0100
TZOFFSETTO:+0200
TZNAME:CEST
DTSTART:20230326T010000
END:DAYLIGHT
BEGIN:STANDARD
TZOFFSETFROM:+0200
TZOFFSETTO:+0100
TZNAME:CET
DTSTART:20231029T010000
END:STANDARD
END:VTIMEZONE
BEGIN:VEVENT
DTSTART;TZID=Europe/Berlin:20221019T140000
DTEND;TZID=Europe/Berlin:20221019T160000
DTSTAMP:20260423T105927
CREATED:20220829T111039Z
LAST-MODIFIED:20220829T112846Z
UID:3073-1666188000-1666195200@kalender.seniorinnen.wien
SUMMARY:Monat der Senior:innen: Menschenrechtsspaziergang durch Alsergrund
DESCRIPTION:Wussten Sie\, dass sich der 9. Bezirk 2021 als offizieller Menschenrechtsbezirk deklariert hat? Aber was bedeutet das überhaupt? Wo im Grätzel kommt man mit Menschenrechten in Berührung? Und was ist dem Bezirk dabei wichtig? Lernen Sie bei einem Spaziergang mit Bezirksvorsteherin Saya Ahmad und der Wiener Menschenrechtsbeauftragten Shams Asadi den Menschenrechtsbezirk Alsergrund kennen. \nDie Teilnehmer:innenanzahl ist beschränkt. Melden Sie sich bitte unter 01/4000 09110 oder post@bv09.wien.gv.at an. Der Treffpunkt ist vor der Bezirksvorstehung Alsergrund. \nSollten Sie trotz Anmeldung nicht an der Veranstaltung teilnehmen können\, sagen Sie bitte ab. So haben weitere Interessierte die Möglichkeit Ihren Platz einzunehmen. \nBitte beachten Sie: Aufgrund COVID-19 sind kurzfristige Änderungen oder auch Absagen möglich. Das Team der Senior:innenbeauftragten und die Veranstalter:innen bitten um Verständnis. \n(c) Kurt Prinz/Bernadette Reiter
URL:https://kalender.seniorinnen.wien/event/monat-der-seniorinnen-menschenrechtsspaziergang-durch-alsergrund/
LOCATION:Bezirksvorstehung Alsergrund\, Währinger Straße 43\, Wien\, Wien\, 1090
CATEGORIES:Grätzel,Monat der Senior:innen
END:VEVENT
END:VCALENDAR