BEGIN:VCALENDAR
VERSION:2.0
PRODID:-//Wien für Senior:innen - ECPv6.15.17.1//NONSGML v1.0//EN
CALSCALE:GREGORIAN
METHOD:PUBLISH
X-WR-CALNAME:Wien für Senior:innen
X-ORIGINAL-URL:https://kalender.seniorinnen.wien
X-WR-CALDESC:Veranstaltungen für Wien für Senior:innen
REFRESH-INTERVAL;VALUE=DURATION:PT1H
X-Robots-Tag:noindex
X-PUBLISHED-TTL:PT1H
BEGIN:VTIMEZONE
TZID:Europe/Berlin
BEGIN:DAYLIGHT
TZOFFSETFROM:+0100
TZOFFSETTO:+0200
TZNAME:CEST
DTSTART:20230326T010000
END:DAYLIGHT
BEGIN:STANDARD
TZOFFSETFROM:+0200
TZOFFSETTO:+0100
TZNAME:CET
DTSTART:20231029T010000
END:STANDARD
BEGIN:DAYLIGHT
TZOFFSETFROM:+0100
TZOFFSETTO:+0200
TZNAME:CEST
DTSTART:20240331T010000
END:DAYLIGHT
BEGIN:STANDARD
TZOFFSETFROM:+0200
TZOFFSETTO:+0100
TZNAME:CET
DTSTART:20241027T010000
END:STANDARD
BEGIN:DAYLIGHT
TZOFFSETFROM:+0100
TZOFFSETTO:+0200
TZNAME:CEST
DTSTART:20250330T010000
END:DAYLIGHT
BEGIN:STANDARD
TZOFFSETFROM:+0200
TZOFFSETTO:+0100
TZNAME:CET
DTSTART:20251026T010000
END:STANDARD
END:VTIMEZONE
BEGIN:VEVENT
DTSTART;TZID=Europe/Berlin:20240515T180000
DTEND;TZID=Europe/Berlin:20240515T193000
DTSTAMP:20260420T212441
CREATED:20240425T082607Z
LAST-MODIFIED:20240425T082607Z
UID:5681-1715796000-1715801400@kalender.seniorinnen.wien
SUMMARY:Ausstellungseräffnung "Mein Rat fürs Leben"
DESCRIPTION:Am 15. Mai 2024  findet um 18 Uhr die Eröffnung des Ausstellungsteils MEIN RAT FÜRS LEBEN im Bezirksmuseum Simmering statt. Es handelt sich um ein Gemeinschaftsprojekt mit der Pflege Simmering\, der Stabstelle Bezirksmuseen & Community Gallery / Wien Museum und umfasst eine Präsentation von Fotoporträts\, Architekturdetails und Umgang mit Ratschlägen. \n  \n\n\n\n\n\n\n  \n  \n 
URL:https://kalender.seniorinnen.wien/event/ausstellungseraeffnung-mein-rat-fuers-leben/
LOCATION:Bezirksmuseum Simmering\, Enkplatz 2\, Wien\, 1110
CATEGORIES:Bildung,Kunst und Kultur
ATTACH;FMTTYPE=image/jpeg:https://kalender.seniorinnen.wien/wp-content/uploads/2024/04/bezirksmuseum11_005-1536x1024-1-e1714033559688.jpg
END:VEVENT
END:VCALENDAR