BEGIN:VCALENDAR
VERSION:2.0
PRODID:-//Wien für Senior:innen - ECPv6.15.17.1//NONSGML v1.0//EN
CALSCALE:GREGORIAN
METHOD:PUBLISH
X-WR-CALNAME:Wien für Senior:innen
X-ORIGINAL-URL:https://kalender.seniorinnen.wien
X-WR-CALDESC:Veranstaltungen für Wien für Senior:innen
REFRESH-INTERVAL;VALUE=DURATION:PT1H
X-Robots-Tag:noindex
X-PUBLISHED-TTL:PT1H
BEGIN:VTIMEZONE
TZID:Europe/Berlin
BEGIN:DAYLIGHT
TZOFFSETFROM:+0100
TZOFFSETTO:+0200
TZNAME:CEST
DTSTART:20220327T010000
END:DAYLIGHT
BEGIN:STANDARD
TZOFFSETFROM:+0200
TZOFFSETTO:+0100
TZNAME:CET
DTSTART:20221030T010000
END:STANDARD
BEGIN:DAYLIGHT
TZOFFSETFROM:+0100
TZOFFSETTO:+0200
TZNAME:CEST
DTSTART:20230326T010000
END:DAYLIGHT
BEGIN:STANDARD
TZOFFSETFROM:+0200
TZOFFSETTO:+0100
TZNAME:CET
DTSTART:20231029T010000
END:STANDARD
BEGIN:DAYLIGHT
TZOFFSETFROM:+0100
TZOFFSETTO:+0200
TZNAME:CEST
DTSTART:20240331T010000
END:DAYLIGHT
BEGIN:STANDARD
TZOFFSETFROM:+0200
TZOFFSETTO:+0100
TZNAME:CET
DTSTART:20241027T010000
END:STANDARD
END:VTIMEZONE
BEGIN:VEVENT
DTSTART;TZID=Europe/Berlin:20231006T153000
DTEND;TZID=Europe/Berlin:20231006T170000
DTSTAMP:20260420T160139
CREATED:20230810T091925Z
LAST-MODIFIED:20230811T142324Z
UID:3658-1696606200-1696611600@kalender.seniorinnen.wien
SUMMARY:Monat der Senior:innen: Sonderausstellung-Bildung in Rudolfsheim-Fünfhaus einst und jetzt
DESCRIPTION:Lernen Sie das Bezirksmuseum im 15. Bezirk kennen! Besuchen Sie die Ausstellung über Bildungseinrichtungen von den Anfängen mit den Trivialschulen über Bürgerschulen bis Volkshochschulen und Museen im 15. Bezirk. \nBitte melden Sie sich ab 1.9. bis 5.10.2023 an unter +43 664/249 54 17 oder unter office@bm15.at \nSollten Sie nicht an der Veranstaltung teilnehmen können\, sagen Sie bitte ab. So haben Interessierte die Möglichkeit\, Ihren Platz einzunehmen. \nAuf vielen Veranstaltungen wird fotografiert und/oder gefilmt. Mit der Teilnahme an einer Veranstaltung stimmen Sie einer möglichen Veröffentlichung auf Websites\, Social Media-Kanälen\, Print- und Onlinemedien und dergleichen zu. \n(c) Bezirksmuseum
URL:https://kalender.seniorinnen.wien/event/sonderausstellung-bildung-in-rudolfsheim-fuenfhaus-einst-und-jetzt/
LOCATION:Bezirksmuseum 1150\, Rosinagasse 4\, Wien\, Wien\, 1150
CATEGORIES:Monat der Senior:innen
ATTACH;FMTTYPE=image/jpeg:https://kalender.seniorinnen.wien/wp-content/uploads/2023/08/Bezirksmuseum-1150.jpg
END:VEVENT
END:VCALENDAR