BEGIN:VCALENDAR
VERSION:2.0
PRODID:-//Wien für Senior:innen - ECPv6.15.17.1//NONSGML v1.0//EN
CALSCALE:GREGORIAN
METHOD:PUBLISH
X-ORIGINAL-URL:https://kalender.seniorinnen.wien
X-WR-CALDESC:Veranstaltungen für Wien für Senior:innen
REFRESH-INTERVAL;VALUE=DURATION:PT1H
X-Robots-Tag:noindex
X-PUBLISHED-TTL:PT1H
BEGIN:VTIMEZONE
TZID:Europe/Berlin
BEGIN:DAYLIGHT
TZOFFSETFROM:+0100
TZOFFSETTO:+0200
TZNAME:CEST
DTSTART:20230326T010000
END:DAYLIGHT
BEGIN:STANDARD
TZOFFSETFROM:+0200
TZOFFSETTO:+0100
TZNAME:CET
DTSTART:20231029T010000
END:STANDARD
BEGIN:DAYLIGHT
TZOFFSETFROM:+0100
TZOFFSETTO:+0200
TZNAME:CEST
DTSTART:20240331T010000
END:DAYLIGHT
BEGIN:STANDARD
TZOFFSETFROM:+0200
TZOFFSETTO:+0100
TZNAME:CET
DTSTART:20241027T010000
END:STANDARD
BEGIN:DAYLIGHT
TZOFFSETFROM:+0100
TZOFFSETTO:+0200
TZNAME:CEST
DTSTART:20250330T010000
END:DAYLIGHT
BEGIN:STANDARD
TZOFFSETFROM:+0200
TZOFFSETTO:+0100
TZNAME:CET
DTSTART:20251026T010000
END:STANDARD
END:VTIMEZONE
BEGIN:VEVENT
DTSTART;TZID=Europe/Berlin:20241003T150000
DTEND;TZID=Europe/Berlin:20241003T170000
DTSTAMP:20260420T220703
CREATED:20240822T114735Z
LAST-MODIFIED:20240822T114735Z
UID:5992-1727967600-1727974800@kalender.seniorinnen.wien
SUMMARY:Grätzelspaziergänge „Gesundheit erleben – einfach mitmachen“
DESCRIPTION:Welche Bewegungsangebote gibt es in meinem Umfeld? Wo kann ich eine neue Sportart ausprobieren? Wie kann ich gemeinsam mit anderen aktiv werden und neue Leute kennenlernen? Bei den kostenlosen Grätzelspaziergängen der Wiener Gesundheitsförderung – WiG geht man diesen Fragen auf den Grund und lernt die Bewegungslandschaft des Bezirks kennen. Ohne Anmeldung vorbeikommen und mitmarschieren! \n  \n3.10.2024\, 15 bis 17 Uhr \nTreffpunkt: Vor dem Bezirksamt Floridsdorf \n1210 Wien\, Am Spitz 1 \n  \n10.10.2024\, 15 bis 17 Uhr \nTreffpunkt: Bei der Station „Oberfeldgasse/Spargelfeldstraße“ \n1220 Wien\, Straßenbahn-Linie 26 \n  \nWeitere Informationen zu kostenlosen Bewegungsangeboten der WiG: http://www.wig.or.at/termine/gesundheit-erleben-einfach-mit- machen-bewegung \nFoto: iStock FatCamera
URL:https://kalender.seniorinnen.wien/event/graetzelspaziergaenge-gesundheit-erleben-einfach-mitmachen/
LOCATION:Bezirksamt Floridsdorf\, Am Spitz 1\, Wien\, Wien\, 1210\, Österreich
CATEGORIES:Fit und Gesund,Monat der Senior:innen
ATTACH;FMTTYPE=image/jpeg:https://kalender.seniorinnen.wien/wp-content/uploads/2024/08/iStock-FatCamera-538196074-e1724158224458.jpg
END:VEVENT
END:VCALENDAR