BEGIN:VCALENDAR
VERSION:2.0
PRODID:-//Wien für Senior:innen - ECPv6.15.17.1//NONSGML v1.0//EN
CALSCALE:GREGORIAN
METHOD:PUBLISH
X-ORIGINAL-URL:https://kalender.seniorinnen.wien
X-WR-CALDESC:Veranstaltungen für Wien für Senior:innen
REFRESH-INTERVAL;VALUE=DURATION:PT1H
X-Robots-Tag:noindex
X-PUBLISHED-TTL:PT1H
BEGIN:VTIMEZONE
TZID:Europe/Berlin
BEGIN:DAYLIGHT
TZOFFSETFROM:+0100
TZOFFSETTO:+0200
TZNAME:CEST
DTSTART:20210328T010000
END:DAYLIGHT
BEGIN:STANDARD
TZOFFSETFROM:+0200
TZOFFSETTO:+0100
TZNAME:CET
DTSTART:20211031T010000
END:STANDARD
BEGIN:DAYLIGHT
TZOFFSETFROM:+0100
TZOFFSETTO:+0200
TZNAME:CEST
DTSTART:20220327T010000
END:DAYLIGHT
BEGIN:STANDARD
TZOFFSETFROM:+0200
TZOFFSETTO:+0100
TZNAME:CET
DTSTART:20221030T010000
END:STANDARD
BEGIN:DAYLIGHT
TZOFFSETFROM:+0100
TZOFFSETTO:+0200
TZNAME:CEST
DTSTART:20230326T010000
END:DAYLIGHT
BEGIN:STANDARD
TZOFFSETFROM:+0200
TZOFFSETTO:+0100
TZNAME:CET
DTSTART:20231029T010000
END:STANDARD
END:VTIMEZONE
BEGIN:VEVENT
DTSTART;TZID=Europe/Berlin:20220916T120000
DTEND;TZID=Europe/Berlin:20220916T180000
DTSTAMP:20260420T204323
CREATED:20220914T124644Z
LAST-MODIFIED:20220914T124644Z
UID:3130-1663329600-1663351200@kalender.seniorinnen.wien
SUMMARY:Senior:innentag in Wieden
DESCRIPTION:Beim Senior:innentag in Wieden gibt es viele Aktivtäten und Wissenswertes zu… \n\nBetreuungsangebote\nUrlaub und Tagesausflüge\nSport und Spiel\nSicherheit\nBildung\nund vieles mehr!\n\nFür das leibliche Wohl ist gesorgt. Auf Ihr Kommen freuen sich Bezirksvorsteherin Lea Halbwidl und\nBezirksvorsteherinstellvertreterin und Senior:innenbeauftragte Karin Eichler. \nErsatztermin bei Schlechtwetter ist der 23. September 2022 \nGettyImages©Angelina-Cecchetto
URL:https://kalender.seniorinnen.wien/event/seniorinnentag-in-wieden/
LOCATION:Alois-Drasche-Park\, Alois-Drasche-Park\, Wien\, 1040
CATEGORIES:Grätzel
ATTACH;FMTTYPE=image/jpeg:https://kalender.seniorinnen.wien/wp-content/uploads/2022/07/GettyImages©Angelina-Cecchetto-998493296-scaled.jpg
END:VEVENT
END:VCALENDAR