BEGIN:VCALENDAR
VERSION:2.0
PRODID:-//Wien für Senior:innen - ECPv6.15.17.1//NONSGML v1.0//EN
CALSCALE:GREGORIAN
METHOD:PUBLISH
X-ORIGINAL-URL:https://kalender.seniorinnen.wien
X-WR-CALDESC:Veranstaltungen für Wien für Senior:innen
REFRESH-INTERVAL;VALUE=DURATION:PT1H
X-Robots-Tag:noindex
X-PUBLISHED-TTL:PT1H
BEGIN:VTIMEZONE
TZID:Europe/Berlin
BEGIN:DAYLIGHT
TZOFFSETFROM:+0100
TZOFFSETTO:+0200
TZNAME:CEST
DTSTART:20240331T010000
END:DAYLIGHT
BEGIN:STANDARD
TZOFFSETFROM:+0200
TZOFFSETTO:+0100
TZNAME:CET
DTSTART:20241027T010000
END:STANDARD
BEGIN:DAYLIGHT
TZOFFSETFROM:+0100
TZOFFSETTO:+0200
TZNAME:CEST
DTSTART:20250330T010000
END:DAYLIGHT
BEGIN:STANDARD
TZOFFSETFROM:+0200
TZOFFSETTO:+0100
TZNAME:CET
DTSTART:20251026T010000
END:STANDARD
BEGIN:DAYLIGHT
TZOFFSETFROM:+0100
TZOFFSETTO:+0200
TZNAME:CEST
DTSTART:20260329T010000
END:DAYLIGHT
BEGIN:STANDARD
TZOFFSETFROM:+0200
TZOFFSETTO:+0100
TZNAME:CET
DTSTART:20261025T010000
END:STANDARD
END:VTIMEZONE
BEGIN:VEVENT
DTSTART;TZID=Europe/Berlin:20251029T160000
DTEND;TZID=Europe/Berlin:20251029T173000
DTSTAMP:20260420T213128
CREATED:20250904T132953Z
LAST-MODIFIED:20250904T133115Z
UID:9867-1761753600-1761759000@kalender.seniorinnen.wien
SUMMARY:GEMEINSAMER SPAZIERGANG in den Blumengärten Hirschstetten
DESCRIPTION:Lust auf neue Kontakte?\nEinfach mal rauskommen\, neue Leute kennenlernen und plaudern – bei unserem gemeinsamen Spaziergang ist alles möglich! Das Projekt „Plattform gegen Einsamkeit in Österreich“ lädt zu einem weiteren GEMEINSAMEN SPAZIERGANG in Wien ein. Interessierte können sich in entspannter Atmosphäre über Alltagsthemen unterhalten\, Erfahrungen und Geschichten teilen\, gemeinsame Interessen entdecken und Kontakte knüpfen. \nmax. 30 Teilnehmer:innen \nAnmeldung bis 28.10. \nTel.: 0676 41 823 35\nE-Mail: hallo@socialcity.at \nTreffpunkt: 26er Straßenbahnstation “Oberfeldgasse\, Spargelfeldstraße” \nFoto:  Kit auf Pixabay
URL:https://kalender.seniorinnen.wien/event/gemeinsamer-spaziergang-in-den-blumengaerten-hirschstetten/
LOCATION:26er Straßenbahnstation “Oberfeldgasse\, Spargelfeldstraße”\, Oberfeldgasse\, Wien\, Wien\, 1220\, Austria
CATEGORIES:Monat der Senior:innen
ATTACH;FMTTYPE=image/jpeg:https://kalender.seniorinnen.wien/wp-content/uploads/2025/09/flower-gardens-hirschstetten-353036_1920-e1756992660945.jpg
ORGANIZER;CN="Social City Wien Plattform gegen Einsamkeit":MAILTO:hallo@socialcity.at
END:VEVENT
END:VCALENDAR