BEGIN:VCALENDAR
VERSION:2.0
PRODID:-//Wien für Senior:innen - ECPv6.15.17.1//NONSGML v1.0//EN
CALSCALE:GREGORIAN
METHOD:PUBLISH
X-ORIGINAL-URL:https://kalender.seniorinnen.wien
X-WR-CALDESC:Veranstaltungen für Wien für Senior:innen
REFRESH-INTERVAL;VALUE=DURATION:PT1H
X-Robots-Tag:noindex
X-PUBLISHED-TTL:PT1H
BEGIN:VTIMEZONE
TZID:Europe/Berlin
BEGIN:DAYLIGHT
TZOFFSETFROM:+0100
TZOFFSETTO:+0200
TZNAME:CEST
DTSTART:20210328T010000
END:DAYLIGHT
BEGIN:STANDARD
TZOFFSETFROM:+0200
TZOFFSETTO:+0100
TZNAME:CET
DTSTART:20211031T010000
END:STANDARD
BEGIN:DAYLIGHT
TZOFFSETFROM:+0100
TZOFFSETTO:+0200
TZNAME:CEST
DTSTART:20220327T010000
END:DAYLIGHT
BEGIN:STANDARD
TZOFFSETFROM:+0200
TZOFFSETTO:+0100
TZNAME:CET
DTSTART:20221030T010000
END:STANDARD
BEGIN:DAYLIGHT
TZOFFSETFROM:+0100
TZOFFSETTO:+0200
TZNAME:CEST
DTSTART:20230326T010000
END:DAYLIGHT
BEGIN:STANDARD
TZOFFSETFROM:+0200
TZOFFSETTO:+0100
TZNAME:CET
DTSTART:20231029T010000
END:STANDARD
END:VTIMEZONE
BEGIN:VEVENT
DTSTART;TZID=Europe/Berlin:20221014T140000
DTEND;TZID=Europe/Berlin:20221014T180000
DTSTAMP:20260420T204332
CREATED:20220726T074642Z
LAST-MODIFIED:20220822T084355Z
UID:2921-1665756000-1665770400@kalender.seniorinnen.wien
SUMMARY:Monat der Senior:innen: Entdecken Sie Ihr Musik-Talent
DESCRIPTION:Es ist nie zu spät\, ein Musikinstrument zu erlernen. Abseits vom Perfektionsgedanken wollen wir gemeinsam entdecken\, dass es auch ohne Vorkenntnisse möglich ist\, ein Instrument zu spielen – und dabei viel Spaß zu haben. Denn Musik hat einen unmittelbaren Einfluss auf uns Menschen\, sie berührt\, verbindet\, spricht zu uns\, wenn die Worte fehlen. Vorkenntnisse sind nicht erforderlich. Die Instrumente sind vorhanden. \nAb 14:00 Uhr: \nWorkshops im Einzel-/2er-Gruppenunterricht für Gitarre\, Keyboard: \nDie einzelnen Einheiten dauern jeweils 30 Minuten. Es werden im Zuge der Anmeldung fixe Termine vergeben. Teilnehmer:innen haben die Möglichkeit\, sich für mehrere Instrumente eintragen zu lassen. Geben Sie die gewünschten Instrumente bitte bei der Anmeldung an (dieses Jahr im Angebot: Gitarre und Keyboard \nAb 14:00 Uhr: \nAustausch und Gespräche bei einem Getränke-Empfang mit kleinem Buffet im Musikschulfoyer im 1. Stock. \nMelden Sie sich bis 11.10.2022 telefonisch über 01/ 60 26 411 oder pe E-Mail an yms.wien@yamaha.de für die Veranstaltung an. \nSollten Sie trotz Anmeldung nicht an der Veranstaltung teilnehmen können\, sagen Sie bitte ab. So haben weitere Interessierte die Möglichkeit Ihren Platz einzunehmen. \nBitte beachten Sie: Aufgrund COVID-19 sind kurzfristige Änderungen oder auch Absagen möglich. Das Team der Senior:innenbeauftragten und die Veranstalter:innen bitten um Verständnis. \n(c) Yamaha Music School
URL:https://kalender.seniorinnen.wien/event/monat-der-seniorinnen-entdecken-sie-ihr-musik-talent-3/
LOCATION:Yamaha Music School Wien\, Schleiergasse 20\, Wien\, 1100
CATEGORIES:Monat der Senior:innen
ATTACH;FMTTYPE=image/jpeg:https://kalender.seniorinnen.wien/wp-content/uploads/2019/08/MdS-2019-Yamaha-Music-School-Senior-Guitar-Lady.jpg
ORGANIZER;CN="Yamaha Music School Wien":MAILTO:yms.wien@yamaha.de
END:VEVENT
END:VCALENDAR